BEGIN:VCALENDAR
VERSION:2.0
PRODID:-//KlassikAuto.pl - ECPv6.7.0//NONSGML v1.0//EN
CALSCALE:GREGORIAN
METHOD:PUBLISH
X-WR-CALNAME:KlassikAuto.pl
X-ORIGINAL-URL:https://klassikauto.pl
X-WR-CALDESC:Wydarzenia dla KlassikAuto.pl
REFRESH-INTERVAL;VALUE=DURATION:PT1H
X-Robots-Tag:noindex
X-PUBLISHED-TTL:PT1H
BEGIN:VTIMEZONE
TZID:Europe/Helsinki
BEGIN:DAYLIGHT
TZOFFSETFROM:+0200
TZOFFSETTO:+0300
TZNAME:EEST
DTSTART:20250330T010000
END:DAYLIGHT
BEGIN:STANDARD
TZOFFSETFROM:+0300
TZOFFSETTO:+0200
TZNAME:EET
DTSTART:20251026T010000
END:STANDARD
END:VTIMEZONE
BEGIN:VEVENT
DTSTART;TZID=Europe/Helsinki:20250228T080000
DTEND;TZID=Europe/Helsinki:20250420T170000
DTSTAMP:20260422T122902
CREATED:20241222T124048Z
LAST-MODIFIED:20241222T124048Z
UID:107156-1740729600-1745168400@klassikauto.pl
SUMMARY:Rally Legends - From Dust to Glory
DESCRIPTION:
URL:https://klassikauto.pl/impreza/rally-legends-from-dust-to-glory/
LOCATION:Museum Autoworld\, Bruksela\, Belgia
CATEGORIES:Wystawa
END:VEVENT
BEGIN:VEVENT
DTSTART;TZID=Europe/Helsinki:20250312T080000
DTEND;TZID=Europe/Helsinki:20250316T170000
DTSTAMP:20260422T122902
CREATED:20241229T105507Z
LAST-MODIFIED:20241229T105507Z
UID:107623-1741766400-1742144400@klassikauto.pl
SUMMARY:Coppa delle Alpi 2025
DESCRIPTION:
URL:https://klassikauto.pl/impreza/coppa-delle-alpi-2025/
LOCATION:Włochy
CATEGORIES:Rajd
END:VEVENT
BEGIN:VEVENT
DTSTART;TZID=Europe/Helsinki:20250315T100000
DTEND;TZID=Europe/Helsinki:20250316T210000
DTSTAMP:20260422T122902
CREATED:20250301T145428Z
LAST-MODIFIED:20250301T145428Z
UID:108943-1742032800-1742158800@klassikauto.pl
SUMMARY:50. Rajd Monte Karlino - Ogólnopolski Rajd Samochodowy
DESCRIPTION:
URL:https://klassikauto.pl/impreza/50-rajd-monte-karlino-ogolnopolski-rajd-samochodowy/
LOCATION:Karlino
CATEGORIES:Rajd
END:VEVENT
BEGIN:VEVENT
DTSTART;VALUE=DATE:20250316
DTEND;VALUE=DATE:20250317
DTSTAMP:20260422T122902
CREATED:20250301T144450Z
LAST-MODIFIED:20250301T144450Z
UID:108941-1742083200-1742169599@klassikauto.pl
SUMMARY:Auto moto burza Svitavy
DESCRIPTION:
URL:https://klassikauto.pl/impreza/auto-moto-burza-svitavy-4/
LOCATION:Svitavy\, Czechy
CATEGORIES:Aukcja
END:VEVENT
BEGIN:VEVENT
DTSTART;TZID=Europe/Helsinki:20250316T073000
DTEND;TZID=Europe/Helsinki:20250316T173000
DTSTAMP:20260422T122902
CREATED:20250225T192741Z
LAST-MODIFIED:20250225T192741Z
UID:108766-1742110200-1742146200@klassikauto.pl
SUMMARY:I Runda Classicauto Cup 2025\, Silesia Ring
DESCRIPTION:
URL:https://klassikauto.pl/impreza/i-runda-classicauto-cup-2025-silesia-ring/
LOCATION:Kamień Śląski
CATEGORIES:Rajd
END:VEVENT
BEGIN:VEVENT
DTSTART;TZID=Europe/Helsinki:20250316T080000
DTEND;TZID=Europe/Helsinki:20250316T160000
DTSTAMP:20260422T122902
CREATED:20250223T151220Z
LAST-MODIFIED:20250223T151220Z
UID:108615-1742112000-1742140800@klassikauto.pl
SUMMARY:Jelenie Wraki 36 „Nowy Sezon”
DESCRIPTION:
URL:https://klassikauto.pl/impreza/jelenie-wraki-36-nowy-sezon/
LOCATION:Jelenia Góra
CATEGORIES:Zlot
END:VEVENT
BEGIN:VEVENT
DTSTART;TZID=Europe/Helsinki:20250316T100000
DTEND;TZID=Europe/Helsinki:20250316T150000
DTSTAMP:20260422T122902
CREATED:20250223T103614Z
LAST-MODIFIED:20250223T103614Z
UID:108564-1742119200-1742137200@klassikauto.pl
SUMMARY:Youngtimer Giełda
DESCRIPTION:Wielka wyprzedaż garażowa części\, akcesoriów i literatury w NEO Garage
URL:https://klassikauto.pl/impreza/youngtimer-gielda/
LOCATION:Ursus
CATEGORIES:Giełda
END:VEVENT
END:VCALENDAR
<!-- RunCloud Hub 2026-04-22 11:29:02 -->