BEGIN:VCALENDAR
VERSION:2.0
PRODID:-//KlassikAuto.pl - ECPv6.7.0//NONSGML v1.0//EN
CALSCALE:GREGORIAN
METHOD:PUBLISH
X-WR-CALNAME:KlassikAuto.pl
X-ORIGINAL-URL:https://klassikauto.pl
X-WR-CALDESC:Wydarzenia dla KlassikAuto.pl
REFRESH-INTERVAL;VALUE=DURATION:PT1H
X-Robots-Tag:noindex
X-PUBLISHED-TTL:PT1H
BEGIN:VTIMEZONE
TZID:Europe/Helsinki
BEGIN:DAYLIGHT
TZOFFSETFROM:+0200
TZOFFSETTO:+0300
TZNAME:EEST
DTSTART:20240331T010000
END:DAYLIGHT
BEGIN:STANDARD
TZOFFSETFROM:+0300
TZOFFSETTO:+0200
TZNAME:EET
DTSTART:20241027T010000
END:STANDARD
END:VTIMEZONE
BEGIN:VEVENT
DTSTART;TZID=Europe/Helsinki:20240906T080000
DTEND;TZID=Europe/Helsinki:20241215T170000
DTSTAMP:20260422T182320
CREATED:20240328T181015Z
LAST-MODIFIED:20240328T181015Z
UID:101115-1725609600-1734282000@klassikauto.pl
SUMMARY:When automotive design become art
DESCRIPTION:
URL:https://klassikauto.pl/impreza/when-automotive-design-become-art/
LOCATION:Muzeum Autoworld\, Bruksela\, Belgia
CATEGORIES:Wystawa
END:VEVENT
BEGIN:VEVENT
DTSTART;VALUE=DATE:20241130
DTEND;VALUE=DATE:20241209
DTSTAMP:20260422T182320
CREATED:20240929T121515Z
LAST-MODIFIED:20240929T121515Z
UID:105730-1732924800-1733702399@klassikauto.pl
SUMMARY:Essen Motor Show
DESCRIPTION:
URL:https://klassikauto.pl/impreza/essen-motor-show-3/
LOCATION:Essen\, Germany
CATEGORIES:Targi
END:VEVENT
BEGIN:VEVENT
DTSTART;TZID=Europe/Helsinki:20241206T100000
DTEND;TZID=Europe/Helsinki:20241208T180000
DTSTAMP:20260422T182320
CREATED:20240929T101930Z
LAST-MODIFIED:20240929T101930Z
UID:105626-1733479200-1733680800@klassikauto.pl
SUMMARY:Mikołajki z Fundacją FunAndDrive\, Manufakturą i Torem Łódź
DESCRIPTION:
URL:https://klassikauto.pl/impreza/mikolajki-z-fundacja-funanddrive-manufaktura-i-torem-lodz/
LOCATION:Łódź
CATEGORIES:Zlot
END:VEVENT
BEGIN:VEVENT
DTSTART;TZID=Europe/Helsinki:20241207T100000
DTEND;TZID=Europe/Helsinki:20241208T200000
DTSTAMP:20260422T182320
CREATED:20240929T112515Z
LAST-MODIFIED:20240929T112515Z
UID:105684-1733565600-1733688000@klassikauto.pl
SUMMARY:Motomikołaje 2024 – 10 edycja
DESCRIPTION:
URL:https://klassikauto.pl/impreza/motomikolaje-2024-10-edycja/
LOCATION:Ostrołęka
CATEGORIES:Zlot
END:VEVENT
BEGIN:VEVENT
DTSTART;TZID=Europe/Helsinki:20241208T083000
DTEND;TZID=Europe/Helsinki:20241208T143000
DTSTAMP:20260422T182320
CREATED:20240929T113112Z
LAST-MODIFIED:20240929T113112Z
UID:105686-1733646600-1733668200@klassikauto.pl
SUMMARY:XXII edycja Mikołaje na Motocyklach - 2024 Trójmia
DESCRIPTION:
URL:https://klassikauto.pl/impreza/xxii-edycja-mikolaje-na-motocyklach-2024-trojmia/
LOCATION:Gdynia
CATEGORIES:Zlot
END:VEVENT
BEGIN:VEVENT
DTSTART;TZID=Europe/Helsinki:20241208T090000
DTEND;TZID=Europe/Helsinki:20241208T140000
DTSTAMP:20260422T182320
CREATED:20240929T122518Z
LAST-MODIFIED:20240929T122518Z
UID:105735-1733648400-1733666400@klassikauto.pl
SUMMARY:Ogólnopolska Giełda Modeli Samochodów im. Sławoja Gwiazdowskiego
DESCRIPTION:
URL:https://klassikauto.pl/impreza/ogolnopolska-gielda-modeli-samochodow-im-slawoja-gwiazdowskiego-16/
LOCATION:Warszawa
CATEGORIES:Giełda
END:VEVENT
BEGIN:VEVENT
DTSTART;TZID=Europe/Helsinki:20241208T110000
DTEND;TZID=Europe/Helsinki:20241208T160000
DTSTAMP:20260422T182320
CREATED:20240929T125424Z
LAST-MODIFIED:20240929T125424Z
UID:105752-1733655600-1733673600@klassikauto.pl
SUMMARY:Advents-Modellauto- und Modelleisenbahnbörse
DESCRIPTION:
URL:https://klassikauto.pl/impreza/advents-modellauto-und-modelleisenbahnborse/
LOCATION:Bremen\, Niemcy
CATEGORIES:Giełda
END:VEVENT
BEGIN:VEVENT
DTSTART;TZID=Europe/Helsinki:20241208T150000
DTEND;TZID=Europe/Helsinki:20241208T160000
DTSTAMP:20260422T182320
CREATED:20240929T084419Z
LAST-MODIFIED:20240929T084419Z
UID:105547-1733670000-1733673600@klassikauto.pl
SUMMARY:Spot BMW Piła 2k24
DESCRIPTION:27 edycja BMW on Tour w Pile – pomagamy schroniskom
URL:https://klassikauto.pl/impreza/spot-bmw-pila-2k24/
LOCATION:Piła
CATEGORIES:Spot
END:VEVENT
END:VCALENDAR
<!-- RunCloud Hub 2026-04-22 17:23:20 -->