BEGIN:VCALENDAR
VERSION:2.0
PRODID:-//KlassikAuto.pl - ECPv6.7.0//NONSGML v1.0//EN
CALSCALE:GREGORIAN
METHOD:PUBLISH
X-ORIGINAL-URL:https://klassikauto.pl
X-WR-CALDESC:Wydarzenia dla KlassikAuto.pl
REFRESH-INTERVAL;VALUE=DURATION:PT1H
X-Robots-Tag:noindex
X-PUBLISHED-TTL:PT1H
BEGIN:VTIMEZONE
TZID:Europe/Helsinki
BEGIN:DAYLIGHT
TZOFFSETFROM:+0200
TZOFFSETTO:+0300
TZNAME:EEST
DTSTART:20240331T010000
END:DAYLIGHT
BEGIN:STANDARD
TZOFFSETFROM:+0300
TZOFFSETTO:+0200
TZNAME:EET
DTSTART:20241027T010000
END:STANDARD
END:VTIMEZONE
BEGIN:VEVENT
DTSTART;TZID=Europe/Helsinki:20240906T080000
DTEND;TZID=Europe/Helsinki:20241215T170000
DTSTAMP:20260422T201521
CREATED:20240328T181015Z
LAST-MODIFIED:20240328T181015Z
UID:101115-1725609600-1734282000@klassikauto.pl
SUMMARY:When automotive design become art
DESCRIPTION:
URL:https://klassikauto.pl/impreza/when-automotive-design-become-art/
LOCATION:Muzeum Autoworld\, Bruksela\, Belgia
CATEGORIES:Wystawa
END:VEVENT
BEGIN:VEVENT
DTSTART;TZID=Europe/Helsinki:20241102T090000
DTEND;TZID=Europe/Helsinki:20241103T170000
DTSTAMP:20260422T201521
CREATED:20240302T113831Z
LAST-MODIFIED:20240302T113845Z
UID:99855-1730538000-1730653200@klassikauto.pl
SUMMARY:Auto Madness – Dubai Autodrom
DESCRIPTION:
URL:https://klassikauto.pl/impreza/auto-madness-dubai-autodrom/
LOCATION:Dubaj
CATEGORIES:Targi,Wystawa
END:VEVENT
BEGIN:VEVENT
DTSTART;TZID=Europe/Helsinki:20241102T100000
DTEND;TZID=Europe/Helsinki:20241102T130000
DTSTAMP:20260422T201521
CREATED:20240929T110727Z
LAST-MODIFIED:20240929T110727Z
UID:105665-1730541600-1730552400@klassikauto.pl
SUMMARY:Tor Jastrząb – event motoryzacyjny z autoprezent.pl
DESCRIPTION:
URL:https://klassikauto.pl/impreza/tor-jastrzab-event-motoryzacyjny-z-autoprezent-pl/
LOCATION:Jastrząb
CATEGORIES:Zlot
END:VEVENT
BEGIN:VEVENT
DTSTART;TZID=Europe/Helsinki:20241102T100000
DTEND;TZID=Europe/Helsinki:20241102T140000
DTSTAMP:20260422T201521
CREATED:20231224T101140Z
LAST-MODIFIED:20231224T101140Z
UID:97738-1730541600-1730556000@klassikauto.pl
SUMMARY:Die Toyota Collection –  High Mileage Award
DESCRIPTION:
URL:https://klassikauto.pl/impreza/die-toyota-collection-high-mileage-award/
LOCATION:Kolonia\, Niemcy
CATEGORIES:Wystawa
END:VEVENT
BEGIN:VEVENT
DTSTART;TZID=Europe/Helsinki:20241102T173000
DTEND;TZID=Europe/Helsinki:20241102T173000
DTSTAMP:20260422T201521
CREATED:20240929T102924Z
LAST-MODIFIED:20240929T102924Z
UID:105638-1730568600-1730568600@klassikauto.pl
SUMMARY:Mroczne Moto Zaduszki – Volkswagen\, Vag Klub Poznań
DESCRIPTION:
URL:https://klassikauto.pl/impreza/mroczne-moto-zaduszki-volkswagen-vag-klub-poznan/
LOCATION:Poznań
CATEGORIES:Zlot
END:VEVENT
END:VCALENDAR
<!-- RunCloud Hub 2026-04-22 19:15:21 -->