BEGIN:VCALENDAR
VERSION:2.0
PRODID:-//KlassikAuto.pl - ECPv6.7.0//NONSGML v1.0//EN
CALSCALE:GREGORIAN
METHOD:PUBLISH
X-ORIGINAL-URL:https://klassikauto.pl
X-WR-CALDESC:Wydarzenia dla KlassikAuto.pl
REFRESH-INTERVAL;VALUE=DURATION:PT1H
X-Robots-Tag:noindex
X-PUBLISHED-TTL:PT1H
BEGIN:VTIMEZONE
TZID:Europe/Helsinki
BEGIN:DAYLIGHT
TZOFFSETFROM:+0200
TZOFFSETTO:+0300
TZNAME:EEST
DTSTART:20240331T010000
END:DAYLIGHT
BEGIN:STANDARD
TZOFFSETFROM:+0300
TZOFFSETTO:+0200
TZNAME:EET
DTSTART:20241027T010000
END:STANDARD
END:VTIMEZONE
BEGIN:VEVENT
DTSTART;TZID=Europe/Helsinki:20240906T080000
DTEND;TZID=Europe/Helsinki:20241215T170000
DTSTAMP:20260422T235007
CREATED:20240328T181015Z
LAST-MODIFIED:20240328T181015Z
UID:101115-1725609600-1734282000@klassikauto.pl
SUMMARY:When automotive design become art
DESCRIPTION:
URL:https://klassikauto.pl/impreza/when-automotive-design-become-art/
LOCATION:Muzeum Autoworld\, Bruksela\, Belgia
CATEGORIES:Wystawa
END:VEVENT
BEGIN:VEVENT
DTSTART;VALUE=DATE:20241024
DTEND;VALUE=DATE:20241028
DTSTAMP:20260422T235007
CREATED:20240929T115336Z
LAST-MODIFIED:20240929T115336Z
UID:105704-1729728000-1730073599@klassikauto.pl
SUMMARY:Auto e mot d’epoca
DESCRIPTION:
URL:https://klassikauto.pl/impreza/auto-e-mot-depoca/
LOCATION:Bolonia\, Włochy
CATEGORIES:Targi
END:VEVENT
BEGIN:VEVENT
DTSTART;VALUE=DATE:20241025
DTEND;VALUE=DATE:20241028
DTSTAMP:20260422T235007
CREATED:20240929T120010Z
LAST-MODIFIED:20240929T120010Z
UID:105714-1729814400-1730073599@klassikauto.pl
SUMMARY:Oslo Motor Show
DESCRIPTION:
URL:https://klassikauto.pl/impreza/oslo-motor-show/
LOCATION:Oslo\, Norwegia
CATEGORIES:Targi
END:VEVENT
BEGIN:VEVENT
DTSTART;VALUE=DATE:20241026
DTEND;VALUE=DATE:20241028
DTSTAMP:20260422T235007
CREATED:20240929T120246Z
LAST-MODIFIED:20240929T120246Z
UID:105718-1729900800-1730073599@klassikauto.pl
SUMMARY:Prague Car Festival
DESCRIPTION:
URL:https://klassikauto.pl/impreza/prague-car-festival/
LOCATION:Praga\, Czechy
CATEGORIES:Targi
END:VEVENT
BEGIN:VEVENT
DTSTART;TZID=Europe/Helsinki:20241026T080000
DTEND;TZID=Europe/Helsinki:20241026T170000
DTSTAMP:20260422T235007
CREATED:20240129T201637Z
LAST-MODIFIED:20240129T201637Z
UID:98923-1729929600-1729962000@klassikauto.pl
SUMMARY:VII Runda Classicauto Cup 2024
DESCRIPTION:
URL:https://klassikauto.pl/impreza/vii-runda-classicauto-cup-2024/
LOCATION:Kielce
CATEGORIES:Rajd
END:VEVENT
BEGIN:VEVENT
DTSTART;TZID=Europe/Helsinki:20241026T100000
DTEND;TZID=Europe/Helsinki:20241026T100000
DTSTAMP:20260422T235007
CREATED:20240929T100608Z
LAST-MODIFIED:20240929T100608Z
UID:105617-1729936800-1729936800@klassikauto.pl
SUMMARY:Zakończenie sezonu i nie tylko
DESCRIPTION:
URL:https://klassikauto.pl/impreza/zakonczenie-sezonu-i-nie-tylko/
LOCATION:Włochy
CATEGORIES:Zlot
END:VEVENT
BEGIN:VEVENT
DTSTART;TZID=Europe/Helsinki:20241026T150000
DTEND;TZID=Europe/Helsinki:20241026T170000
DTSTAMP:20260422T235007
CREATED:20240129T175316Z
LAST-MODIFIED:20240129T175316Z
UID:98807-1729954800-1729962000@klassikauto.pl
SUMMARY:JapOnly vol. 10 – Golden Our KRK
DESCRIPTION:
URL:https://klassikauto.pl/impreza/japonly-vol-10-golden-our-krk/
LOCATION:Kraków
CATEGORIES:Spot
END:VEVENT
BEGIN:VEVENT
DTSTART;TZID=Europe/Helsinki:20241026T160000
DTEND;TZID=Europe/Helsinki:20241026T160000
DTSTAMP:20260422T235007
CREATED:20240929T104358Z
LAST-MODIFIED:20240929T104358Z
UID:105647-1729958400-1729958400@klassikauto.pl
SUMMARY:Halloween Zlot Pojazdów w Sokolnikach Lesie
DESCRIPTION:
URL:https://klassikauto.pl/impreza/halloween-zlot-pojazdow-w-sokolnikach-lesie/
LOCATION:Sokolniki-Las
CATEGORIES:Zlot
END:VEVENT
END:VCALENDAR
<!-- RunCloud Hub 2026-04-22 22:50:07 -->