BEGIN:VCALENDAR
VERSION:2.0
PRODID:-//KlassikAuto.pl - ECPv6.7.0//NONSGML v1.0//EN
CALSCALE:GREGORIAN
METHOD:PUBLISH
X-ORIGINAL-URL:https://klassikauto.pl
X-WR-CALDESC:Wydarzenia dla KlassikAuto.pl
REFRESH-INTERVAL;VALUE=DURATION:PT1H
X-Robots-Tag:noindex
X-PUBLISHED-TTL:PT1H
BEGIN:VTIMEZONE
TZID:Europe/Helsinki
BEGIN:DAYLIGHT
TZOFFSETFROM:+0200
TZOFFSETTO:+0300
TZNAME:EEST
DTSTART:20240331T010000
END:DAYLIGHT
BEGIN:STANDARD
TZOFFSETFROM:+0300
TZOFFSETTO:+0200
TZNAME:EET
DTSTART:20241027T010000
END:STANDARD
END:VTIMEZONE
BEGIN:VEVENT
DTSTART;TZID=Europe/Helsinki:20240906T080000
DTEND;TZID=Europe/Helsinki:20241215T170000
DTSTAMP:20260422T222250
CREATED:20240328T181015Z
LAST-MODIFIED:20240328T181015Z
UID:101115-1725609600-1734282000@klassikauto.pl
SUMMARY:When automotive design become art
DESCRIPTION:
URL:https://klassikauto.pl/impreza/when-automotive-design-become-art/
LOCATION:Muzeum Autoworld\, Bruksela\, Belgia
CATEGORIES:Wystawa
END:VEVENT
BEGIN:VEVENT
DTSTART;VALUE=DATE:20241018
DTEND;VALUE=DATE:20241021
DTSTAMP:20260422T222250
CREATED:20240929T131951Z
LAST-MODIFIED:20240929T131951Z
UID:105763-1729209600-1729468799@klassikauto.pl
SUMMARY:2. Severomoravský sraz veteránů
DESCRIPTION:
URL:https://klassikauto.pl/impreza/2-severomoravsky-sraz-veteranu-2/
LOCATION:Šumperk\, Czehy
CATEGORIES:Zlot
END:VEVENT
BEGIN:VEVENT
DTSTART;TZID=Europe/Helsinki:20241018T080000
DTEND;TZID=Europe/Helsinki:20241020T170000
DTSTAMP:20260422T222250
CREATED:20240929T115137Z
LAST-MODIFIED:20240929T115137Z
UID:105702-1729238400-1729443600@klassikauto.pl
SUMMARY:CLASSIC EXPO - International Classic Car Exhibition
DESCRIPTION:
URL:https://klassikauto.pl/impreza/classic-expo-international-classic-car-exhibition/
LOCATION:Salzburg
CATEGORIES:Targi
END:VEVENT
BEGIN:VEVENT
DTSTART;VALUE=DATE:20241019
DTEND;VALUE=DATE:20241020
DTSTAMP:20260422T222250
CREATED:20231228T142422Z
LAST-MODIFIED:20231228T142422Z
UID:98112-1729296000-1729382399@klassikauto.pl
SUMMARY:SUPEROES 2024\, X Runda
DESCRIPTION:
URL:https://klassikauto.pl/impreza/superoes-2024-x-runda/
LOCATION:Miedziana Góra
CATEGORIES:Rajd
END:VEVENT
BEGIN:VEVENT
DTSTART;VALUE=DATE:20241019
DTEND;VALUE=DATE:20241020
DTSTAMP:20260422T222250
CREATED:20240929T115610Z
LAST-MODIFIED:20240929T115610Z
UID:105707-1729296000-1729382399@klassikauto.pl
SUMMARY:VeteránTechna Brno
DESCRIPTION:
URL:https://klassikauto.pl/impreza/veterantechna-brno-2/
LOCATION:Brno\, Czechy
CATEGORIES:Targi
END:VEVENT
BEGIN:VEVENT
DTSTART;TZID=Europe/Helsinki:20241019T080000
DTEND;TZID=Europe/Helsinki:20241019T140000
DTSTAMP:20260422T222250
CREATED:20231224T101053Z
LAST-MODIFIED:20231224T101053Z
UID:97736-1729324800-1729346400@klassikauto.pl
SUMMARY:Die Toyota Collection –  Herbst-Ausfahrt
DESCRIPTION:
URL:https://klassikauto.pl/impreza/die-toyota-collection-herbst-ausfahrt/
LOCATION:Kolonia\, Niemcy
CATEGORIES:Wystawa
END:VEVENT
BEGIN:VEVENT
DTSTART;TZID=Europe/Helsinki:20241019T090000
DTEND;TZID=Europe/Helsinki:20241020T170000
DTSTAMP:20260422T222250
CREATED:20240302T113309Z
LAST-MODIFIED:20240302T113309Z
UID:99850-1729328400-1729443600@klassikauto.pl
SUMMARY:100% Auto Live
DESCRIPTION:
URL:https://klassikauto.pl/impreza/100-auto-live/
LOCATION:Rotterdam\, Holandia
CATEGORIES:Targi,Wystawa
END:VEVENT
END:VCALENDAR
<!-- RunCloud Hub 2026-04-22 21:22:50 -->