BEGIN:VCALENDAR
VERSION:2.0
PRODID:-//KlassikAuto.pl - ECPv6.7.0//NONSGML v1.0//EN
CALSCALE:GREGORIAN
METHOD:PUBLISH
X-ORIGINAL-URL:https://klassikauto.pl
X-WR-CALDESC:Wydarzenia dla KlassikAuto.pl
REFRESH-INTERVAL;VALUE=DURATION:PT1H
X-Robots-Tag:noindex
X-PUBLISHED-TTL:PT1H
BEGIN:VTIMEZONE
TZID:Europe/Helsinki
BEGIN:DAYLIGHT
TZOFFSETFROM:+0200
TZOFFSETTO:+0300
TZNAME:EEST
DTSTART:20240331T010000
END:DAYLIGHT
BEGIN:STANDARD
TZOFFSETFROM:+0300
TZOFFSETTO:+0200
TZNAME:EET
DTSTART:20241027T010000
END:STANDARD
END:VTIMEZONE
BEGIN:VEVENT
DTSTART;TZID=Europe/Helsinki:20240906T080000
DTEND;TZID=Europe/Helsinki:20241215T170000
DTSTAMP:20260422T235033
CREATED:20240328T181015Z
LAST-MODIFIED:20240328T181015Z
UID:101115-1725609600-1734282000@klassikauto.pl
SUMMARY:When automotive design become art
DESCRIPTION:
URL:https://klassikauto.pl/impreza/when-automotive-design-become-art/
LOCATION:Muzeum Autoworld\, Bruksela\, Belgia
CATEGORIES:Wystawa
END:VEVENT
BEGIN:VEVENT
DTSTART;VALUE=DATE:20240922
DTEND;VALUE=DATE:20240929
DTSTAMP:20260422T235033
CREATED:20240728T162836Z
LAST-MODIFIED:20240728T162836Z
UID:104307-1726963200-1727567999@klassikauto.pl
SUMMARY:Cabrio Prowansja
DESCRIPTION:
URL:https://klassikauto.pl/impreza/cabrio-prowansja/
LOCATION:Nicea\, Francja
CATEGORIES:Wycieczka
END:VEVENT
BEGIN:VEVENT
DTSTART;TZID=Europe/Helsinki:20240927T080000
DTEND;TZID=Europe/Helsinki:20240929T180000
DTSTAMP:20260422T235033
CREATED:20231228T095126Z
LAST-MODIFIED:20231228T095126Z
UID:97970-1727424000-1727632800@klassikauto.pl
SUMMARY:III Międzynarodowy Rajd Pojazdów Zabytkowych Księstwa Świdnicko-Jaworskiego
DESCRIPTION:
URL:https://klassikauto.pl/impreza/iii-miedzynarodowy-rajd-pojazdow-zabytkowych-ksiestwa-swidnicko-jaworskiego/
LOCATION:Świdnica
CATEGORIES:Rajd
END:VEVENT
BEGIN:VEVENT
DTSTART;TZID=Europe/Helsinki:20240927T120000
DTEND;TZID=Europe/Helsinki:20240929T180000
DTSTAMP:20260422T235033
CREATED:20240812T183307Z
LAST-MODIFIED:20240812T183307Z
UID:104716-1727438400-1727632800@klassikauto.pl
SUMMARY:Zlot z okazji Light Move Festival
DESCRIPTION:
URL:https://klassikauto.pl/impreza/zlot-z-okazji-light-move-festival/
LOCATION:Sadówka
CATEGORIES:Zlot
END:VEVENT
BEGIN:VEVENT
DTSTART;TZID=Europe/Helsinki:20240927T150000
DTEND;TZID=Europe/Helsinki:20240929T110000
DTSTAMP:20260422T235033
CREATED:20240421T105109Z
LAST-MODIFIED:20240421T105109Z
UID:101672-1727449200-1727607600@klassikauto.pl
SUMMARY:20. Vinobraní s Mercedesy
DESCRIPTION:Vinařství U Kapličky v Zaječí
URL:https://klassikauto.pl/impreza/20-vinobrani-s-mercedesy/
LOCATION:Zaječí\, Czechy
CATEGORIES:Zlot
END:VEVENT
BEGIN:VEVENT
DTSTART;TZID=Europe/Helsinki:20240927T170000
DTEND;TZID=Europe/Helsinki:20240927T170000
DTSTAMP:20260422T235033
CREATED:20240812T184147Z
LAST-MODIFIED:20240812T184147Z
UID:104724-1727456400-1727456400@klassikauto.pl
SUMMARY:Zakończenie sezonu FKP 2024
DESCRIPTION:
URL:https://klassikauto.pl/impreza/zakonczenie-sezonu-fkp-2024/
LOCATION:Jura
CATEGORIES:Zlot
END:VEVENT
BEGIN:VEVENT
DTSTART;TZID=Europe/Helsinki:20240927T170000
DTEND;TZID=Europe/Helsinki:20240929T100000
DTSTAMP:20260422T235033
CREATED:20240728T165211Z
LAST-MODIFIED:20240728T165211Z
UID:104327-1727456400-1727604000@klassikauto.pl
SUMMARY:51. Poznański Międzynarodowy Rajd Pojazdów Zabytkowych
DESCRIPTION:
URL:https://klassikauto.pl/impreza/51-poznanski-miedzynarodowy-rajd-pojazdow-zabytkowych/
LOCATION:Poznań
CATEGORIES:Rajd
END:VEVENT
END:VCALENDAR
<!-- RunCloud Hub 2026-04-22 22:50:33 -->