BEGIN:VCALENDAR
VERSION:2.0
PRODID:-//KlassikAuto.pl - ECPv6.7.0//NONSGML v1.0//EN
CALSCALE:GREGORIAN
METHOD:PUBLISH
X-ORIGINAL-URL:https://klassikauto.pl
X-WR-CALDESC:Wydarzenia dla KlassikAuto.pl
REFRESH-INTERVAL;VALUE=DURATION:PT1H
X-Robots-Tag:noindex
X-PUBLISHED-TTL:PT1H
BEGIN:VTIMEZONE
TZID:Europe/Helsinki
BEGIN:DAYLIGHT
TZOFFSETFROM:+0200
TZOFFSETTO:+0300
TZNAME:EEST
DTSTART:20240331T010000
END:DAYLIGHT
BEGIN:STANDARD
TZOFFSETFROM:+0300
TZOFFSETTO:+0200
TZNAME:EET
DTSTART:20241027T010000
END:STANDARD
END:VTIMEZONE
BEGIN:VEVENT
DTSTART;TZID=Europe/Helsinki:20240906T080000
DTEND;TZID=Europe/Helsinki:20241215T170000
DTSTAMP:20260422T235007
CREATED:20240328T181015Z
LAST-MODIFIED:20240328T181015Z
UID:101115-1725609600-1734282000@klassikauto.pl
SUMMARY:When automotive design become art
DESCRIPTION:
URL:https://klassikauto.pl/impreza/when-automotive-design-become-art/
LOCATION:Muzeum Autoworld\, Bruksela\, Belgia
CATEGORIES:Wystawa
END:VEVENT
BEGIN:VEVENT
DTSTART;VALUE=DATE:20240918
DTEND;VALUE=DATE:20240922
DTSTAMP:20260422T235007
CREATED:20240427T134648Z
LAST-MODIFIED:20240427T134648Z
UID:102056-1726617600-1726963199@klassikauto.pl
SUMMARY:3. Röhrl-Klassik 2024
DESCRIPTION:– rajd zabytkowych Porsche
URL:https://klassikauto.pl/impreza/3-rohrl-klassik-2024/
LOCATION:Niemcy
CATEGORIES:Rajd
END:VEVENT
BEGIN:VEVENT
DTSTART;VALUE=DATE:20240920
DTEND;VALUE=DATE:20240923
DTSTAMP:20260422T235007
CREATED:20231229T081134Z
LAST-MODIFIED:20231229T081134Z
UID:98188-1726790400-1727049599@klassikauto.pl
SUMMARY:ADAC 1000 Kilometer Race
DESCRIPTION:
URL:https://klassikauto.pl/impreza/adac-1000-kilometer-race-3/
LOCATION:Nürnberg\, Niemcy
CATEGORIES:Rajd
END:VEVENT
BEGIN:VEVENT
DTSTART;VALUE=DATE:20240920
DTEND;VALUE=DATE:20240923
DTSTAMP:20260422T235007
CREATED:20240526T135039Z
LAST-MODIFIED:20240529T173712Z
UID:102746-1726790400-1727049599@klassikauto.pl
SUMMARY:2. Severomoravsky Sraz Veteranu
DESCRIPTION:
URL:https://klassikauto.pl/impreza/2-severomoravsky-sraz-veteranu/
LOCATION:Dolni Studenky\, Czechy
CATEGORIES:Zlot
END:VEVENT
BEGIN:VEVENT
DTSTART;TZID=Europe/Helsinki:20240920T080000
DTEND;TZID=Europe/Helsinki:20240922T170000
DTSTAMP:20260422T235007
CREATED:20231227T092141Z
LAST-MODIFIED:20240728T165345Z
UID:97905-1726819200-1727024400@klassikauto.pl
SUMMARY:Retro Motor Show
DESCRIPTION:
URL:https://klassikauto.pl/impreza/retro-motor-show/
LOCATION:Poznań
CATEGORIES:Targi
END:VEVENT
BEGIN:VEVENT
DTSTART;TZID=Europe/Helsinki:20240920T080000
DTEND;TZID=Europe/Helsinki:20240922T170000
DTSTAMP:20260422T235007
CREATED:20240106T172530Z
LAST-MODIFIED:20240106T172535Z
UID:98373-1726819200-1727024400@klassikauto.pl
SUMMARY:Baltic Treffen 4th 2024
DESCRIPTION:
URL:https://klassikauto.pl/impreza/baltic-treffen-4th-2024/
LOCATION:Ustka
CATEGORIES:Zlot
END:VEVENT
BEGIN:VEVENT
DTSTART;TZID=Europe/Helsinki:20240920T140000
DTEND;TZID=Europe/Helsinki:20240922T120000
DTSTAMP:20260422T235007
CREATED:20240130T175926Z
LAST-MODIFIED:20240130T175926Z
UID:99048-1726840800-1727006400@klassikauto.pl
SUMMARY:5 Zlot Opel Klub Łódzkie
DESCRIPTION:
URL:https://klassikauto.pl/impreza/5-zlot-opel-klub-lodzkie/
LOCATION:Końskie
CATEGORIES:Zlot
END:VEVENT
BEGIN:VEVENT
DTSTART;TZID=Europe/Helsinki:20240921T070000
DTEND;TZID=Europe/Helsinki:20240922T170000
DTSTAMP:20260422T235007
CREATED:20240812T183129Z
LAST-MODIFIED:20240812T183129Z
UID:104713-1726902000-1727024400@klassikauto.pl
SUMMARY:1. Rally AnKA
DESCRIPTION:
URL:https://klassikauto.pl/impreza/1-rally-anka/
LOCATION:Góra św. Anny
CATEGORIES:Rajd
END:VEVENT
BEGIN:VEVENT
DTSTART;TZID=Europe/Helsinki:20240921T090000
DTEND;TZID=Europe/Helsinki:20240922T200000
DTSTAMP:20260422T235007
CREATED:20240812T175602Z
LAST-MODIFIED:20240812T175602Z
UID:104684-1726909200-1727035200@klassikauto.pl
SUMMARY:American Picnic vol. III by Harley-Davidson Twin Peaks
DESCRIPTION:
URL:https://klassikauto.pl/impreza/american-picnic-vol-iii-by-harley-davidson-twin-peaks/
LOCATION:Józefów
CATEGORIES:Zlot
END:VEVENT
BEGIN:VEVENT
DTSTART;TZID=Europe/Helsinki:20240921T110000
DTEND;TZID=Europe/Helsinki:20240922T190000
DTSTAMP:20260422T235007
CREATED:20240526T075522Z
LAST-MODIFIED:20240728T171859Z
UID:102590-1726916400-1727031600@klassikauto.pl
SUMMARY:Retro Mobil Cars Show wraz  z Winnicą Pałac Minoga
DESCRIPTION:
URL:https://klassikauto.pl/impreza/retro-mobil-cars-show-wraz-z-winnica-palac-minoga/
LOCATION:Minoga
CATEGORIES:Zlot
END:VEVENT
BEGIN:VEVENT
DTSTART;TZID=Europe/Helsinki:20240921T120000
DTEND;TZID=Europe/Helsinki:20240921T120000
DTSTAMP:20260422T235007
CREATED:20240526T132348Z
LAST-MODIFIED:20240526T132348Z
UID:102728-1726920000-1726920000@klassikauto.pl
SUMMARY:Oldtimer Parade - Spanilá Vyjížďka
DESCRIPTION:
URL:https://klassikauto.pl/impreza/oldtimer-parade-spanila-vyjizdka/
LOCATION:Kravare\, Czechy
CATEGORIES:Zlot
END:VEVENT
BEGIN:VEVENT
DTSTART;TZID=Europe/Helsinki:20240921T120000
DTEND;TZID=Europe/Helsinki:20240921T120000
DTSTAMP:20260422T235007
CREATED:20240812T181619Z
LAST-MODIFIED:20240812T181619Z
UID:104698-1726920000-1726920000@klassikauto.pl
SUMMARY:Rally Car Day by Rawickie Loty Edition 5
DESCRIPTION:
URL:https://klassikauto.pl/impreza/rally-car-day-by-rawickie-loty-edition-5/
LOCATION:Korzeńsko
CATEGORIES:Rajd
END:VEVENT
BEGIN:VEVENT
DTSTART;TZID=Europe/Helsinki:20240921T150000
DTEND;TZID=Europe/Helsinki:20240921T150000
DTSTAMP:20260422T235007
CREATED:20240929T080559Z
LAST-MODIFIED:20240929T080559Z
UID:105521-1726930800-1726930800@klassikauto.pl
SUMMARY:Car Spot Strojec
DESCRIPTION:
URL:https://klassikauto.pl/impreza/car-spot-strojec/
LOCATION:Strojec
CATEGORIES:Spot
END:VEVENT
BEGIN:VEVENT
DTSTART;TZID=Europe/Helsinki:20240921T190000
DTEND;TZID=Europe/Helsinki:20240921T190000
DTSTAMP:20260422T235007
CREATED:20240423T171605Z
LAST-MODIFIED:20240423T171605Z
UID:101858-1726945200-1726945200@klassikauto.pl
SUMMARY:XV Rajd Ikarusa
DESCRIPTION:
URL:https://klassikauto.pl/impreza/xv-rajd-ikarusa/
LOCATION:Trójmiasto
CATEGORIES:Rajd
END:VEVENT
END:VCALENDAR
<!-- RunCloud Hub 2026-04-22 22:50:07 -->