BEGIN:VCALENDAR
VERSION:2.0
PRODID:-//KlassikAuto.pl - ECPv6.7.0//NONSGML v1.0//EN
CALSCALE:GREGORIAN
METHOD:PUBLISH
X-ORIGINAL-URL:https://klassikauto.pl
X-WR-CALDESC:Wydarzenia dla KlassikAuto.pl
REFRESH-INTERVAL;VALUE=DURATION:PT1H
X-Robots-Tag:noindex
X-PUBLISHED-TTL:PT1H
BEGIN:VTIMEZONE
TZID:Europe/Helsinki
BEGIN:DAYLIGHT
TZOFFSETFROM:+0200
TZOFFSETTO:+0300
TZNAME:EEST
DTSTART:20230326T010000
END:DAYLIGHT
BEGIN:STANDARD
TZOFFSETFROM:+0300
TZOFFSETTO:+0200
TZNAME:EET
DTSTART:20231029T010000
END:STANDARD
BEGIN:DAYLIGHT
TZOFFSETFROM:+0200
TZOFFSETTO:+0300
TZNAME:EEST
DTSTART:20240331T010000
END:DAYLIGHT
BEGIN:STANDARD
TZOFFSETFROM:+0300
TZOFFSETTO:+0200
TZNAME:EET
DTSTART:20241027T010000
END:STANDARD
END:VTIMEZONE
BEGIN:VEVENT
DTSTART;TZID=Europe/Helsinki:20231208T080000
DTEND;TZID=Europe/Helsinki:20240225T170000
DTSTAMP:20260421T134710
CREATED:20230413T150248Z
LAST-MODIFIED:20230413T150248Z
UID:89858-1702022400-1708880400@klassikauto.pl
SUMMARY:Porsche 75 years\, driven by dreams
DESCRIPTION:
URL:https://klassikauto.pl/impreza/porsche-75-years-driven-by-dreams/
LOCATION:Muzeum Autoworld\, Bruksela\, Belgia
CATEGORIES:Wystawa
END:VEVENT
BEGIN:VEVENT
DTSTART;TZID=Europe/Helsinki:20231215T080000
DTEND;TZID=Europe/Helsinki:20240225T170000
DTSTAMP:20260421T134710
CREATED:20231224T094237Z
LAST-MODIFIED:20231224T094237Z
UID:97711-1702627200-1708880400@klassikauto.pl
SUMMARY:Wystawa Ikony Motoryzacji - 3. edycja
DESCRIPTION:
URL:https://klassikauto.pl/impreza/wystawa-ikony-motoryzacji-3-edycja/
LOCATION:Warszawa
CATEGORIES:Wystawa
END:VEVENT
BEGIN:VEVENT
DTSTART;TZID=Europe/Helsinki:20240209T170000
DTEND;TZID=Europe/Helsinki:20240211T170000
DTSTAMP:20260421T134710
CREATED:20240130T181405Z
LAST-MODIFIED:20240130T181405Z
UID:99066-1707498000-1707670800@klassikauto.pl
SUMMARY:Zimny Łoś - 3. Zimowe spotkanie miłośników klasycznych VW
DESCRIPTION:
URL:https://klassikauto.pl/impreza/zimny-los-3-zimowe-spotkanie-milosnikow-klasycznych-vw/
LOCATION:Brochów
CATEGORIES:Zlot
END:VEVENT
BEGIN:VEVENT
DTSTART;TZID=Europe/Helsinki:20240210T080000
DTEND;TZID=Europe/Helsinki:20240211T170000
DTSTAMP:20260421T134710
CREATED:20231228T081235Z
LAST-MODIFIED:20231228T081235Z
UID:97928-1707552000-1707670800@klassikauto.pl
SUMMARY:V Zlot Gruz Rally 2024
DESCRIPTION:
URL:https://klassikauto.pl/impreza/v-zlot-gruz-rally-2024/
LOCATION:Ponidzie
CATEGORIES:Zlot
END:VEVENT
BEGIN:VEVENT
DTSTART;TZID=Europe/Helsinki:20240210T093000
DTEND;TZID=Europe/Helsinki:20240211T173000
DTSTAMP:20260421T134710
CREATED:20231227T083127Z
LAST-MODIFIED:20231227T083127Z
UID:97873-1707557400-1707672600@klassikauto.pl
SUMMARY:41. Moto Retro Wieze
DESCRIPTION:Les Demoiselles de Herstal 1928 – 1939 \nLink do strony www: https://www.motoretrowieze.be/
URL:https://klassikauto.pl/impreza/41-moto-retro-wieze/
LOCATION:Lebbeke\, Belgia
CATEGORIES:Zlot
END:VEVENT
BEGIN:VEVENT
DTSTART;TZID=Europe/Helsinki:20240211T090000
DTEND;TZID=Europe/Helsinki:20240211T140000
DTSTAMP:20260421T134710
CREATED:20231227T061526Z
LAST-MODIFIED:20231227T061526Z
UID:97827-1707642000-1707660000@klassikauto.pl
SUMMARY:Ogólnopolska Giełda Modeli Samochodów im. Sławoja Gwiazdowskiego
DESCRIPTION:
URL:https://klassikauto.pl/impreza/ogolnopolska-gielda-modeli-samochodow-im-slawoja-gwiazdowskiego-13/
LOCATION:Warszawa
CATEGORIES:Wystawa
END:VEVENT
BEGIN:VEVENT
DTSTART;TZID=Europe/Helsinki:20240211T090000
DTEND;TZID=Europe/Helsinki:20240211T160000
DTSTAMP:20260421T134710
CREATED:20240130T172914Z
LAST-MODIFIED:20240130T172914Z
UID:99030-1707642000-1707667200@klassikauto.pl
SUMMARY:Rajd Walentynkowy
DESCRIPTION:
URL:https://klassikauto.pl/impreza/rajd-walentynkowy/
LOCATION:Żnin
CATEGORIES:Rajd
END:VEVENT
BEGIN:VEVENT
DTSTART;TZID=Europe/Helsinki:20240211T143000
DTEND;TZID=Europe/Helsinki:20240211T170000
DTSTAMP:20260421T134710
CREATED:20240129T185144Z
LAST-MODIFIED:20240129T185144Z
UID:98852-1707661800-1707670800@klassikauto.pl
SUMMARY:Likwidacja SCT – Zima z Gratami
DESCRIPTION:
URL:https://klassikauto.pl/impreza/likwidacja-sct-zima-z-gratami/
LOCATION:Mysłowice
CATEGORIES:Zlot
END:VEVENT
END:VCALENDAR
<!-- RunCloud Hub 2026-04-21 12:47:10 -->