BEGIN:VCALENDAR
VERSION:2.0
PRODID:-//KlassikAuto.pl - ECPv6.7.0//NONSGML v1.0//EN
CALSCALE:GREGORIAN
METHOD:PUBLISH
X-ORIGINAL-URL:https://klassikauto.pl
X-WR-CALDESC:Wydarzenia dla KlassikAuto.pl
REFRESH-INTERVAL;VALUE=DURATION:PT1H
X-Robots-Tag:noindex
X-PUBLISHED-TTL:PT1H
BEGIN:VTIMEZONE
TZID:Europe/Helsinki
BEGIN:DAYLIGHT
TZOFFSETFROM:+0200
TZOFFSETTO:+0300
TZNAME:EEST
DTSTART:20230326T010000
END:DAYLIGHT
BEGIN:STANDARD
TZOFFSETFROM:+0300
TZOFFSETTO:+0200
TZNAME:EET
DTSTART:20231029T010000
END:STANDARD
END:VTIMEZONE
BEGIN:VEVENT
DTSTART;TZID=Europe/Helsinki:20230907T130000
DTEND;TZID=Europe/Helsinki:20230910T150000
DTSTAMP:20260422T211113
CREATED:20230410T150432Z
LAST-MODIFIED:20230410T150432Z
UID:89675-1694091600-1694358000@klassikauto.pl
SUMMARY:Fiat 124 Spider Club e.V. Herbsttreffen
DESCRIPTION:
URL:https://klassikauto.pl/impreza/fiat-124-spider-club-e-v-herbsttreffen/
LOCATION:Wermelskirchen\, Niemcy
CATEGORIES:Zlot
END:VEVENT
BEGIN:VEVENT
DTSTART;TZID=Europe/Helsinki:20230907T160000
DTEND;TZID=Europe/Helsinki:20230910T100000
DTSTAMP:20260422T211113
CREATED:20230501T070712Z
LAST-MODIFIED:20230501T070712Z
UID:90227-1694102400-1694340000@klassikauto.pl
SUMMARY:50. Poznański Międzynarodowy Rajd Pojazdów Zabytkowych
DESCRIPTION:
URL:https://klassikauto.pl/impreza/50-poznanski-miedzynarodowy-rajd-pojazdow-zabytkowych/
LOCATION:Poznań
CATEGORIES:Rajd
END:VEVENT
BEGIN:VEVENT
DTSTART;TZID=Europe/Helsinki:20230908T080000
DTEND;TZID=Europe/Helsinki:20230910T170000
DTSTAMP:20260422T211113
CREATED:20230222T173813Z
LAST-MODIFIED:20230222T173813Z
UID:88250-1694160000-1694365200@klassikauto.pl
SUMMARY:Goodwood Revival
DESCRIPTION:
URL:https://klassikauto.pl/impreza/goodwood-revival/
LOCATION:Goodwood
CATEGORIES:Rajd
END:VEVENT
BEGIN:VEVENT
DTSTART;TZID=Europe/Helsinki:20230908T080000
DTEND;TZID=Europe/Helsinki:20231203T170000
DTSTAMP:20260422T211113
CREATED:20230413T150057Z
LAST-MODIFIED:20230413T150057Z
UID:89856-1694160000-1701622800@klassikauto.pl
SUMMARY:Bugatti unseen
DESCRIPTION:
URL:https://klassikauto.pl/impreza/bugatti-unseen/
LOCATION:Muzeum Autoworld\, Bruksela\, Belgia
CATEGORIES:Wystawa
END:VEVENT
BEGIN:VEVENT
DTSTART;TZID=Europe/Helsinki:20230908T120000
DTEND;TZID=Europe/Helsinki:20230910T120000
DTSTAMP:20260422T211113
CREATED:20230624T113148Z
LAST-MODIFIED:20230624T113148Z
UID:92240-1694174400-1694347200@klassikauto.pl
SUMMARY:44. Rally sraz Škoda
DESCRIPTION:
URL:https://klassikauto.pl/impreza/44-rally-sraz-skoda/
LOCATION:Běšiny\, Czechy
CATEGORIES:Rajd
END:VEVENT
BEGIN:VEVENT
DTSTART;TZID=Europe/Helsinki:20230908T130000
DTEND;TZID=Europe/Helsinki:20230910T170000
DTSTAMP:20260422T211113
CREATED:20230312T164459Z
LAST-MODIFIED:20230312T164459Z
UID:88860-1694178000-1694365200@klassikauto.pl
SUMMARY:8 Międzynarodowy Festival CABRIO POLAND
DESCRIPTION:miejsce: Cottonina Hotel & Mineral SPA Resort
URL:https://klassikauto.pl/impreza/8-miedzynarodowy-festival-cabrio-poland/
LOCATION:Świeradów Zdrój
CATEGORIES:Zlot
END:VEVENT
BEGIN:VEVENT
DTSTART;TZID=Europe/Helsinki:20230908T140000
DTEND;TZID=Europe/Helsinki:20230910T090000
DTSTAMP:20260422T211113
CREATED:20230624T111826Z
LAST-MODIFIED:20230624T111826Z
UID:92227-1694181600-1694336400@klassikauto.pl
SUMMARY:20. Maluchiáda
DESCRIPTION:
URL:https://klassikauto.pl/impreza/20-maluchiada/
LOCATION:Novy Rybnik\, Czechy
CATEGORIES:Zlot
END:VEVENT
BEGIN:VEVENT
DTSTART;TZID=Europe/Helsinki:20230908T150000
DTEND;TZID=Europe/Helsinki:20230910T160000
DTSTAMP:20260422T211113
CREATED:20230514T193857Z
LAST-MODIFIED:20230514T193857Z
UID:90684-1694185200-1694361600@klassikauto.pl
SUMMARY:PORSCHEmeet'23
DESCRIPTION:
URL:https://klassikauto.pl/impreza/porschemeet23/
LOCATION:Nowe Miasto nad Wartą
CATEGORIES:Zlot
END:VEVENT
BEGIN:VEVENT
DTSTART;TZID=Europe/Helsinki:20230908T150000
DTEND;TZID=Europe/Helsinki:20230910T230000
DTSTAMP:20260422T211113
CREATED:20230624T161200Z
LAST-MODIFIED:20230624T161200Z
UID:92413-1694185200-1694386800@klassikauto.pl
SUMMARY:Rajd Śląska 2023
DESCRIPTION:
URL:https://klassikauto.pl/impreza/rajd-slaska-2023/
LOCATION:Chorzów
CATEGORIES:Rajd
END:VEVENT
BEGIN:VEVENT
DTSTART;TZID=Europe/Helsinki:20230908T160000
DTEND;TZID=Europe/Helsinki:20230910T120000
DTSTAMP:20260422T211113
CREATED:20230522T141259Z
LAST-MODIFIED:20230522T141259Z
UID:91151-1694188800-1694347200@klassikauto.pl
SUMMARY:4 Pieniński Charytatywny "Rajd" Malucha
DESCRIPTION:
URL:https://klassikauto.pl/impreza/4-pieninski-charytatywny-rajd-malucha/
LOCATION:Pieniny
CATEGORIES:Rajd
END:VEVENT
BEGIN:VEVENT
DTSTART;TZID=Europe/Helsinki:20230908T200000
DTEND;TZID=Europe/Helsinki:20230910T170000
DTSTAMP:20260422T211113
CREATED:20230212T132103Z
LAST-MODIFIED:20230212T132103Z
UID:87885-1694203200-1694365200@klassikauto.pl
SUMMARY:Mountain Haste 2023
DESCRIPTION:miejsce: Jezioro Czorsztyńskie
URL:https://klassikauto.pl/impreza/mountain-haste-2023/
CATEGORIES:Zlot
END:VEVENT
BEGIN:VEVENT
DTSTART;TZID=Europe/Helsinki:20230909T060000
DTEND;TZID=Europe/Helsinki:20230909T170000
DTSTAMP:20260422T211113
CREATED:20230831T185223Z
LAST-MODIFIED:20230831T185223Z
UID:94867-1694239200-1694278800@klassikauto.pl
SUMMARY:Zlot i Bazar Oldtimer i Youngtimer
DESCRIPTION:
URL:https://klassikauto.pl/impreza/zlot-i-bazar-oldtimer-i-youngtimer/
LOCATION:Kraków
CATEGORIES:Aukcja,Zlot
END:VEVENT
BEGIN:VEVENT
DTSTART;TZID=Europe/Helsinki:20230909T083000
DTEND;TZID=Europe/Helsinki:20230909T170000
DTSTAMP:20260422T211113
CREATED:20230831T144517Z
LAST-MODIFIED:20230831T144517Z
UID:94771-1694248200-1694278800@klassikauto.pl
SUMMARY:Rajd Turystyczny „Szwendaczek” 2023
DESCRIPTION:
URL:https://klassikauto.pl/impreza/rajd-turystyczny-szwendaczek-2023/
LOCATION:Powiat Bieruńsko-Lędziński
CATEGORIES:Rajd
END:VEVENT
BEGIN:VEVENT
DTSTART;TZID=Europe/Helsinki:20230909T100000
DTEND;TZID=Europe/Helsinki:20230909T170000
DTSTAMP:20260422T211113
CREATED:20230624T141200Z
LAST-MODIFIED:20230831T153111Z
UID:92399-1694253600-1694278800@klassikauto.pl
SUMMARY:Custom Fest Edition 1\,
DESCRIPTION:
URL:https://klassikauto.pl/impreza/custom-fest-edition-1/
LOCATION:Brzeszcze
CATEGORIES:Zlot
END:VEVENT
BEGIN:VEVENT
DTSTART;TZID=Europe/Helsinki:20230909T100000
DTEND;TZID=Europe/Helsinki:20230910T180000
DTSTAMP:20260422T211113
CREATED:20230831T151118Z
LAST-MODIFIED:20230831T151118Z
UID:94792-1694253600-1694368800@klassikauto.pl
SUMMARY:Auto Moto Show Arena Gliwice
DESCRIPTION:
URL:https://klassikauto.pl/impreza/auto-moto-show-arena-gliwice/
LOCATION:Gliwice
CATEGORIES:Wystawa
END:VEVENT
BEGIN:VEVENT
DTSTART;TZID=Europe/Helsinki:20230909T110000
DTEND;TZID=Europe/Helsinki:20230909T150000
DTSTAMP:20260422T211113
CREATED:20230828T164226Z
LAST-MODIFIED:20230828T164226Z
UID:94638-1694257200-1694271600@klassikauto.pl
SUMMARY:Zakończenie wakacji z Mercedesami
DESCRIPTION:
URL:https://klassikauto.pl/impreza/zakonczenie-wakacji-z-mercedesami-2/
LOCATION:Wojkowice
CATEGORIES:Zlot
END:VEVENT
BEGIN:VEVENT
DTSTART;TZID=Europe/Helsinki:20230909T120000
DTEND;TZID=Europe/Helsinki:20230909T170000
DTSTAMP:20260422T211113
CREATED:20230519T142427Z
LAST-MODIFIED:20230519T142427Z
UID:90818-1694260800-1694278800@klassikauto.pl
SUMMARY:Klasyczne Zakończenie Sezonu 2023
DESCRIPTION:
URL:https://klassikauto.pl/impreza/klasyczne-zakonczenie-sezonu-2023/
LOCATION:Turek
CATEGORIES:Zlot
END:VEVENT
BEGIN:VEVENT
DTSTART;TZID=Europe/Helsinki:20230909T123000
DTEND;TZID=Europe/Helsinki:20230909T170000
DTSTAMP:20260422T211113
CREATED:20230831T160339Z
LAST-MODIFIED:20230831T160339Z
UID:94812-1694262600-1694278800@klassikauto.pl
SUMMARY:Klasyki Oborniki oraz Art&Music Festiwal
DESCRIPTION:
URL:https://klassikauto.pl/impreza/klasyki-oborniki-oraz-artmusic-festiwal/
LOCATION:Oborniki
CATEGORIES:Zlot
END:VEVENT
BEGIN:VEVENT
DTSTART;TZID=Europe/Helsinki:20230909T160000
DTEND;TZID=Europe/Helsinki:20230909T190000
DTSTAMP:20260422T211113
CREATED:20230312T164711Z
LAST-MODIFIED:20230312T164711Z
UID:88863-1694275200-1694286000@klassikauto.pl
SUMMARY:15 urodziny Chapter Oława WRM MC Poland
DESCRIPTION:
URL:https://klassikauto.pl/impreza/15-urodziny-chapter-olawa-wrm-mc-poland/
LOCATION:Oława
CATEGORIES:Zlot
END:VEVENT
BEGIN:VEVENT
DTSTART;TZID=Europe/Helsinki:20230909T180000
DTEND;TZID=Europe/Helsinki:20230909T180000
DTSTAMP:20260422T211113
CREATED:20230624T161349Z
LAST-MODIFIED:20230624T161349Z
UID:92415-1694282400-1694282400@klassikauto.pl
SUMMARY:Silesia Rally Sprint
DESCRIPTION:Impreza towarzysząca Rajd Śląska 2023
URL:https://klassikauto.pl/impreza/silesia-rally-sprint/
LOCATION:Chorzów
CATEGORIES:Rajd
END:VEVENT
END:VCALENDAR
<!-- RunCloud Hub 2026-04-22 20:11:13 -->