BEGIN:VCALENDAR
VERSION:2.0
PRODID:-//KlassikAuto.pl - ECPv6.7.0//NONSGML v1.0//EN
CALSCALE:GREGORIAN
METHOD:PUBLISH
X-WR-CALNAME:KlassikAuto.pl
X-ORIGINAL-URL:https://klassikauto.pl
X-WR-CALDESC:Wydarzenia dla KlassikAuto.pl
REFRESH-INTERVAL;VALUE=DURATION:PT1H
X-Robots-Tag:noindex
X-PUBLISHED-TTL:PT1H
BEGIN:VTIMEZONE
TZID:Europe/Helsinki
BEGIN:DAYLIGHT
TZOFFSETFROM:+0200
TZOFFSETTO:+0300
TZNAME:EEST
DTSTART:20230326T010000
END:DAYLIGHT
BEGIN:STANDARD
TZOFFSETFROM:+0300
TZOFFSETTO:+0200
TZNAME:EET
DTSTART:20231029T010000
END:STANDARD
END:VTIMEZONE
BEGIN:VEVENT
DTSTART;TZID=Europe/Helsinki:20230907T130000
DTEND;TZID=Europe/Helsinki:20230910T150000
DTSTAMP:20260422T124704
CREATED:20230410T150432Z
LAST-MODIFIED:20230410T150432Z
UID:89675-1694091600-1694358000@klassikauto.pl
SUMMARY:Fiat 124 Spider Club e.V. Herbsttreffen
DESCRIPTION:
URL:https://klassikauto.pl/impreza/fiat-124-spider-club-e-v-herbsttreffen/
LOCATION:Wermelskirchen\, Niemcy
CATEGORIES:Zlot
END:VEVENT
BEGIN:VEVENT
DTSTART;TZID=Europe/Helsinki:20230907T160000
DTEND;TZID=Europe/Helsinki:20230910T100000
DTSTAMP:20260422T124704
CREATED:20230501T070712Z
LAST-MODIFIED:20230501T070712Z
UID:90227-1694102400-1694340000@klassikauto.pl
SUMMARY:50. Poznański Międzynarodowy Rajd Pojazdów Zabytkowych
DESCRIPTION:
URL:https://klassikauto.pl/impreza/50-poznanski-miedzynarodowy-rajd-pojazdow-zabytkowych/
LOCATION:Poznań
CATEGORIES:Rajd
END:VEVENT
BEGIN:VEVENT
DTSTART;TZID=Europe/Helsinki:20230907T180000
DTEND;TZID=Europe/Helsinki:20230907T213000
DTSTAMP:20260422T124704
CREATED:20230831T155836Z
LAST-MODIFIED:20230831T155836Z
UID:94808-1694109600-1694122200@klassikauto.pl
SUMMARY:Graciarskie Obiadki Czwartkowe No9
DESCRIPTION:
URL:https://klassikauto.pl/impreza/graciarskie-obiadki-czwartkowe-no9/
LOCATION:Poznań
CATEGORIES:Zlot
END:VEVENT
END:VCALENDAR
<!-- RunCloud Hub 2026-04-22 11:47:04 -->