BEGIN:VCALENDAR
VERSION:2.0
PRODID:-//KlassikAuto.pl - ECPv6.7.0//NONSGML v1.0//EN
CALSCALE:GREGORIAN
METHOD:PUBLISH
X-ORIGINAL-URL:https://klassikauto.pl
X-WR-CALDESC:Wydarzenia dla KlassikAuto.pl
REFRESH-INTERVAL;VALUE=DURATION:PT1H
X-Robots-Tag:noindex
X-PUBLISHED-TTL:PT1H
BEGIN:VTIMEZONE
TZID:Europe/Helsinki
BEGIN:DAYLIGHT
TZOFFSETFROM:+0200
TZOFFSETTO:+0300
TZNAME:EEST
DTSTART:20230326T010000
END:DAYLIGHT
BEGIN:STANDARD
TZOFFSETFROM:+0300
TZOFFSETTO:+0200
TZNAME:EET
DTSTART:20231029T010000
END:STANDARD
END:VTIMEZONE
BEGIN:VEVENT
DTSTART;TZID=Europe/Helsinki:20230707T080000
DTEND;TZID=Europe/Helsinki:20230903T170000
DTSTAMP:20260422T082954
CREATED:20230413T145923Z
LAST-MODIFIED:20230413T145923Z
UID:89854-1688716800-1693760400@klassikauto.pl
SUMMARY:Mahy\, a family of cars. The barnfind collection
DESCRIPTION:
URL:https://klassikauto.pl/impreza/mahy-a-family-of-cars-the-barnfind-collection/
LOCATION:Muzeum Autoworld\, Bruksela\, Belgia
CATEGORIES:Wystawa
END:VEVENT
BEGIN:VEVENT
DTSTART;TZID=Europe/Helsinki:20230830T180000
DTEND;TZID=Europe/Helsinki:20230901T120000
DTSTAMP:20260422T082954
CREATED:20230519T150549Z
LAST-MODIFIED:20230519T150549Z
UID:90841-1693418400-1693569600@klassikauto.pl
SUMMARY:Classic 4 Rings - Audi / NSU Oldtimer & Youngtimer bis 1994
DESCRIPTION:
URL:https://klassikauto.pl/impreza/classic-4-rings-audi-nsu-oldtimer-youngtimer-bis-1994/
LOCATION:Markleeberg\, Niemcy
CATEGORIES:Zlot
END:VEVENT
BEGIN:VEVENT
DTSTART;TZID=Europe/Helsinki:20230901T080000
DTEND;TZID=Europe/Helsinki:20230903T170000
DTSTAMP:20260422T082954
CREATED:20230212T131815Z
LAST-MODIFIED:20230212T131815Z
UID:87881-1693555200-1693760400@klassikauto.pl
SUMMARY:21 Ogólnopolski Zlot Renault 2023
DESCRIPTION:
URL:https://klassikauto.pl/impreza/21-ogolnopolski-zlot-renault-2023/
LOCATION:Topornia
CATEGORIES:Zlot
END:VEVENT
BEGIN:VEVENT
DTSTART;TZID=Europe/Helsinki:20230901T080000
DTEND;TZID=Europe/Helsinki:20230903T170000
DTSTAMP:20260422T082954
CREATED:20230625T082418Z
LAST-MODIFIED:20230625T082418Z
UID:92558-1693555200-1693760400@klassikauto.pl
SUMMARY:5 Turystyczny Rajd MINI
DESCRIPTION:
URL:https://klassikauto.pl/impreza/5-turystyczny-rajd-mini/
LOCATION:Jura Krakowsko-Częstochowska
CATEGORIES:Rajd
END:VEVENT
BEGIN:VEVENT
DTSTART;TZID=Europe/Helsinki:20230901T080000
DTEND;TZID=Europe/Helsinki:20230903T170000
DTSTAMP:20260422T082954
CREATED:20230828T165415Z
LAST-MODIFIED:20230828T165415Z
UID:94645-1693555200-1693760400@klassikauto.pl
SUMMARY:Wyprawa CABRIO JURA
DESCRIPTION:
URL:https://klassikauto.pl/impreza/wyprawa-cabrio-jura/
LOCATION:Olsztyn k. Częstochowy
CATEGORIES:Rajd
END:VEVENT
BEGIN:VEVENT
DTSTART;TZID=Europe/Helsinki:20230901T110000
DTEND;TZID=Europe/Helsinki:20230902T220000
DTSTAMP:20260422T082954
CREATED:20230828T171946Z
LAST-MODIFIED:20230828T171946Z
UID:94653-1693566000-1693692000@klassikauto.pl
SUMMARY:I Zlot Miłośników Militariów i Amerykańskiej Motoryzacji
DESCRIPTION:
URL:https://klassikauto.pl/impreza/i-zlot-milosnikow-militariow-i-amerykanskiej-motoryzacji/
LOCATION:Golub-Dobrzyń
CATEGORIES:Zlot
END:VEVENT
BEGIN:VEVENT
DTSTART;TZID=Europe/Helsinki:20230901T120000
DTEND;TZID=Europe/Helsinki:20230903T120000
DTSTAMP:20260422T082954
CREATED:20230312T163123Z
LAST-MODIFIED:20230312T163427Z
UID:88845-1693569600-1693742400@klassikauto.pl
SUMMARY:5 zlot Passat 35i Family
DESCRIPTION:
URL:https://klassikauto.pl/impreza/5-zlot-passat-35i-family/
LOCATION:Jeziorsko
CATEGORIES:Zlot
END:VEVENT
BEGIN:VEVENT
DTSTART;TZID=Europe/Helsinki:20230901T123000
DTEND;TZID=Europe/Helsinki:20230903T140000
DTSTAMP:20260422T082954
CREATED:20230831T155418Z
LAST-MODIFIED:20230831T155418Z
UID:94806-1693571400-1693749600@klassikauto.pl
SUMMARY:10 Spęęd Wypasionych Garbusów\,
DESCRIPTION:
URL:https://klassikauto.pl/impreza/10-speed-wypasionych-garbusow/
LOCATION:Rudawka Rymanowska
CATEGORIES:Zlot
END:VEVENT
BEGIN:VEVENT
DTSTART;TZID=Europe/Helsinki:20230901T130000
DTEND;TZID=Europe/Helsinki:20230903T120000
DTSTAMP:20260422T082954
CREATED:20230625T081114Z
LAST-MODIFIED:20230625T081114Z
UID:92553-1693573200-1693742400@klassikauto.pl
SUMMARY:54. Mezinárodní Tatra Veterán Rallye Beskydy 2023 a 40. Memoriál z.m.s. Josefa Veřmiřovského
DESCRIPTION:
URL:https://klassikauto.pl/impreza/54-mezinarodni-tatra-veteran-rallye-beskydy-2023-a-40-memorial-z-m-s-josefa-vermirovskeho/
LOCATION:Horní Bečva\, Czechy
CATEGORIES:Rajd
END:VEVENT
BEGIN:VEVENT
DTSTART;TZID=Europe/Helsinki:20230901T150000
DTEND;TZID=Europe/Helsinki:20230903T100000
DTSTAMP:20260422T082954
CREATED:20230312T163746Z
LAST-MODIFIED:20230312T163746Z
UID:88851-1693580400-1693735200@klassikauto.pl
SUMMARY:7 Ogólnopolski Zlot "Skodomania"
DESCRIPTION:
URL:https://klassikauto.pl/impreza/7-ogolnopolski-zlot-skodomania/
LOCATION:Dobczyce
CATEGORIES:Zlot
END:VEVENT
BEGIN:VEVENT
DTSTART;TZID=Europe/Helsinki:20230901T150000
DTEND;TZID=Europe/Helsinki:20230903T110000
DTSTAMP:20260422T082954
CREATED:20230828T173500Z
LAST-MODIFIED:20230828T173500Z
UID:94664-1693580400-1693738800@klassikauto.pl
SUMMARY:21 Zlot MitsuManiaków Grudziądz
DESCRIPTION:
URL:https://klassikauto.pl/impreza/21-zlot-mitsumaniakow-grudziadz/
LOCATION:Grudziądz
CATEGORIES:Zlot
END:VEVENT
BEGIN:VEVENT
DTSTART;TZID=Europe/Helsinki:20230901T150000
DTEND;TZID=Europe/Helsinki:20230903T180000
DTSTAMP:20260422T082954
CREATED:20230312T163554Z
LAST-MODIFIED:20230312T163554Z
UID:88849-1693580400-1693764000@klassikauto.pl
SUMMARY:8 Małomiasteczkowy Zlot Klasyków 2023
DESCRIPTION:
URL:https://klassikauto.pl/impreza/8-malomiasteczkowy-zlot-klasykow-2023/
LOCATION:Marklowice
CATEGORIES:Zlot
END:VEVENT
BEGIN:VEVENT
DTSTART;TZID=Europe/Helsinki:20230901T160000
DTEND;TZID=Europe/Helsinki:20230903T160000
DTSTAMP:20260422T082954
CREATED:20230831T143046Z
LAST-MODIFIED:20230831T143046Z
UID:94766-1693584000-1693756800@klassikauto.pl
SUMMARY:VI Zlot Motocyklowy
DESCRIPTION:
URL:https://klassikauto.pl/impreza/vi-zlot-motocyklowy/
LOCATION:Czarna Wieś
CATEGORIES:Zlot
END:VEVENT
BEGIN:VEVENT
DTSTART;TZID=Europe/Helsinki:20230901T163000
DTEND;TZID=Europe/Helsinki:20230903T160000
DTSTAMP:20260422T082954
CREATED:20230831T154654Z
LAST-MODIFIED:20230831T154654Z
UID:94801-1693585800-1693756800@klassikauto.pl
SUMMARY:United Crew Event 2k23
DESCRIPTION:
URL:https://klassikauto.pl/impreza/united-crew-event-2k23/
LOCATION:Rzezawa
CATEGORIES:Zlot
END:VEVENT
END:VCALENDAR
<!-- RunCloud Hub 2026-04-22 07:29:54 -->