BEGIN:VCALENDAR
VERSION:2.0
PRODID:-//KlassikAuto.pl - ECPv6.7.0//NONSGML v1.0//EN
CALSCALE:GREGORIAN
METHOD:PUBLISH
X-WR-CALNAME:KlassikAuto.pl
X-ORIGINAL-URL:https://klassikauto.pl
X-WR-CALDESC:Wydarzenia dla KlassikAuto.pl
REFRESH-INTERVAL;VALUE=DURATION:PT1H
X-Robots-Tag:noindex
X-PUBLISHED-TTL:PT1H
BEGIN:VTIMEZONE
TZID:Europe/Helsinki
BEGIN:DAYLIGHT
TZOFFSETFROM:+0200
TZOFFSETTO:+0300
TZNAME:EEST
DTSTART:20230326T010000
END:DAYLIGHT
BEGIN:STANDARD
TZOFFSETFROM:+0300
TZOFFSETTO:+0200
TZNAME:EET
DTSTART:20231029T010000
END:STANDARD
END:VTIMEZONE
BEGIN:VEVENT
DTSTART;TZID=Europe/Helsinki:20230707T080000
DTEND;TZID=Europe/Helsinki:20230903T170000
DTSTAMP:20260422T082724
CREATED:20230413T145923Z
LAST-MODIFIED:20230413T145923Z
UID:89854-1688716800-1693760400@klassikauto.pl
SUMMARY:Mahy\, a family of cars. The barnfind collection
DESCRIPTION:
URL:https://klassikauto.pl/impreza/mahy-a-family-of-cars-the-barnfind-collection/
LOCATION:Muzeum Autoworld\, Bruksela\, Belgia
CATEGORIES:Wystawa
END:VEVENT
BEGIN:VEVENT
DTSTART;TZID=Europe/Helsinki:20230806T080000
DTEND;TZID=Europe/Helsinki:20230820T170000
DTSTAMP:20260422T082724
CREATED:20230222T180714Z
LAST-MODIFIED:20230222T180714Z
UID:88262-1691308800-1692550800@klassikauto.pl
SUMMARY:Pebble Beach Motoring Classic
DESCRIPTION:
URL:https://klassikauto.pl/impreza/pebble-beach-motoring-classic/
LOCATION:Monterey\, USA
CATEGORIES:Rajd
END:VEVENT
BEGIN:VEVENT
DTSTART;TZID=Europe/Helsinki:20230817T080000
DTEND;TZID=Europe/Helsinki:20230819T170000
DTSTAMP:20260422T082724
CREATED:20230222T180438Z
LAST-MODIFIED:20230222T180438Z
UID:88260-1692259200-1692464400@klassikauto.pl
SUMMARY:Pebble Beach RetroAuto
DESCRIPTION:
URL:https://klassikauto.pl/impreza/pebble-beach-retroauto/
LOCATION:Monterey\, USA
CATEGORIES:Targi
END:VEVENT
BEGIN:VEVENT
DTSTART;TZID=Europe/Helsinki:20230818T080000
DTEND;TZID=Europe/Helsinki:20230819T170000
DTSTAMP:20260422T082724
CREATED:20230222T180840Z
LAST-MODIFIED:20230222T180840Z
UID:88264-1692345600-1692464400@klassikauto.pl
SUMMARY:Pebble Beach Auctions
DESCRIPTION:
URL:https://klassikauto.pl/impreza/pebble-beach-auctions/
LOCATION:Monterey\, USA
CATEGORIES:Aukcja
END:VEVENT
BEGIN:VEVENT
DTSTART;TZID=Europe/Helsinki:20230818T080000
DTEND;TZID=Europe/Helsinki:20230820T170000
DTSTAMP:20260422T082724
CREATED:20230523T180046Z
LAST-MODIFIED:20230523T180046Z
UID:91173-1692345600-1692550800@klassikauto.pl
SUMMARY:Zlot Pojazdów Militarnych w Szklarach
DESCRIPTION:
URL:https://klassikauto.pl/impreza/zlot-pojazdow-militarnych-w-szklarach/
LOCATION:Szklary
CATEGORIES:Zlot
END:VEVENT
BEGIN:VEVENT
DTSTART;TZID=Europe/Helsinki:20230818T080000
DTEND;TZID=Europe/Helsinki:20230820T170000
DTSTAMP:20260422T082724
CREATED:20230625T081943Z
LAST-MODIFIED:20230625T081943Z
UID:92556-1692345600-1692550800@klassikauto.pl
SUMMARY:IX Rajd kantYny
DESCRIPTION:
URL:https://klassikauto.pl/impreza/ix-rajd-kantyny/
LOCATION:Kraków
CATEGORIES:Rajd
END:VEVENT
BEGIN:VEVENT
DTSTART;TZID=Europe/Helsinki:20230818T140000
DTEND;TZID=Europe/Helsinki:20230820T170000
DTSTAMP:20260422T082724
CREATED:20230624T111205Z
LAST-MODIFIED:20230624T111205Z
UID:92224-1692367200-1692550800@klassikauto.pl
SUMMARY:1. Opavský sraz Fiat 126P
DESCRIPTION:
URL:https://klassikauto.pl/impreza/1-opavsky-sraz-fiat-126p/
LOCATION:Úvalno\, Czechy
CATEGORIES:Zlot
END:VEVENT
BEGIN:VEVENT
DTSTART;TZID=Europe/Helsinki:20230819T080000
DTEND;TZID=Europe/Helsinki:20230819T170000
DTSTAMP:20260422T082724
CREATED:20230624T135929Z
LAST-MODIFIED:20230624T135929Z
UID:92384-1692432000-1692464400@klassikauto.pl
SUMMARY:Schmallenberger Veteranen Tour
DESCRIPTION:
URL:https://klassikauto.pl/impreza/schmallenberger-veteranen-tour/
LOCATION:Schmallenberg\, Niemcy
CATEGORIES:Rajd
END:VEVENT
BEGIN:VEVENT
DTSTART;TZID=Europe/Helsinki:20230819T080000
DTEND;TZID=Europe/Helsinki:20230820T170000
DTSTAMP:20260422T082724
CREATED:20230624T130552Z
LAST-MODIFIED:20230624T130552Z
UID:92334-1692432000-1692550800@klassikauto.pl
SUMMARY:Oldtimer-Sommerfest
DESCRIPTION:Berus
URL:https://klassikauto.pl/impreza/oldtimer-sommerfest/
LOCATION:Berus\, Niemcy
CATEGORIES:Zlot
END:VEVENT
BEGIN:VEVENT
DTSTART;TZID=Europe/Helsinki:20230819T083000
DTEND;TZID=Europe/Helsinki:20230819T193000
DTSTAMP:20260422T082724
CREATED:20230312T160136Z
LAST-MODIFIED:20230312T160136Z
UID:88833-1692433800-1692473400@klassikauto.pl
SUMMARY:6e Porsche Classic Coast Tour
DESCRIPTION:
URL:https://klassikauto.pl/impreza/6e-porsche-classic-coast-tour/
LOCATION:De Haan\, Belgia
CATEGORIES:Rajd
END:VEVENT
BEGIN:VEVENT
DTSTART;TZID=Europe/Helsinki:20230819T100000
DTEND;TZID=Europe/Helsinki:20230819T170000
DTSTAMP:20260422T082724
CREATED:20230312T160234Z
LAST-MODIFIED:20230312T160234Z
UID:88836-1692439200-1692464400@klassikauto.pl
SUMMARY:VI Ogólnopolski Zlot Czerwonych Samochodów w Poznaniu
DESCRIPTION:
URL:https://klassikauto.pl/impreza/vi-ogolnopolski-zlot-czerwonych-samochodow-w-poznaniu/
LOCATION:Poznań
CATEGORIES:Zlot
END:VEVENT
BEGIN:VEVENT
DTSTART;TZID=Europe/Helsinki:20230819T120000
DTEND;TZID=Europe/Helsinki:20230819T200000
DTSTAMP:20260422T082724
CREATED:20230624T121148Z
LAST-MODIFIED:20230624T121148Z
UID:92279-1692446400-1692475200@klassikauto.pl
SUMMARY:The Adventure - Keep Rollin!
DESCRIPTION:
URL:https://klassikauto.pl/impreza/the-adventure-keep-rollin/
LOCATION:Enspel\, Niemcy
CATEGORIES:Zlot
END:VEVENT
BEGIN:VEVENT
DTSTART;TZID=Europe/Helsinki:20230819T120000
DTEND;TZID=Europe/Helsinki:20230820T170000
DTSTAMP:20260422T082724
CREATED:20230410T150111Z
LAST-MODIFIED:20230410T150111Z
UID:89670-1692446400-1692550800@klassikauto.pl
SUMMARY:Classic Cars Mondorf 2023
DESCRIPTION:
URL:https://klassikauto.pl/impreza/classic-cars-mondorf-2023/
LOCATION:Niederkassel\, Niemcy
CATEGORIES:Zlot
END:VEVENT
END:VCALENDAR
<!-- RunCloud Hub 2026-04-22 07:27:24 -->