BEGIN:VCALENDAR
VERSION:2.0
PRODID:-//KlassikAuto.pl - ECPv6.7.0//NONSGML v1.0//EN
CALSCALE:GREGORIAN
METHOD:PUBLISH
X-WR-CALNAME:KlassikAuto.pl
X-ORIGINAL-URL:https://klassikauto.pl
X-WR-CALDESC:Wydarzenia dla KlassikAuto.pl
REFRESH-INTERVAL;VALUE=DURATION:PT1H
X-Robots-Tag:noindex
X-PUBLISHED-TTL:PT1H
BEGIN:VTIMEZONE
TZID:Europe/Helsinki
BEGIN:DAYLIGHT
TZOFFSETFROM:+0200
TZOFFSETTO:+0300
TZNAME:EEST
DTSTART:20230326T010000
END:DAYLIGHT
BEGIN:STANDARD
TZOFFSETFROM:+0300
TZOFFSETTO:+0200
TZNAME:EET
DTSTART:20231029T010000
END:STANDARD
END:VTIMEZONE
BEGIN:VEVENT
DTSTART;TZID=Europe/Helsinki:20230707T080000
DTEND;TZID=Europe/Helsinki:20230903T170000
DTSTAMP:20260422T082737
CREATED:20230413T145923Z
LAST-MODIFIED:20230413T145923Z
UID:89854-1688716800-1693760400@klassikauto.pl
SUMMARY:Mahy\, a family of cars. The barnfind collection
DESCRIPTION:
URL:https://klassikauto.pl/impreza/mahy-a-family-of-cars-the-barnfind-collection/
LOCATION:Muzeum Autoworld\, Bruksela\, Belgia
CATEGORIES:Wystawa
END:VEVENT
BEGIN:VEVENT
DTSTART;TZID=Europe/Helsinki:20230806T080000
DTEND;TZID=Europe/Helsinki:20230820T170000
DTSTAMP:20260422T082737
CREATED:20230222T180714Z
LAST-MODIFIED:20230222T180714Z
UID:88262-1691308800-1692550800@klassikauto.pl
SUMMARY:Pebble Beach Motoring Classic
DESCRIPTION:
URL:https://klassikauto.pl/impreza/pebble-beach-motoring-classic/
LOCATION:Monterey\, USA
CATEGORIES:Rajd
END:VEVENT
BEGIN:VEVENT
DTSTART;TZID=Europe/Helsinki:20230810T080000
DTEND;TZID=Europe/Helsinki:20230811T200000
DTSTAMP:20260422T082737
CREATED:20230519T151133Z
LAST-MODIFIED:20230519T151133Z
UID:90847-1691654400-1691784000@klassikauto.pl
SUMMARY:5. Insel Classic - Oldtimerwelten Uhyst/Spree - Oldtimertreffen
DESCRIPTION:
URL:https://klassikauto.pl/impreza/5-insel-classic-oldtimerwelten-uhyst-spree-oldtimertreffen/
LOCATION:Uhyst/Spree\, Niemcy
CATEGORIES:Zlot
END:VEVENT
BEGIN:VEVENT
DTSTART;TZID=Europe/Helsinki:20230811T080000
DTEND;TZID=Europe/Helsinki:20230813T170000
DTSTAMP:20260422T082737
CREATED:20230212T134044Z
LAST-MODIFIED:20230212T134044Z
UID:87907-1691740800-1691946000@klassikauto.pl
SUMMARY:Oldtimer Grand-Prix
DESCRIPTION:
URL:https://klassikauto.pl/impreza/oldtimer-grand-prix/
LOCATION:Nuerburgring\, Niemcy
CATEGORIES:Rajd
END:VEVENT
BEGIN:VEVENT
DTSTART;TZID=Europe/Helsinki:20230811T080000
DTEND;TZID=Europe/Helsinki:20230813T170000
DTSTAMP:20260422T082737
CREATED:20230624T134744Z
LAST-MODIFIED:20230624T134744Z
UID:92371-1691740800-1691946000@klassikauto.pl
SUMMARY:US-Car & Oldtimer Festival an der Düstermühle
DESCRIPTION:
URL:https://klassikauto.pl/impreza/us-car-oldtimer-festival-an-der-dustermuhle/
LOCATION:Legden\, Niemcy
CATEGORIES:Zlot
END:VEVENT
BEGIN:VEVENT
DTSTART;TZID=Europe/Helsinki:20230811T080000
DTEND;TZID=Europe/Helsinki:20230813T180000
DTSTAMP:20260422T082737
CREATED:20230410T150304Z
LAST-MODIFIED:20230410T150304Z
UID:89673-1691740800-1691949600@klassikauto.pl
SUMMARY:50. Oldtimer-Grand-Prix Nürburgring
DESCRIPTION:
URL:https://klassikauto.pl/impreza/50-oldtimer-grand-prix-nurburgring/
LOCATION:Nuerburgring\, Niemcy
CATEGORIES:Rajd
END:VEVENT
BEGIN:VEVENT
DTSTART;TZID=Europe/Helsinki:20230811T080000
DTEND;TZID=Europe/Helsinki:20230815T200000
DTSTAMP:20260422T082737
CREATED:20230624T141506Z
LAST-MODIFIED:20230624T141506Z
UID:92403-1691740800-1692129600@klassikauto.pl
SUMMARY:19 Ogólnopolski Zlot Fiata 126
DESCRIPTION:
URL:https://klassikauto.pl/impreza/19-ogolnopolski-zlot-fiata-126/
LOCATION:Tułowice
CATEGORIES:Zlot
END:VEVENT
END:VCALENDAR
<!-- RunCloud Hub 2026-04-22 07:27:37 -->