BEGIN:VCALENDAR
VERSION:2.0
PRODID:-//KlassikAuto.pl - ECPv6.7.0//NONSGML v1.0//EN
CALSCALE:GREGORIAN
METHOD:PUBLISH
X-ORIGINAL-URL:https://klassikauto.pl
X-WR-CALDESC:Wydarzenia dla KlassikAuto.pl
REFRESH-INTERVAL;VALUE=DURATION:PT1H
X-Robots-Tag:noindex
X-PUBLISHED-TTL:PT1H
BEGIN:VTIMEZONE
TZID:Europe/Helsinki
BEGIN:DAYLIGHT
TZOFFSETFROM:+0200
TZOFFSETTO:+0300
TZNAME:EEST
DTSTART:20230326T010000
END:DAYLIGHT
BEGIN:STANDARD
TZOFFSETFROM:+0300
TZOFFSETTO:+0200
TZNAME:EET
DTSTART:20231029T010000
END:STANDARD
END:VTIMEZONE
BEGIN:VEVENT
DTSTART;TZID=Europe/Helsinki:20230707T080000
DTEND;TZID=Europe/Helsinki:20230903T170000
DTSTAMP:20260422T085944
CREATED:20230413T145923Z
LAST-MODIFIED:20230413T145923Z
UID:89854-1688716800-1693760400@klassikauto.pl
SUMMARY:Mahy\, a family of cars. The barnfind collection
DESCRIPTION:
URL:https://klassikauto.pl/impreza/mahy-a-family-of-cars-the-barnfind-collection/
LOCATION:Muzeum Autoworld\, Bruksela\, Belgia
CATEGORIES:Wystawa
END:VEVENT
BEGIN:VEVENT
DTSTART;TZID=Europe/Helsinki:20230803T080000
DTEND;TZID=Europe/Helsinki:20230806T170000
DTSTAMP:20260422T085944
CREATED:20230625T080750Z
LAST-MODIFIED:20230625T080756Z
UID:92551-1691049600-1691341200@klassikauto.pl
SUMMARY:21. Karlovarská Veteran Rallye
DESCRIPTION:
URL:https://klassikauto.pl/impreza/21-karlovarska-veteran-rallye/
LOCATION:Karlove Vary\, Czechy
CATEGORIES:Rajd
END:VEVENT
BEGIN:VEVENT
DTSTART;TZID=Europe/Helsinki:20230804T080000
DTEND;TZID=Europe/Helsinki:20230806T170000
DTSTAMP:20260422T085944
CREATED:20230624T113430Z
LAST-MODIFIED:20230624T113430Z
UID:92243-1691136000-1691341200@klassikauto.pl
SUMMARY:1. ročník Hvězdonické autování
DESCRIPTION:
URL:https://klassikauto.pl/impreza/1-rocnik-hvezdonicke-autovani/
LOCATION:Hvězdonice\, Czechy
END:VEVENT
BEGIN:VEVENT
DTSTART;TZID=Europe/Helsinki:20230804T080000
DTEND;TZID=Europe/Helsinki:20230806T170000
DTSTAMP:20260422T085944
CREATED:20230625T075424Z
LAST-MODIFIED:20230625T075424Z
UID:92537-1691136000-1691341200@klassikauto.pl
SUMMARY:Tatranský Veterán 2023
DESCRIPTION:34 edycja wydarzenia
URL:https://klassikauto.pl/impreza/tatransky-veteran-2023/
LOCATION:Vysoke Tatry\, Czechy
CATEGORIES:Zlot
END:VEVENT
BEGIN:VEVENT
DTSTART;TZID=Europe/Helsinki:20230804T080000
DTEND;TZID=Europe/Helsinki:20230806T170000
DTSTAMP:20260422T085944
CREATED:20230625T085256Z
LAST-MODIFIED:20230625T085256Z
UID:92570-1691136000-1691341200@klassikauto.pl
SUMMARY:Classic Days 2023
DESCRIPTION:
URL:https://klassikauto.pl/impreza/classic-days-2023/
LOCATION:Düsseldorf\, Niemcy
CATEGORIES:Zlot
END:VEVENT
BEGIN:VEVENT
DTSTART;TZID=Europe/Helsinki:20230804T100000
DTEND;TZID=Europe/Helsinki:20230806T100000
DTSTAMP:20260422T085944
CREATED:20230624T112243Z
LAST-MODIFIED:20230624T112243Z
UID:92230-1691143200-1691316000@klassikauto.pl
SUMMARY:Sycherák sraz Fiat 126p
DESCRIPTION:
URL:https://klassikauto.pl/impreza/sycherak-sraz-fiat-126p/
LOCATION:Stráž\, Czechy
CATEGORIES:Zlot
END:VEVENT
BEGIN:VEVENT
DTSTART;TZID=Europe/Helsinki:20230804T160000
DTEND;TZID=Europe/Helsinki:20230806T120000
DTSTAMP:20260422T085944
CREATED:20230519T145655Z
LAST-MODIFIED:20230519T145655Z
UID:90833-1691164800-1691323200@klassikauto.pl
SUMMARY:Fajer u Puklorzy #1
DESCRIPTION:
URL:https://klassikauto.pl/impreza/fajer-u-puklorzy-1/
LOCATION:Pyskowice
CATEGORIES:Zlot
END:VEVENT
BEGIN:VEVENT
DTSTART;TZID=Europe/Helsinki:20230804T160000
DTEND;TZID=Europe/Helsinki:20230806T133000
DTSTAMP:20260422T085944
CREATED:20230205T122047Z
LAST-MODIFIED:20230205T122047Z
UID:87611-1691164800-1691328600@klassikauto.pl
SUMMARY:XI Wałbrzyski Międzynarodowy Rajd Pojazdów Zabytkowych - Browary i klasztory
DESCRIPTION:Trasa polsko-czeska
URL:https://klassikauto.pl/impreza/xi-walbrzyski-miedzynarodowy-rajd-pojazdow-zabytkowych-browary-i-klasztory/
LOCATION:Wałbrzych
CATEGORIES:Rajd
END:VEVENT
BEGIN:VEVENT
DTSTART;TZID=Europe/Helsinki:20230804T170000
DTEND;TZID=Europe/Helsinki:20230806T170000
DTSTAMP:20260422T085944
CREATED:20230212T122846Z
LAST-MODIFIED:20230212T122846Z
UID:87852-1691168400-1691341200@klassikauto.pl
SUMMARY:Kustom Konwent 2023 Wrocław - 10th Anniversary
DESCRIPTION:
URL:https://klassikauto.pl/impreza/kustom-konwent-2023-wroclaw-10th-anniversary/
LOCATION:Wrocław\, Wrocław\, Poland
CATEGORIES:Zlot
END:VEVENT
BEGIN:VEVENT
DTSTART;TZID=Europe/Helsinki:20230805T080000
DTEND;TZID=Europe/Helsinki:20230806T170000
DTSTAMP:20260422T085944
CREATED:20230410T140230Z
LAST-MODIFIED:20230410T140230Z
UID:89636-1691222400-1691341200@klassikauto.pl
SUMMARY:XV Zlot Zabytkowych Pojazdów
DESCRIPTION:
URL:https://klassikauto.pl/impreza/xv-zlot-zabytkowych-pojazdow/
LOCATION:Miasteczko Galicyjskie w Nowym Sączu
CATEGORIES:Zlot
END:VEVENT
BEGIN:VEVENT
DTSTART;TZID=Europe/Helsinki:20230805T080000
DTEND;TZID=Europe/Helsinki:20230806T170000
DTSTAMP:20260422T085944
CREATED:20230625T090159Z
LAST-MODIFIED:20230625T090458Z
UID:92578-1691222400-1691341200@klassikauto.pl
SUMMARY:Palatina Klassik 2023 – Romatische Straße
DESCRIPTION:
URL:https://klassikauto.pl/impreza/palatina-klassik-2023-romatische-strase/
LOCATION:Speyer\, Niemcy
CATEGORIES:Rajd
END:VEVENT
BEGIN:VEVENT
DTSTART;TZID=Europe/Helsinki:20230805T130000
DTEND;TZID=Europe/Helsinki:20230806T170000
DTSTAMP:20260422T085944
CREATED:20230212T123150Z
LAST-MODIFIED:20230212T123150Z
UID:87854-1691240400-1691341200@klassikauto.pl
SUMMARY:Retro Show Poziom 4 Zlot Old / Youngtimer
DESCRIPTION:
URL:https://klassikauto.pl/impreza/retro-show-poziom-4-zlot-old-youngtimer/
LOCATION:Lubawa
CATEGORIES:Zlot
END:VEVENT
BEGIN:VEVENT
DTSTART;TZID=Europe/Helsinki:20230806T080000
DTEND;TZID=Europe/Helsinki:20230820T170000
DTSTAMP:20260422T085944
CREATED:20230222T180714Z
LAST-MODIFIED:20230222T180714Z
UID:88262-1691308800-1692550800@klassikauto.pl
SUMMARY:Pebble Beach Motoring Classic
DESCRIPTION:
URL:https://klassikauto.pl/impreza/pebble-beach-motoring-classic/
LOCATION:Monterey\, USA
CATEGORIES:Rajd
END:VEVENT
BEGIN:VEVENT
DTSTART;TZID=Europe/Helsinki:20230806T093000
DTEND;TZID=Europe/Helsinki:20230806T173000
DTSTAMP:20260422T085944
CREATED:20230624T122658Z
LAST-MODIFIED:20230624T122658Z
UID:92289-1691314200-1691343000@klassikauto.pl
SUMMARY:Risenation Belgian Chapter VI
DESCRIPTION:
URL:https://klassikauto.pl/impreza/risenation-belgian-chapter-vi/
LOCATION:Hélécine\, Belgia
CATEGORIES:Zlot
END:VEVENT
BEGIN:VEVENT
DTSTART;TZID=Europe/Helsinki:20230806T100000
DTEND;TZID=Europe/Helsinki:20230806T170000
DTSTAMP:20260422T085944
CREATED:20230624T120220Z
LAST-MODIFIED:20230624T120220Z
UID:92263-1691316000-1691341200@klassikauto.pl
SUMMARY:4 ClK Treffen in OWL
DESCRIPTION:
URL:https://klassikauto.pl/impreza/4-clk-treffen-in-owl/
LOCATION:Schloß Holte-Stukenbrock\, Niemcy
CATEGORIES:Zlot
END:VEVENT
BEGIN:VEVENT
DTSTART;TZID=Europe/Helsinki:20230806T110000
DTEND;TZID=Europe/Helsinki:20230806T170000
DTSTAMP:20260422T085944
CREATED:20230624T135314Z
LAST-MODIFIED:20230624T135314Z
UID:92376-1691319600-1691341200@klassikauto.pl
SUMMARY:Oldtimer-Show GMVA Oberhausen
DESCRIPTION:
URL:https://klassikauto.pl/impreza/oldtimer-show-gmva-oberhausen/
LOCATION:Oberhausen\, Niemcy
CATEGORIES:Zlot
END:VEVENT
BEGIN:VEVENT
DTSTART;TZID=Europe/Helsinki:20230806T110000
DTEND;TZID=Europe/Helsinki:20230806T170000
DTSTAMP:20260422T085944
CREATED:20230624T135434Z
LAST-MODIFIED:20230624T135434Z
UID:92378-1691319600-1691341200@klassikauto.pl
SUMMARY:T.d.o.T mit Oldtimer Show
DESCRIPTION:
URL:https://klassikauto.pl/impreza/t-d-o-t-mit-oldtimer-show/
LOCATION:Niederhhein\, Niemcy
CATEGORIES:Zlot
END:VEVENT
END:VCALENDAR
<!-- RunCloud Hub 2026-04-22 07:59:44 -->