BEGIN:VCALENDAR
VERSION:2.0
PRODID:-//KlassikAuto.pl - ECPv6.7.0//NONSGML v1.0//EN
CALSCALE:GREGORIAN
METHOD:PUBLISH
X-ORIGINAL-URL:https://klassikauto.pl
X-WR-CALDESC:Wydarzenia dla KlassikAuto.pl
REFRESH-INTERVAL;VALUE=DURATION:PT1H
X-Robots-Tag:noindex
X-PUBLISHED-TTL:PT1H
BEGIN:VTIMEZONE
TZID:Europe/Helsinki
BEGIN:DAYLIGHT
TZOFFSETFROM:+0200
TZOFFSETTO:+0300
TZNAME:EEST
DTSTART:20230326T010000
END:DAYLIGHT
BEGIN:STANDARD
TZOFFSETFROM:+0300
TZOFFSETTO:+0200
TZNAME:EET
DTSTART:20231029T010000
END:STANDARD
END:VTIMEZONE
BEGIN:VEVENT
DTSTART;TZID=Europe/Helsinki:20230707T080000
DTEND;TZID=Europe/Helsinki:20230903T170000
DTSTAMP:20260420T220519
CREATED:20230413T145923Z
LAST-MODIFIED:20230413T145923Z
UID:89854-1688716800-1693760400@klassikauto.pl
SUMMARY:Mahy\, a family of cars. The barnfind collection
DESCRIPTION:
URL:https://klassikauto.pl/impreza/mahy-a-family-of-cars-the-barnfind-collection/
LOCATION:Muzeum Autoworld\, Bruksela\, Belgia
CATEGORIES:Wystawa
END:VEVENT
BEGIN:VEVENT
DTSTART;TZID=Europe/Helsinki:20230712T080000
DTEND;TZID=Europe/Helsinki:20230716T170000
DTSTAMP:20260420T220519
CREATED:20230624T173959Z
LAST-MODIFIED:20230624T173959Z
UID:92462-1689148800-1689526800@klassikauto.pl
SUMMARY:44. Beskidzki Rajd Pojazdów Zabytkowych
DESCRIPTION:
URL:https://klassikauto.pl/impreza/44-beskidzki-rajd-pojazdow-zabytkowych/
LOCATION:Szczyrk
CATEGORIES:Rajd
END:VEVENT
BEGIN:VEVENT
DTSTART;TZID=Europe/Helsinki:20230713T080000
DTEND;TZID=Europe/Helsinki:20230716T170000
DTSTAMP:20260420T220519
CREATED:20230222T173609Z
LAST-MODIFIED:20230222T173609Z
UID:88248-1689235200-1689526800@klassikauto.pl
SUMMARY:Goodwood Festival of Speed ​​2023
DESCRIPTION:
URL:https://klassikauto.pl/impreza/goodwood-festival-of-speed-%e2%80%8b%e2%80%8b2023/
LOCATION:Goodwood
CATEGORIES:Rajd
END:VEVENT
BEGIN:VEVENT
DTSTART;TZID=Europe/Helsinki:20230713T090000
DTEND;TZID=Europe/Helsinki:20230716T190000
DTSTAMP:20260420T220519
CREATED:20230624T133848Z
LAST-MODIFIED:20230624T133848Z
UID:92363-1689238800-1689534000@klassikauto.pl
SUMMARY:36. int. ADAC Truck-Grand-Prix
DESCRIPTION:
URL:https://klassikauto.pl/impreza/36-int-adac-truck-grand-prix/
LOCATION:Nuerburgring\, Niemcy
CATEGORIES:Rajd
END:VEVENT
BEGIN:VEVENT
DTSTART;TZID=Europe/Helsinki:20230713T150000
DTEND;TZID=Europe/Helsinki:20230716T160000
DTSTAMP:20260420T220519
CREATED:20230312T152705Z
LAST-MODIFIED:20230312T152705Z
UID:88788-1689260400-1689523200@klassikauto.pl
SUMMARY:XVIII Ogólnopolski Zlot Renault 5
DESCRIPTION:
URL:https://klassikauto.pl/impreza/xviii-ogolnopolski-zlot-renault-5/
LOCATION:Miedziana Góra
CATEGORIES:Zlot
END:VEVENT
BEGIN:VEVENT
DTSTART;TZID=Europe/Helsinki:20230713T173000
DTEND;TZID=Europe/Helsinki:20230716T120000
DTSTAMP:20260420T220519
CREATED:20230624T184514Z
LAST-MODIFIED:20230624T184514Z
UID:92490-1689269400-1689508800@klassikauto.pl
SUMMARY:XV Ogólnopolski Zlot Zabytkowych Citroënów
DESCRIPTION:
URL:https://klassikauto.pl/impreza/xv-ogolnopolski-zlot-zabytkowych-citroenow/
LOCATION:Smardzewice
CATEGORIES:Zlot
END:VEVENT
BEGIN:VEVENT
DTSTART;TZID=Europe/Helsinki:20230713T180000
DTEND;TZID=Europe/Helsinki:20230715T210000
DTSTAMP:20260420T220519
CREATED:20230624T130014Z
LAST-MODIFIED:20230624T130014Z
UID:92328-1689271200-1689454800@klassikauto.pl
SUMMARY:Oldtimer Genuss Tour zum Oldtimer Rendezvous Saarlouis 2023
DESCRIPTION:
URL:https://klassikauto.pl/impreza/oldtimer-genuss-tour-zum-oldtimer-rendezvous-saarlouis-2023/
LOCATION:Saarlouis\, Niemcy
CATEGORIES:Zlot
END:VEVENT
BEGIN:VEVENT
DTSTART;TZID=Europe/Helsinki:20230714T080000
DTEND;TZID=Europe/Helsinki:20230716T170000
DTSTAMP:20260420T220519
CREATED:20230212T115930Z
LAST-MODIFIED:20230212T115930Z
UID:87828-1689321600-1689526800@klassikauto.pl
SUMMARY:Moto Zlot Kiełpiniec Blues Festiwal
DESCRIPTION:
URL:https://klassikauto.pl/impreza/moto-zlot-kielpiniec-blues-festiwal/
LOCATION:Kiełpiniec
CATEGORIES:Zlot
END:VEVENT
BEGIN:VEVENT
DTSTART;TZID=Europe/Helsinki:20230714T080000
DTEND;TZID=Europe/Helsinki:20230716T170000
DTSTAMP:20260420T220519
CREATED:20230523T174947Z
LAST-MODIFIED:20230523T174947Z
UID:91163-1689321600-1689526800@klassikauto.pl
SUMMARY:Master Truck Strefa Jelczon
DESCRIPTION:
URL:https://klassikauto.pl/impreza/master-truck-strefa-jelczon/
LOCATION:Opole
CATEGORIES:Zlot
END:VEVENT
BEGIN:VEVENT
DTSTART;TZID=Europe/Helsinki:20230714T080000
DTEND;TZID=Europe/Helsinki:20230716T170000
DTSTAMP:20260420T220519
CREATED:20230523T175231Z
LAST-MODIFIED:20230523T175231Z
UID:91166-1689321600-1689526800@klassikauto.pl
SUMMARY:19. Master Truck Show 2023
DESCRIPTION:
URL:https://klassikauto.pl/impreza/19-master-truck-show-2023/
LOCATION:Nowa Wieś
CATEGORIES:Targi,Wystawa
END:VEVENT
BEGIN:VEVENT
DTSTART;TZID=Europe/Helsinki:20230714T080000
DTEND;TZID=Europe/Helsinki:20230716T170000
DTSTAMP:20260420T220519
CREATED:20230624T184716Z
LAST-MODIFIED:20230624T184716Z
UID:92493-1689321600-1689526800@klassikauto.pl
SUMMARY:XV jubileuszowy Zlot grunwaldzki
DESCRIPTION:motocykle
URL:https://klassikauto.pl/impreza/xv-jubileuszowy-zlot-grunwaldzki/
LOCATION:Grunwald
CATEGORIES:Zlot
END:VEVENT
BEGIN:VEVENT
DTSTART;TZID=Europe/Helsinki:20230714T090000
DTEND;TZID=Europe/Helsinki:20230716T150000
DTSTAMP:20260420T220519
CREATED:20230625T090346Z
LAST-MODIFIED:20230625T090346Z
UID:92580-1689325200-1689519600@klassikauto.pl
SUMMARY:Palatina Klassik 2023 - Romantische Straße
DESCRIPTION:
URL:https://klassikauto.pl/impreza/palatina-klassik-2023-romantische-strase/
LOCATION:Speyer\, Niemcy
CATEGORIES:Rajd
END:VEVENT
BEGIN:VEVENT
DTSTART;TZID=Europe/Helsinki:20230714T100000
DTEND;TZID=Europe/Helsinki:20230716T173000
DTSTAMP:20260420T220519
CREATED:20230624T130848Z
LAST-MODIFIED:20230624T130848Z
UID:92337-1689328800-1689528600@klassikauto.pl
SUMMARY:Oldtimer Rendezvous Saarlouis
DESCRIPTION:
URL:https://klassikauto.pl/impreza/oldtimer-rendezvous-saarlouis/
LOCATION:Saarlouis\, Niemcy
CATEGORIES:Zlot
END:VEVENT
BEGIN:VEVENT
DTSTART;TZID=Europe/Helsinki:20230714T150000
DTEND;TZID=Europe/Helsinki:20230716T160000
DTSTAMP:20260420T220519
CREATED:20230624T162538Z
LAST-MODIFIED:20230624T162538Z
UID:92428-1689346800-1689523200@klassikauto.pl
SUMMARY:Klasyczny biwak Jezioro Pierzchalskie
DESCRIPTION:
URL:https://klassikauto.pl/impreza/klasyczny-biwak-jezioro-pierzchalskie/
LOCATION:Pierzchały
CATEGORIES:Zlot
END:VEVENT
BEGIN:VEVENT
DTSTART;TZID=Europe/Helsinki:20230714T160000
DTEND;TZID=Europe/Helsinki:20230716T170000
DTSTAMP:20260420T220519
CREATED:20230212T120223Z
LAST-MODIFIED:20230212T120223Z
UID:87830-1689350400-1689526800@klassikauto.pl
SUMMARY:II Luźny Zlot Lubasz
DESCRIPTION:
URL:https://klassikauto.pl/impreza/ii-luzny-zlot-lubasz/
LOCATION:Lubasz
CATEGORIES:Zlot
END:VEVENT
BEGIN:VEVENT
DTSTART;TZID=Europe/Helsinki:20230715T080000
DTEND;TZID=Europe/Helsinki:20230715T170000
DTSTAMP:20260420T220519
CREATED:20230523T182307Z
LAST-MODIFIED:20230523T182307Z
UID:91194-1689408000-1689440400@klassikauto.pl
SUMMARY:II Zlot Motocyklowy podczas Dni Galewic
DESCRIPTION:
URL:https://klassikauto.pl/impreza/ii-zlot-motocyklowy-podczas-dni-galewic/
LOCATION:Galewice
CATEGORIES:Zlot
END:VEVENT
BEGIN:VEVENT
DTSTART;TZID=Europe/Helsinki:20230715T080000
DTEND;TZID=Europe/Helsinki:20230715T170000
DTSTAMP:20260420T220519
CREATED:20230625T085747Z
LAST-MODIFIED:20230625T085747Z
UID:92575-1689408000-1689440400@klassikauto.pl
SUMMARY:23. ADAC Schwäbische Alb Classic
DESCRIPTION:
URL:https://klassikauto.pl/impreza/23-adac-schwabische-alb-classic/
LOCATION:Mühlhausen – Täle\, Niemcy
CATEGORIES:Rajd
END:VEVENT
BEGIN:VEVENT
DTSTART;TZID=Europe/Helsinki:20230715T080000
DTEND;TZID=Europe/Helsinki:20230716T170000
DTSTAMP:20260420T220519
CREATED:20230212T120545Z
LAST-MODIFIED:20230212T120611Z
UID:87834-1689408000-1689526800@klassikauto.pl
SUMMARY:IX Zlot Motocyklowy Blues nad Odrą
DESCRIPTION:
URL:https://klassikauto.pl/impreza/ix-zlot-motocyklowy-blues-nad-odra/
LOCATION:Ścinawa
CATEGORIES:Zlot
END:VEVENT
BEGIN:VEVENT
DTSTART;TZID=Europe/Helsinki:20230715T100000
DTEND;TZID=Europe/Helsinki:20230715T170000
DTSTAMP:20260420T220519
CREATED:20230624T184932Z
LAST-MODIFIED:20230624T184932Z
UID:92496-1689415200-1689440400@klassikauto.pl
SUMMARY:IV VESPAniały Zlot
DESCRIPTION:
URL:https://klassikauto.pl/impreza/iv-vespanialy-zlot/
LOCATION:Olsztyn k. Częstochowy
CATEGORIES:Zlot
END:VEVENT
BEGIN:VEVENT
DTSTART;TZID=Europe/Helsinki:20230715T100000
DTEND;TZID=Europe/Helsinki:20230715T190000
DTSTAMP:20260420T220519
CREATED:20230312T153204Z
LAST-MODIFIED:20230312T153204Z
UID:88794-1689415200-1689447600@klassikauto.pl
SUMMARY:7. US Car & Oldtimertreffen by US Car World
DESCRIPTION:
URL:https://klassikauto.pl/impreza/7-us-car-oldtimertreffen-by-us-car-world/
LOCATION:Mosbach\, Niemcy
CATEGORIES:Zlot
END:VEVENT
BEGIN:VEVENT
DTSTART;TZID=Europe/Helsinki:20230715T110000
DTEND;TZID=Europe/Helsinki:20230716T210000
DTSTAMP:20260420T220519
CREATED:20230212T120338Z
LAST-MODIFIED:20230212T120338Z
UID:87832-1689418800-1689541200@klassikauto.pl
SUMMARY:Widely Low & Classic Event
DESCRIPTION:
URL:https://klassikauto.pl/impreza/widely-low-classic-event/
LOCATION:Jawor
CATEGORIES:Zlot
END:VEVENT
BEGIN:VEVENT
DTSTART;TZID=Europe/Helsinki:20230715T120000
DTEND;TZID=Europe/Helsinki:20230715T223000
DTSTAMP:20260420T220519
CREATED:20230312T153038Z
LAST-MODIFIED:20230312T153038Z
UID:88792-1689422400-1689460200@klassikauto.pl
SUMMARY:Moto Chill & Grill 2023
DESCRIPTION:
URL:https://klassikauto.pl/impreza/moto-chill-grill-2023/
LOCATION:Ustroń
CATEGORIES:Zlot
END:VEVENT
BEGIN:VEVENT
DTSTART;TZID=Europe/Helsinki:20230715T170000
DTEND;TZID=Europe/Helsinki:20230715T210000
DTSTAMP:20260420T220519
CREATED:20230312T154949Z
LAST-MODIFIED:20230312T154949Z
UID:88818-1689440400-1689454800@klassikauto.pl
SUMMARY:JapOnly vol.5 - The Rain WWA
DESCRIPTION:
URL:https://klassikauto.pl/impreza/japonly-vol-5-the-rain-wwa/
LOCATION:Warszawa
CATEGORIES:Zlot
END:VEVENT
END:VCALENDAR
<!-- RunCloud Hub 2026-04-20 21:05:19 -->