BEGIN:VCALENDAR
VERSION:2.0
PRODID:-//KlassikAuto.pl - ECPv6.7.0//NONSGML v1.0//EN
CALSCALE:GREGORIAN
METHOD:PUBLISH
X-WR-CALNAME:KlassikAuto.pl
X-ORIGINAL-URL:https://klassikauto.pl
X-WR-CALDESC:Wydarzenia dla KlassikAuto.pl
REFRESH-INTERVAL;VALUE=DURATION:PT1H
X-Robots-Tag:noindex
X-PUBLISHED-TTL:PT1H
BEGIN:VTIMEZONE
TZID:Europe/Helsinki
BEGIN:DAYLIGHT
TZOFFSETFROM:+0200
TZOFFSETTO:+0300
TZNAME:EEST
DTSTART:20230326T010000
END:DAYLIGHT
BEGIN:STANDARD
TZOFFSETFROM:+0300
TZOFFSETTO:+0200
TZNAME:EET
DTSTART:20231029T010000
END:STANDARD
END:VTIMEZONE
BEGIN:VEVENT
DTSTART;TZID=Europe/Helsinki:20230401T080000
DTEND;TZID=Europe/Helsinki:20230528T170000
DTSTAMP:20260420T134333
CREATED:20230413T145525Z
LAST-MODIFIED:20230413T145525Z
UID:89850-1680336000-1685293200@klassikauto.pl
SUMMARY:24H of Le Mans 100 years of race history
DESCRIPTION:
URL:https://klassikauto.pl/impreza/24h-of-le-mans-100-years-of-race-history/
LOCATION:Museum Autoworld\, Bruksela\, Belgia
CATEGORIES:Wystawa
END:VEVENT
BEGIN:VEVENT
DTSTART;TZID=Europe/Helsinki:20230420T080000
DTEND;TZID=Europe/Helsinki:20230423T170000
DTSTAMP:20260420T134333
CREATED:20230213T172028Z
LAST-MODIFIED:20230213T172028Z
UID:88044-1681977600-1682269200@klassikauto.pl
SUMMARY:Autosalon 2023
DESCRIPTION:
URL:https://klassikauto.pl/impreza/autosalon-2023/
LOCATION:Bratysława\, Słowacja
CATEGORIES:Targi
END:VEVENT
BEGIN:VEVENT
DTSTART;VALUE=DATE:20230421
DTEND;VALUE=DATE:20230424
DTSTAMP:20260420T134333
CREATED:20230410T162218Z
LAST-MODIFIED:20230410T162218Z
UID:89747-1682035200-1682294399@klassikauto.pl
SUMMARY:6. Europatreffen historischer Omnibusse
DESCRIPTION:
URL:https://klassikauto.pl/impreza/6-europatreffen-historischer-omnibusse/
LOCATION:Speyer\, Niemcy
CATEGORIES:Zlot
END:VEVENT
BEGIN:VEVENT
DTSTART;TZID=Europe/Helsinki:20230421T080000
DTEND;TZID=Europe/Helsinki:20230423T170000
DTSTAMP:20260420T134333
CREATED:20230106T134204Z
LAST-MODIFIED:20230106T134204Z
UID:87124-1682064000-1682269200@klassikauto.pl
SUMMARY:51. Rajd Świdnicki. 1 runda RSMP
DESCRIPTION:
URL:https://klassikauto.pl/impreza/51-rajd-swidnicki-1-runda-rsmp/
LOCATION:Świdnica
CATEGORIES:Rajd
END:VEVENT
BEGIN:VEVENT
DTSTART;TZID=Europe/Helsinki:20230421T160000
DTEND;TZID=Europe/Helsinki:20230423T110000
DTSTAMP:20260420T134333
CREATED:20230410T144901Z
LAST-MODIFIED:20230410T144901Z
UID:89651-1682092800-1682247600@klassikauto.pl
SUMMARY:XXIX Zlot XT660 & T7
DESCRIPTION:
URL:https://klassikauto.pl/impreza/xxix-zlot-xt660-t7/
LOCATION:Włodowice
CATEGORIES:Zlot
END:VEVENT
BEGIN:VEVENT
DTSTART;TZID=Europe/Helsinki:20230421T170000
DTEND;TZID=Europe/Helsinki:20230423T180000
DTSTAMP:20260420T134333
CREATED:20230312T123940Z
LAST-MODIFIED:20230312T123940Z
UID:88638-1682096400-1682272800@klassikauto.pl
SUMMARY:Klasyczne rozpoczęcia sezonu w Zwoli
DESCRIPTION:
URL:https://klassikauto.pl/impreza/klasyczne-rozpoczecia-sezonu-w-zwoli/
LOCATION:Zwola
CATEGORIES:Zlot
END:VEVENT
BEGIN:VEVENT
DTSTART;TZID=Europe/Helsinki:20230422T080000
DTEND;TZID=Europe/Helsinki:20230423T170000
DTSTAMP:20260420T134333
CREATED:20230212T141425Z
LAST-MODIFIED:20230212T141425Z
UID:87929-1682150400-1682269200@klassikauto.pl
SUMMARY:Ferdinandova jízda 4. ročník
DESCRIPTION:
URL:https://klassikauto.pl/impreza/ferdinandova-jizda-4-rocnik/
LOCATION:Okrouhlice\, Czechy
CATEGORIES:Rajd
END:VEVENT
BEGIN:VEVENT
DTSTART;TZID=Europe/Helsinki:20230422T080000
DTEND;TZID=Europe/Helsinki:20230424T170000
DTSTAMP:20260420T134333
CREATED:20230212T152950Z
LAST-MODIFIED:20230212T152950Z
UID:87964-1682150400-1682355600@klassikauto.pl
SUMMARY:Międzynarodowy Rajd Świętokrzyski Pojazdów Zabytkowych
DESCRIPTION:
URL:https://klassikauto.pl/impreza/miedzynarodowy-rajd-swietokrzyski-pojazdow-zabytkowych/
LOCATION:Kielce
CATEGORIES:Rajd
END:VEVENT
BEGIN:VEVENT
DTSTART;TZID=Europe/Helsinki:20230422T110000
DTEND;TZID=Europe/Helsinki:20230423T170000
DTSTAMP:20260420T134333
CREATED:20230410T145642Z
LAST-MODIFIED:20230410T145642Z
UID:89664-1682161200-1682269200@klassikauto.pl
SUMMARY:Grünewald Classics - Bergisch Open 2023
DESCRIPTION:
URL:https://klassikauto.pl/impreza/grunewald-classics-bergisch-open-2023/
LOCATION:Solingen\, Niemcy
CATEGORIES:Zlot
END:VEVENT
BEGIN:VEVENT
DTSTART;TZID=Europe/Helsinki:20230423T080000
DTEND;TZID=Europe/Helsinki:20230423T170000
DTSTAMP:20260420T134333
CREATED:20230212T152022Z
LAST-MODIFIED:20230212T152022Z
UID:87956-1682236800-1682269200@klassikauto.pl
SUMMARY:Wiosenny Rajd Motocyklowy\, runda Mistrzostw Okręgu Warszawskiego Pojazdów Zabytkowych
DESCRIPTION:
URL:https://klassikauto.pl/impreza/wiosenny-rajd-motocyklowy-runda-mistrzostw-okregu-warszawskiego-pojazdow-zabytkowych/
CATEGORIES:Rajd
END:VEVENT
BEGIN:VEVENT
DTSTART;TZID=Europe/Helsinki:20230423T080000
DTEND;TZID=Europe/Helsinki:20230423T170000
DTSTAMP:20260420T134333
CREATED:20230213T164830Z
LAST-MODIFIED:20230213T164855Z
UID:88009-1682236800-1682269200@klassikauto.pl
SUMMARY:Oldtimerbazar
DESCRIPTION:
URL:https://klassikauto.pl/impreza/oldtimerbazar-33/
LOCATION:Wrocław\, Wrocław\, Poland
CATEGORIES:Aukcja
END:VEVENT
BEGIN:VEVENT
DTSTART;TZID=Europe/Helsinki:20230423T080000
DTEND;TZID=Europe/Helsinki:20230423T170000
DTSTAMP:20260420T134333
CREATED:20230413T165630Z
LAST-MODIFIED:20230413T165630Z
UID:89918-1682236800-1682269200@klassikauto.pl
SUMMARY:Classic Car Show
DESCRIPTION:
URL:https://klassikauto.pl/impreza/classic-car-show/
LOCATION:Coatbrigde\, Wielka Brytania
CATEGORIES:Zlot
END:VEVENT
BEGIN:VEVENT
DTSTART;TZID=Europe/Helsinki:20230423T100000
DTEND;TZID=Europe/Helsinki:20230423T150000
DTSTAMP:20260420T134333
CREATED:20230410T144652Z
LAST-MODIFIED:20230410T144652Z
UID:89649-1682244000-1682262000@klassikauto.pl
SUMMARY:6. Rozpoczęcie Sezonu Motocyklowego 2023
DESCRIPTION:
URL:https://klassikauto.pl/impreza/6-rozpoczecie-sezonu-motocyklowego-2023/
LOCATION:Łódź
CATEGORIES:Zlot
END:VEVENT
BEGIN:VEVENT
DTSTART;TZID=Europe/Helsinki:20230423T100000
DTEND;TZID=Europe/Helsinki:20230423T180000
DTSTAMP:20260420T134333
CREATED:20230413T164259Z
LAST-MODIFIED:20230413T164259Z
UID:89913-1682244000-1682272800@klassikauto.pl
SUMMARY:Jedźże Gratem w Małopolskę
DESCRIPTION:I rajd youngtimerów i pojazdów zabytkowych
URL:https://klassikauto.pl/impreza/jedzze-gratem-w-malopolske/
LOCATION:Kluczwodzie
CATEGORIES:Rajd
END:VEVENT
BEGIN:VEVENT
DTSTART;TZID=Europe/Helsinki:20230423T103000
DTEND;TZID=Europe/Helsinki:20230423T170000
DTSTAMP:20260420T134333
CREATED:20230312T124231Z
LAST-MODIFIED:20230312T124231Z
UID:88641-1682245800-1682269200@klassikauto.pl
SUMMARY:Motocyklowy Zjazd Gwiaździsty do Częstochowy
DESCRIPTION:
URL:https://klassikauto.pl/impreza/motocyklowy-zjazd-gwiazdzisty-do-czestochowy/
LOCATION:Częstochowa
CATEGORIES:Zlot
END:VEVENT
BEGIN:VEVENT
DTSTART;TZID=Europe/Helsinki:20230423T103000
DTEND;TZID=Europe/Helsinki:20230423T170000
DTSTAMP:20260420T134333
CREATED:20230413T164424Z
LAST-MODIFIED:20230413T164424Z
UID:89916-1682245800-1682269200@klassikauto.pl
SUMMARY:MotoStrefa Tourist - rozpoczynamy sezon motocyklowy w Zabrzu!
DESCRIPTION:
URL:https://klassikauto.pl/impreza/motostrefa-tourist-rozpoczynamy-sezon-motocyklowy-w-zabrzu/
LOCATION:Zabrze
CATEGORIES:Zlot
END:VEVENT
BEGIN:VEVENT
DTSTART;TZID=Europe/Helsinki:20230423T130000
DTEND;TZID=Europe/Helsinki:20230423T170000
DTSTAMP:20260420T134333
CREATED:20230312T124903Z
LAST-MODIFIED:20230312T124903Z
UID:88645-1682254800-1682269200@klassikauto.pl
SUMMARY:Klasyczne Rozpoczęcie Sezonu
DESCRIPTION:Klasyczne Zabrze & ZSMS
URL:https://klassikauto.pl/impreza/klasyczne-rozpoczecie-sezonu-2/
LOCATION:Zabrze
CATEGORIES:Zlot
END:VEVENT
BEGIN:VEVENT
DTSTART;TZID=Europe/Helsinki:20230423T130000
DTEND;TZID=Europe/Helsinki:20230423T170000
DTSTAMP:20260420T134333
CREATED:20230312T125014Z
LAST-MODIFIED:20230312T125014Z
UID:88647-1682254800-1682269200@klassikauto.pl
SUMMARY:Rajd Pioruna & Komarka
DESCRIPTION:
URL:https://klassikauto.pl/impreza/rajd-pioruna-komarka/
LOCATION:Kozy
CATEGORIES:Rajd
END:VEVENT
BEGIN:VEVENT
DTSTART;TZID=Europe/Helsinki:20230423T133000
DTEND;TZID=Europe/Helsinki:20230423T170000
DTSTAMP:20260420T134333
CREATED:20230410T163509Z
LAST-MODIFIED:20230410T163509Z
UID:89755-1682256600-1682269200@klassikauto.pl
SUMMARY:Klasyk Start - Rozpoczęcie Sezonu Pojazdów Zabytkowych
DESCRIPTION:
URL:https://klassikauto.pl/impreza/klasyk-start-rozpoczecie-sezonu-pojazdow-zabytkowych/
LOCATION:Wiśniowa
CATEGORIES:Zlot
END:VEVENT
BEGIN:VEVENT
DTSTART;TZID=Europe/Helsinki:20230423T140000
DTEND;TZID=Europe/Helsinki:20230423T170000
DTSTAMP:20260420T134333
CREATED:20230106T144650Z
LAST-MODIFIED:20230106T144650Z
UID:87171-1682258400-1682269200@klassikauto.pl
SUMMARY:Zeswege Classic 2023
DESCRIPTION:
URL:https://klassikauto.pl/impreza/zeswege-classic-2023/
LOCATION:Zwevezele\, Belgia
CATEGORIES:Zlot
END:VEVENT
BEGIN:VEVENT
DTSTART;TZID=Europe/Helsinki:20230423T140000
DTEND;TZID=Europe/Helsinki:20230423T190000
DTSTAMP:20260420T134333
CREATED:20230312T125405Z
LAST-MODIFIED:20230312T125405Z
UID:88650-1682258400-1682276400@klassikauto.pl
SUMMARY:Rozpoczęcie Sezonu 2k23
DESCRIPTION:
URL:https://klassikauto.pl/impreza/rozpoczecie-sezonu-2k23/
LOCATION:Bogoria
CATEGORIES:Zlot
END:VEVENT
END:VCALENDAR
<!-- RunCloud Hub 2026-04-20 12:43:33 -->