BEGIN:VCALENDAR
VERSION:2.0
PRODID:-//KlassikAuto.pl - ECPv6.7.0//NONSGML v1.0//EN
CALSCALE:GREGORIAN
METHOD:PUBLISH
X-WR-CALNAME:KlassikAuto.pl
X-ORIGINAL-URL:https://klassikauto.pl
X-WR-CALDESC:Wydarzenia dla KlassikAuto.pl
REFRESH-INTERVAL;VALUE=DURATION:PT1H
X-Robots-Tag:noindex
X-PUBLISHED-TTL:PT1H
BEGIN:VTIMEZONE
TZID:Europe/Helsinki
BEGIN:DAYLIGHT
TZOFFSETFROM:+0200
TZOFFSETTO:+0300
TZNAME:EEST
DTSTART:20230326T010000
END:DAYLIGHT
BEGIN:STANDARD
TZOFFSETFROM:+0300
TZOFFSETTO:+0200
TZNAME:EET
DTSTART:20231029T010000
END:STANDARD
END:VTIMEZONE
BEGIN:VEVENT
DTSTART;TZID=Europe/Helsinki:20230401T080000
DTEND;TZID=Europe/Helsinki:20230528T170000
DTSTAMP:20260420T135315
CREATED:20230413T145525Z
LAST-MODIFIED:20230413T145525Z
UID:89850-1680336000-1685293200@klassikauto.pl
SUMMARY:24H of Le Mans 100 years of race history
DESCRIPTION:
URL:https://klassikauto.pl/impreza/24h-of-le-mans-100-years-of-race-history/
LOCATION:Museum Autoworld\, Bruksela\, Belgia
CATEGORIES:Wystawa
END:VEVENT
BEGIN:VEVENT
DTSTART;TZID=Europe/Helsinki:20230407T080000
DTEND;TZID=Europe/Helsinki:20230416T170000
DTSTAMP:20260420T135315
CREATED:20230213T171552Z
LAST-MODIFIED:20230213T171552Z
UID:88041-1680854400-1681664400@klassikauto.pl
SUMMARY:New York International Automobile Show
DESCRIPTION:
URL:https://klassikauto.pl/impreza/new-york-international-automobile-show/
LOCATION:Nowy Jork\, USA
CATEGORIES:Targi
END:VEVENT
BEGIN:VEVENT
DTSTART;TZID=Europe/Helsinki:20230412T080000
DTEND;TZID=Europe/Helsinki:20230416T170000
DTSTAMP:20260420T135315
CREATED:20230212T163127Z
LAST-MODIFIED:20230212T163127Z
UID:87975-1681286400-1681664400@klassikauto.pl
SUMMARY:Techno-Classica
DESCRIPTION:
URL:https://klassikauto.pl/impreza/techno-classica-2/
LOCATION:Essen\, Niemcy
CATEGORIES:Targi
END:VEVENT
BEGIN:VEVENT
DTSTART;VALUE=DATE:20230415
DTEND;VALUE=DATE:20230416
DTSTAMP:20260420T135315
CREATED:20230413T151011Z
LAST-MODIFIED:20230413T151011Z
UID:89864-1681516800-1681603199@klassikauto.pl
SUMMARY:VeteránTechna Brno
DESCRIPTION:
URL:https://klassikauto.pl/impreza/veterantechna-brno/
LOCATION:Brno\, Czechy
CATEGORIES:Wystawa,Zlot
END:VEVENT
BEGIN:VEVENT
DTSTART;TZID=Europe/Helsinki:20230415T080000
DTEND;TZID=Europe/Helsinki:20230415T110000
DTSTAMP:20260420T135315
CREATED:20230326T094545Z
LAST-MODIFIED:20230326T094545Z
UID:89340-1681545600-1681556400@klassikauto.pl
SUMMARY:Krakowski Zlot Oldtimer Youngtimer
DESCRIPTION:
URL:https://klassikauto.pl/impreza/krakowski-zlot-oldtimer-youngtimer/
LOCATION:Kraków
CATEGORIES:Zlot
END:VEVENT
BEGIN:VEVENT
DTSTART;TZID=Europe/Helsinki:20230415T080000
DTEND;TZID=Europe/Helsinki:20230415T170000
DTSTAMP:20260420T135315
CREATED:20230212T141058Z
LAST-MODIFIED:20230212T141058Z
UID:87922-1681545600-1681578000@klassikauto.pl
SUMMARY:9. sraz poválečných vozidel Retroautomuzeum Strnadice
DESCRIPTION:
URL:https://klassikauto.pl/impreza/9-sraz-povalecnych-vozidel-retroautomuzeum-strnadice/
LOCATION:Strnadice\, Czechy
CATEGORIES:Zlot
END:VEVENT
BEGIN:VEVENT
DTSTART;TZID=Europe/Helsinki:20230415T080000
DTEND;TZID=Europe/Helsinki:20230415T170000
DTSTAMP:20260420T135315
CREATED:20230312T171001Z
LAST-MODIFIED:20230312T171001Z
UID:88888-1681545600-1681578000@klassikauto.pl
SUMMARY:I Lubusko-Wielkopolski Rajd Historyczny Pojazdów Klasycznych i Zabytkowych
DESCRIPTION:
URL:https://klassikauto.pl/impreza/i-lubusko-wielkopolski-rajd-historyczny-pojazdow-klasycznych-i-zabytkowych/
LOCATION:Wschowa
CATEGORIES:Rajd
END:VEVENT
BEGIN:VEVENT
DTSTART;TZID=Europe/Helsinki:20230415T080000
DTEND;TZID=Europe/Helsinki:20230416T170000
DTSTAMP:20260420T135315
CREATED:20230222T173948Z
LAST-MODIFIED:20230222T180108Z
UID:88252-1681545600-1681664400@klassikauto.pl
SUMMARY:Members’ Meeting
DESCRIPTION:
URL:https://klassikauto.pl/impreza/members-meeting/
LOCATION:Goodwood
CATEGORIES:Rajd
END:VEVENT
BEGIN:VEVENT
DTSTART;TZID=Europe/Helsinki:20230415T100000
DTEND;TZID=Europe/Helsinki:20230415T220000
DTSTAMP:20260420T135315
CREATED:20230312T122002Z
LAST-MODIFIED:20230312T122002Z
UID:88620-1681552800-1681596000@klassikauto.pl
SUMMARY:Rozpoczęcie Sezonu Motocyklowego MOTO-START
DESCRIPTION:
URL:https://klassikauto.pl/impreza/rozpoczecie-sezonu-motocyklowego-moto-start/
LOCATION:Gorzów Wielkopolski
CATEGORIES:Zlot
END:VEVENT
BEGIN:VEVENT
DTSTART;TZID=Europe/Helsinki:20230415T130000
DTEND;TZID=Europe/Helsinki:20230415T170000
DTSTAMP:20260420T135315
CREATED:20230312T122407Z
LAST-MODIFIED:20230312T122407Z
UID:88623-1681563600-1681578000@klassikauto.pl
SUMMARY:SPOTkajmy się pod wiatrakami /// Rozpoczęcie sezonu 2023
DESCRIPTION:Wydarzenie w Muzeum Młynarstwa i Rolnictwa w Osiecznej
URL:https://klassikauto.pl/impreza/spotkajmy-sie-pod-wiatrakami-rozpoczecie-sezonu-2023/
LOCATION:Osieczna
CATEGORIES:Zlot
END:VEVENT
BEGIN:VEVENT
DTSTART;TZID=Europe/Helsinki:20230415T130000
DTEND;TZID=Europe/Helsinki:20230415T170000
DTSTAMP:20260420T135315
CREATED:20230312T122546Z
LAST-MODIFIED:20230312T122546Z
UID:88626-1681563600-1681578000@klassikauto.pl
SUMMARY:II Rajd Kobiet + Otwarcie Sezonu Motocyklowego
DESCRIPTION:
URL:https://klassikauto.pl/impreza/ii-rajd-kobiet-otwarcie-sezonu-motocyklowego/
LOCATION:Jaworzno
CATEGORIES:Rajd,Zlot
END:VEVENT
BEGIN:VEVENT
DTSTART;TZID=Europe/Helsinki:20230415T133000
DTEND;TZID=Europe/Helsinki:20230415T170000
DTSTAMP:20260420T135315
CREATED:20230410T153419Z
LAST-MODIFIED:20230410T153419Z
UID:89722-1681565400-1681578000@klassikauto.pl
SUMMARY:Wrocławska MotofotoINTEGRACJA
DESCRIPTION:
URL:https://klassikauto.pl/impreza/wroclawska-motofotointegracja/
LOCATION:Wrocław\, Wrocław\, Poland
CATEGORIES:Zlot
END:VEVENT
END:VCALENDAR
<!-- RunCloud Hub 2026-04-20 12:53:15 -->