BEGIN:VCALENDAR
VERSION:2.0
PRODID:-//KlassikAuto.pl - ECPv6.7.0//NONSGML v1.0//EN
CALSCALE:GREGORIAN
METHOD:PUBLISH
X-ORIGINAL-URL:https://klassikauto.pl
X-WR-CALDESC:Wydarzenia dla KlassikAuto.pl
REFRESH-INTERVAL;VALUE=DURATION:PT1H
X-Robots-Tag:noindex
X-PUBLISHED-TTL:PT1H
BEGIN:VTIMEZONE
TZID:Europe/Helsinki
BEGIN:DAYLIGHT
TZOFFSETFROM:+0200
TZOFFSETTO:+0300
TZNAME:EEST
DTSTART:20230326T010000
END:DAYLIGHT
BEGIN:STANDARD
TZOFFSETFROM:+0300
TZOFFSETTO:+0200
TZNAME:EET
DTSTART:20231029T010000
END:STANDARD
END:VTIMEZONE
BEGIN:VEVENT
DTSTART;TZID=Europe/Helsinki:20230401T080000
DTEND;TZID=Europe/Helsinki:20230528T170000
DTSTAMP:20260420T135513
CREATED:20230413T145525Z
LAST-MODIFIED:20230413T145525Z
UID:89850-1680336000-1685293200@klassikauto.pl
SUMMARY:24H of Le Mans 100 years of race history
DESCRIPTION:
URL:https://klassikauto.pl/impreza/24h-of-le-mans-100-years-of-race-history/
LOCATION:Museum Autoworld\, Bruksela\, Belgia
CATEGORIES:Wystawa
END:VEVENT
BEGIN:VEVENT
DTSTART;TZID=Europe/Helsinki:20230407T080000
DTEND;TZID=Europe/Helsinki:20230416T170000
DTSTAMP:20260420T135513
CREATED:20230213T171552Z
LAST-MODIFIED:20230213T171552Z
UID:88041-1680854400-1681664400@klassikauto.pl
SUMMARY:New York International Automobile Show
DESCRIPTION:
URL:https://klassikauto.pl/impreza/new-york-international-automobile-show/
LOCATION:Nowy Jork\, USA
CATEGORIES:Targi
END:VEVENT
BEGIN:VEVENT
DTSTART;TZID=Europe/Helsinki:20230409T080000
DTEND;TZID=Europe/Helsinki:20230409T170000
DTSTAMP:20260420T135513
CREATED:20230212T140936Z
LAST-MODIFIED:20230212T140936Z
UID:87920-1681027200-1681059600@klassikauto.pl
SUMMARY:Auto moto burza Valy u Přelouče
DESCRIPTION:
URL:https://klassikauto.pl/impreza/auto-moto-burza-valy-u-prelouce-2/
LOCATION:Valy u Přelouče\, Czechy
CATEGORIES:Aukcja
END:VEVENT
BEGIN:VEVENT
DTSTART;TZID=Europe/Helsinki:20230409T080000
DTEND;TZID=Europe/Helsinki:20230409T170000
DTSTAMP:20260420T135513
CREATED:20230410T145800Z
LAST-MODIFIED:20230410T145800Z
UID:89666-1681027200-1681059600@klassikauto.pl
SUMMARY:3. Fürst Leopold Young- und Oldtimertreffen
DESCRIPTION:
URL:https://klassikauto.pl/impreza/3-furst-leopold-young-und-oldtimertreffen/
LOCATION:Dorsten\, Niemcy
CATEGORIES:Zlot
END:VEVENT
BEGIN:VEVENT
DTSTART;TZID=Europe/Helsinki:20230409T140000
DTEND;TZID=Europe/Helsinki:20230409T170000
DTSTAMP:20260420T135513
CREATED:20230312T121200Z
LAST-MODIFIED:20230312T121200Z
UID:88614-1681048800-1681059600@klassikauto.pl
SUMMARY:Szamotulskie Klasyki z Jajami
DESCRIPTION:
URL:https://klassikauto.pl/impreza/szamotulskie-klasyki-z-jajami/
LOCATION:Szamotuły
CATEGORIES:Zlot
END:VEVENT
END:VCALENDAR
<!-- RunCloud Hub 2026-04-20 12:55:13 -->