BEGIN:VCALENDAR
VERSION:2.0
PRODID:-//KlassikAuto.pl - ECPv6.7.0//NONSGML v1.0//EN
CALSCALE:GREGORIAN
METHOD:PUBLISH
X-WR-CALNAME:KlassikAuto.pl
X-ORIGINAL-URL:https://klassikauto.pl
X-WR-CALDESC:Wydarzenia dla KlassikAuto.pl
REFRESH-INTERVAL;VALUE=DURATION:PT1H
X-Robots-Tag:noindex
X-PUBLISHED-TTL:PT1H
BEGIN:VTIMEZONE
TZID:Europe/Helsinki
BEGIN:DAYLIGHT
TZOFFSETFROM:+0200
TZOFFSETTO:+0300
TZNAME:EEST
DTSTART:20230326T010000
END:DAYLIGHT
BEGIN:STANDARD
TZOFFSETFROM:+0300
TZOFFSETTO:+0200
TZNAME:EET
DTSTART:20231029T010000
END:STANDARD
END:VTIMEZONE
BEGIN:VEVENT
DTSTART;TZID=Europe/Helsinki:20230330T080000
DTEND;TZID=Europe/Helsinki:20230402T170000
DTSTAMP:20260420T174702
CREATED:20230222T173003Z
LAST-MODIFIED:20230222T173003Z
UID:88245-1680163200-1680454800@klassikauto.pl
SUMMARY:Sorrento Roads by 1000 Miglia 2023
DESCRIPTION:
URL:https://klassikauto.pl/impreza/sorrento-roads-by-1000-miglia-2023/
LOCATION:Sorrento\, Włochy
CATEGORIES:Rajd
END:VEVENT
BEGIN:VEVENT
DTSTART;TZID=Europe/Helsinki:20230330T100000
DTEND;TZID=Europe/Helsinki:20230402T180000
DTSTAMP:20260420T174702
CREATED:20230106T143829Z
LAST-MODIFIED:20230106T143829Z
UID:87162-1680170400-1680458400@klassikauto.pl
SUMMARY:Poznań Motor Show 2023
DESCRIPTION:
URL:https://klassikauto.pl/impreza/poznan-motor-show-2023/
LOCATION:Poznań
CATEGORIES:Targi
END:VEVENT
BEGIN:VEVENT
DTSTART;TZID=Europe/Helsinki:20230401T080000
DTEND;TZID=Europe/Helsinki:20230401T170000
DTSTAMP:20260420T174702
CREATED:20230213T165823Z
LAST-MODIFIED:20230213T165823Z
UID:88025-1680336000-1680368400@klassikauto.pl
SUMMARY:Auto moto veterán burza Karlovy Vary
DESCRIPTION:
URL:https://klassikauto.pl/impreza/auto-moto-veteran-burza-karlovy-vary-2/
LOCATION:Karlove Vary\, Czechy
CATEGORIES:Aukcja
END:VEVENT
BEGIN:VEVENT
DTSTART;TZID=Europe/Helsinki:20230401T080000
DTEND;TZID=Europe/Helsinki:20230401T170000
DTSTAMP:20260420T174702
CREATED:20230312T120556Z
LAST-MODIFIED:20230312T120556Z
UID:88608-1680336000-1680368400@klassikauto.pl
SUMMARY:R1000L - Rajd Samochodów Zabytkowych
DESCRIPTION:
URL:https://klassikauto.pl/impreza/r1000l-rajd-samochodow-zabytkowych/
LOCATION:Kraków
CATEGORIES:Rajd
END:VEVENT
BEGIN:VEVENT
DTSTART;TZID=Europe/Helsinki:20230401T080000
DTEND;TZID=Europe/Helsinki:20230401T170000
DTSTAMP:20260420T174702
CREATED:20230312T120809Z
LAST-MODIFIED:20230312T120809Z
UID:88610-1680336000-1680368400@klassikauto.pl
SUMMARY:MiCCLo Rajd 2023 - wodnym szlakiem
DESCRIPTION:
URL:https://klassikauto.pl/impreza/micclo-rajd-2023-wodnym-szlakiem/
LOCATION:Łódź
CATEGORIES:Rajd
END:VEVENT
BEGIN:VEVENT
DTSTART;TZID=Europe/Helsinki:20230401T080000
DTEND;TZID=Europe/Helsinki:20230528T170000
DTSTAMP:20260420T174702
CREATED:20230413T145525Z
LAST-MODIFIED:20230413T145525Z
UID:89850-1680336000-1685293200@klassikauto.pl
SUMMARY:24H of Le Mans 100 years of race history
DESCRIPTION:
URL:https://klassikauto.pl/impreza/24h-of-le-mans-100-years-of-race-history/
LOCATION:Museum Autoworld\, Bruksela\, Belgia
CATEGORIES:Wystawa
END:VEVENT
BEGIN:VEVENT
DTSTART;TZID=Europe/Helsinki:20230401T090000
DTEND;TZID=Europe/Helsinki:20230401T170000
DTSTAMP:20260420T174702
CREATED:20230212T172134Z
LAST-MODIFIED:20230212T172154Z
UID:87989-1680339600-1680368400@klassikauto.pl
SUMMARY:X Rajd Autosana
DESCRIPTION:
URL:https://klassikauto.pl/impreza/x-rajd-autosana/
LOCATION:Pomorze
CATEGORIES:Rajd
END:VEVENT
BEGIN:VEVENT
DTSTART;TZID=Europe/Helsinki:20230401T110000
DTEND;TZID=Europe/Helsinki:20230401T170000
DTSTAMP:20260420T174702
CREATED:20230312T121021Z
LAST-MODIFIED:20230312T121021Z
UID:88612-1680346800-1680368400@klassikauto.pl
SUMMARY:Otwarcie sezonu CABRIO POLAND 2023
DESCRIPTION:
URL:https://klassikauto.pl/impreza/otwarcie-sezonu-cabrio-poland-2023/
LOCATION:Poznań
CATEGORIES:Zlot
END:VEVENT
BEGIN:VEVENT
DTSTART;TZID=Europe/Helsinki:20230401T120000
DTEND;TZID=Europe/Helsinki:20230401T170000
DTSTAMP:20260420T174702
CREATED:20230106T144111Z
LAST-MODIFIED:20230106T144111Z
UID:87164-1680350400-1680368400@klassikauto.pl
SUMMARY:Rozpoczęcie sezonu 2023 Szamotulskich Spotkań Klasyków
DESCRIPTION:Pałac w Dębnie
URL:https://klassikauto.pl/impreza/rozpoczecie-sezonu-2023-szamotulskich-spotkan-klasykow/
LOCATION:Pniewy
CATEGORIES:Zlot
END:VEVENT
END:VCALENDAR
<!-- RunCloud Hub 2026-04-20 16:47:02 -->