BEGIN:VCALENDAR
VERSION:2.0
PRODID:-//KlassikAuto.pl - ECPv6.7.0//NONSGML v1.0//EN
CALSCALE:GREGORIAN
METHOD:PUBLISH
X-ORIGINAL-URL:https://klassikauto.pl
X-WR-CALDESC:Wydarzenia dla KlassikAuto.pl
REFRESH-INTERVAL;VALUE=DURATION:PT1H
X-Robots-Tag:noindex
X-PUBLISHED-TTL:PT1H
BEGIN:VTIMEZONE
TZID:Europe/Helsinki
BEGIN:DAYLIGHT
TZOFFSETFROM:+0200
TZOFFSETTO:+0300
TZNAME:EEST
DTSTART:20210328T010000
END:DAYLIGHT
BEGIN:STANDARD
TZOFFSETFROM:+0300
TZOFFSETTO:+0200
TZNAME:EET
DTSTART:20211031T010000
END:STANDARD
END:VTIMEZONE
BEGIN:VEVENT
DTSTART;TZID=Europe/Helsinki:20210826T080000
DTEND;TZID=Europe/Helsinki:20210829T170000
DTSTAMP:20260420T184723
CREATED:20210822T100002Z
LAST-MODIFIED:20210822T100033Z
UID:79131-1629964800-1630256400@klassikauto.pl
SUMMARY:IX Droga Kaszubska
DESCRIPTION:rajd zabytkowych motocykli do 1945 roku
URL:https://klassikauto.pl/impreza/ix-droga-kaszubska/
CATEGORIES:Rajd
END:VEVENT
BEGIN:VEVENT
DTSTART;TZID=Europe/Helsinki:20210826T200000
DTEND;TZID=Europe/Helsinki:20210829T200000
DTSTAMP:20260420T184723
CREATED:20210822T091559Z
LAST-MODIFIED:20210822T091559Z
UID:79105-1630008000-1630267200@klassikauto.pl
SUMMARY:Jubileuszowy 40. Rajd Częstochowski - IV Runda Mistrzostw Polski Pojazdów Zabytkowych
DESCRIPTION:
URL:https://klassikauto.pl/impreza/jubileuszowy-40-rajd-czestochowski-iv-runda-mistrzostw-polski-pojazdow-zabytkowych/
LOCATION:Kroczyce
CATEGORIES:Rajd
END:VEVENT
BEGIN:VEVENT
DTSTART;TZID=Europe/Helsinki:20210827T080000
DTEND;TZID=Europe/Helsinki:20210827T170000
DTSTAMP:20260420T184723
CREATED:20210418T110046Z
LAST-MODIFIED:20210418T110046Z
UID:77581-1630051200-1630083600@klassikauto.pl
SUMMARY:XXIII. mezinárodní sraz motocyklů Čechie - Böhmerland
DESCRIPTION:
URL:https://klassikauto.pl/impreza/xxiii-mezinarodni-sraz-motocyklu-cechie-bohmerland/
LOCATION:Krásná Lípa\, Czechy
CATEGORIES:Zlot
END:VEVENT
BEGIN:VEVENT
DTSTART;TZID=Europe/Helsinki:20210827T080000
DTEND;TZID=Europe/Helsinki:20210829T170000
DTSTAMP:20260420T184723
CREATED:20210822T083436Z
LAST-MODIFIED:20210822T083436Z
UID:79081-1630051200-1630256400@klassikauto.pl
SUMMARY:Międzynarodowy Rajd pojazdów zabytkowych „Śladami Polsko-Niemieckiego Pojednania”
DESCRIPTION:
URL:https://klassikauto.pl/impreza/miedzynarodowy-rajd-pojazdow-zabytkowych-sladami-polsko-niemieckiego-pojednania/
LOCATION:Jawor
CATEGORIES:Rajd
END:VEVENT
BEGIN:VEVENT
DTSTART;TZID=Europe/Helsinki:20210827T170000
DTEND;TZID=Europe/Helsinki:20210827T180000
DTSTAMP:20260420T184723
CREATED:20210822T092034Z
LAST-MODIFIED:20210822T092034Z
UID:79108-1630083600-1630087200@klassikauto.pl
SUMMARY:VII Amerykansky Rajd kantYny The Magnificent Seven
DESCRIPTION:
URL:https://klassikauto.pl/impreza/vii-amerykansky-rajd-kantyny-the-magnificent-seven/
LOCATION:Kryspinów
CATEGORIES:Rajd
END:VEVENT
END:VCALENDAR
<!-- RunCloud Hub 2026-04-20 17:47:23 -->