BEGIN:VCALENDAR
VERSION:2.0
PRODID:-//KlassikAuto.pl - ECPv6.7.0//NONSGML v1.0//EN
CALSCALE:GREGORIAN
METHOD:PUBLISH
X-ORIGINAL-URL:https://klassikauto.pl
X-WR-CALDESC:Wydarzenia dla KlassikAuto.pl
REFRESH-INTERVAL;VALUE=DURATION:PT1H
X-Robots-Tag:noindex
X-PUBLISHED-TTL:PT1H
BEGIN:VTIMEZONE
TZID:Europe/Helsinki
BEGIN:DAYLIGHT
TZOFFSETFROM:+0200
TZOFFSETTO:+0300
TZNAME:EEST
DTSTART:20200329T010000
END:DAYLIGHT
BEGIN:STANDARD
TZOFFSETFROM:+0300
TZOFFSETTO:+0200
TZNAME:EET
DTSTART:20201025T010000
END:STANDARD
END:VTIMEZONE
BEGIN:VEVENT
DTSTART;TZID=Europe/Helsinki:20200701T080000
DTEND;TZID=Europe/Helsinki:20200831T170000
DTSTAMP:20260423T143440
CREATED:20191117T075823Z
LAST-MODIFIED:20191117T075823Z
UID:70499-1593590400-1598893200@klassikauto.pl
SUMMARY:Sköda 125 Years
DESCRIPTION:
URL:https://klassikauto.pl/impreza/skoda-125-years/
LOCATION:Muzeum Autoworld\, Bruksela\, Belgia
CATEGORIES:Wystawa
END:VEVENT
BEGIN:VEVENT
DTSTART;TZID=Europe/Helsinki:20200826T080000
DTEND;TZID=Europe/Helsinki:20200829T170000
DTSTAMP:20260423T143440
CREATED:20200206T171233Z
LAST-MODIFIED:20200206T171233Z
UID:71586-1598428800-1598720400@klassikauto.pl
SUMMARY:IX Droga Kaszubska. Rajd Motocykli Zabytkowych do 1945r.
DESCRIPTION:
URL:https://klassikauto.pl/impreza/ix-droga-kaszubska-rajd-motocykli-zabytkowych-do-1945r/
LOCATION:Przywidz
CATEGORIES:Rajd
END:VEVENT
BEGIN:VEVENT
DTSTART;TZID=Europe/Helsinki:20200828T080000
DTEND;TZID=Europe/Helsinki:20200830T170000
DTSTAMP:20260423T143440
CREATED:20200407T171851Z
LAST-MODIFIED:20200407T171851Z
UID:72628-1598601600-1598806800@klassikauto.pl
SUMMARY:XXII. mezinárodní sraz motocyklů Čechie - Bohmerland
DESCRIPTION:
URL:https://klassikauto.pl/impreza/xxii-mezinarodni-sraz-motocyklu-cechie-bohmerland/
LOCATION:Krásná Lípa\, Czechy
CATEGORIES:Zlot
END:VEVENT
BEGIN:VEVENT
DTSTART;TZID=Europe/Helsinki:20200828T180000
DTEND;TZID=Europe/Helsinki:20200831T180000
DTSTAMP:20260423T143440
CREATED:20200206T191322Z
LAST-MODIFIED:20200206T191322Z
UID:71674-1598637600-1598896800@klassikauto.pl
SUMMARY:Auto Potop 2020 – zlot pojazdów zabytkowych w Szwecji
DESCRIPTION:
URL:https://klassikauto.pl/impreza/auto-potop-2020-zlot-pojazdow-zabytkowych-w-szwecji/
LOCATION:Gdynia
CATEGORIES:Zlot
END:VEVENT
END:VCALENDAR
<!-- RunCloud Hub 2026-04-23 13:34:40 -->