BEGIN:VCALENDAR
VERSION:2.0
PRODID:-//KlassikAuto.pl - ECPv6.7.0//NONSGML v1.0//EN
CALSCALE:GREGORIAN
METHOD:PUBLISH
X-WR-CALNAME:KlassikAuto.pl
X-ORIGINAL-URL:https://klassikauto.pl
X-WR-CALDESC:Wydarzenia dla KlassikAuto.pl
REFRESH-INTERVAL;VALUE=DURATION:PT1H
X-Robots-Tag:noindex
X-PUBLISHED-TTL:PT1H
BEGIN:VTIMEZONE
TZID:Europe/Helsinki
BEGIN:DAYLIGHT
TZOFFSETFROM:+0200
TZOFFSETTO:+0300
TZNAME:EEST
DTSTART:20200329T010000
END:DAYLIGHT
BEGIN:STANDARD
TZOFFSETFROM:+0300
TZOFFSETTO:+0200
TZNAME:EET
DTSTART:20201025T010000
END:STANDARD
END:VTIMEZONE
BEGIN:VEVENT
DTSTART;TZID=Europe/Helsinki:20200701T080000
DTEND;TZID=Europe/Helsinki:20200831T170000
DTSTAMP:20260423T143404
CREATED:20191117T075823Z
LAST-MODIFIED:20191117T075823Z
UID:70499-1593590400-1598893200@klassikauto.pl
SUMMARY:Sköda 125 Years
DESCRIPTION:
URL:https://klassikauto.pl/impreza/skoda-125-years/
LOCATION:Muzeum Autoworld\, Bruksela\, Belgia
CATEGORIES:Wystawa
END:VEVENT
BEGIN:VEVENT
DTSTART;TZID=Europe/Helsinki:20200819T080000
DTEND;TZID=Europe/Helsinki:20200823T170000
DTSTAMP:20260423T143404
CREATED:20200407T171335Z
LAST-MODIFIED:20200407T171335Z
UID:72622-1597824000-1598202000@klassikauto.pl
SUMMARY:Oldtimer Rallye Tatry
DESCRIPTION:
URL:https://klassikauto.pl/impreza/oldtimer-rallye-tatry/
LOCATION:Liptovský Mikuláš – Tatry\, Czechy
CATEGORIES:Rajd
END:VEVENT
BEGIN:VEVENT
DTSTART;TZID=Europe/Helsinki:20200821T120000
DTEND;TZID=Europe/Helsinki:20200823T123000
DTSTAMP:20260423T143404
CREATED:20200206T184804Z
LAST-MODIFIED:20200206T185112Z
UID:71648-1598011200-1598185800@klassikauto.pl
SUMMARY:VI Zlot Śladami Pana Samochodzika
DESCRIPTION:
URL:https://klassikauto.pl/impreza/vi-zlot-sladami-pana-samochodzik/
LOCATION:Marlbork
CATEGORIES:Zlot
END:VEVENT
BEGIN:VEVENT
DTSTART;TZID=Europe/Helsinki:20200822T080000
DTEND;TZID=Europe/Helsinki:20200823T170000
DTSTAMP:20260423T143404
CREATED:20200210T175959Z
LAST-MODIFIED:20200210T175959Z
UID:71773-1598083200-1598202000@klassikauto.pl
SUMMARY:XIX Ogólnopolski Festiwal Starych Ciągników i Maszyn Rolniczych im. Jerzego Samelczaka\,
DESCRIPTION:
URL:https://klassikauto.pl/impreza/xix-ogolnopolski-festiwal-starych-ciagnikow-i-maszyn-rolniczych-im-jerzego-samelczaka/
LOCATION:Wilkowice
CATEGORIES:Zlot
END:VEVENT
BEGIN:VEVENT
DTSTART;TZID=Europe/Helsinki:20200823T120000
DTEND;TZID=Europe/Helsinki:20200823T180000
DTSTAMP:20260423T143404
CREATED:20200320T181524Z
LAST-MODIFIED:20200320T181524Z
UID:72207-1598184000-1598205600@klassikauto.pl
SUMMARY:Oldtimer Open Air 2020
DESCRIPTION:
URL:https://klassikauto.pl/impreza/oldtimer-open-air-2020/
LOCATION:Berlin
CATEGORIES:Zlot
END:VEVENT
END:VCALENDAR
<!-- RunCloud Hub 2026-04-23 13:34:04 -->