BEGIN:VCALENDAR
VERSION:2.0
PRODID:-//KlassikAuto.pl - ECPv6.7.0//NONSGML v1.0//EN
CALSCALE:GREGORIAN
METHOD:PUBLISH
X-WR-CALNAME:KlassikAuto.pl
X-ORIGINAL-URL:https://klassikauto.pl
X-WR-CALDESC:Wydarzenia dla KlassikAuto.pl
REFRESH-INTERVAL;VALUE=DURATION:PT1H
X-Robots-Tag:noindex
X-PUBLISHED-TTL:PT1H
BEGIN:VTIMEZONE
TZID:Europe/Helsinki
BEGIN:DAYLIGHT
TZOFFSETFROM:+0200
TZOFFSETTO:+0300
TZNAME:EEST
DTSTART:20200329T010000
END:DAYLIGHT
BEGIN:STANDARD
TZOFFSETFROM:+0300
TZOFFSETTO:+0200
TZNAME:EET
DTSTART:20201025T010000
END:STANDARD
END:VTIMEZONE
BEGIN:VEVENT
DTSTART;TZID=Europe/Helsinki:20200701T080000
DTEND;TZID=Europe/Helsinki:20200831T170000
DTSTAMP:20260423T161454
CREATED:20191117T075823Z
LAST-MODIFIED:20191117T075823Z
UID:70499-1593590400-1598893200@klassikauto.pl
SUMMARY:Sköda 125 Years
DESCRIPTION:
URL:https://klassikauto.pl/impreza/skoda-125-years/
LOCATION:Muzeum Autoworld\, Bruksela\, Belgia
CATEGORIES:Wystawa
END:VEVENT
BEGIN:VEVENT
DTSTART;TZID=Europe/Helsinki:20200813T080000
DTEND;TZID=Europe/Helsinki:20200816T170000
DTSTAMP:20260423T161454
CREATED:20200210T175752Z
LAST-MODIFIED:20200210T175752Z
UID:71771-1597305600-1597597200@klassikauto.pl
SUMMARY:XVII Międzynarodowy Zlot Pojazdów Militarnych
DESCRIPTION:
URL:https://klassikauto.pl/impreza/xvii-miedzynarodowy-zlot-pojazdow-militarnych/
LOCATION:Borne Sulinowo
CATEGORIES:Zlot
END:VEVENT
BEGIN:VEVENT
DTSTART;TZID=Europe/Helsinki:20200814T080000
DTEND;TZID=Europe/Helsinki:20200816T170000
DTSTAMP:20260423T161454
CREATED:20200108T170653Z
LAST-MODIFIED:20200108T170653Z
UID:71064-1597392000-1597597200@klassikauto.pl
SUMMARY:17 Ogólnopolski Zlot Fiata 126
DESCRIPTION:
URL:https://klassikauto.pl/impreza/17-ogolnopolski-zlot-fiata-126/
LOCATION:Opole
CATEGORIES:Zlot
END:VEVENT
BEGIN:VEVENT
DTSTART;TZID=Europe/Helsinki:20200814T080000
DTEND;TZID=Europe/Helsinki:20200816T170000
DTSTAMP:20260423T161454
CREATED:20200206T194153Z
LAST-MODIFIED:20200206T194153Z
UID:71688-1597392000-1597597200@klassikauto.pl
SUMMARY:Trabantem w Bieszczady 2020
DESCRIPTION:
URL:https://klassikauto.pl/impreza/trabantem-w-bieszczady-2020/
LOCATION:Czarna Góra
CATEGORIES:Zlot
END:VEVENT
BEGIN:VEVENT
DTSTART;TZID=Europe/Helsinki:20200814T170000
DTEND;TZID=Europe/Helsinki:20200816T140000
DTSTAMP:20260423T161454
CREATED:20200322T114801Z
LAST-MODIFIED:20200322T114801Z
UID:72294-1597424400-1597586400@klassikauto.pl
SUMMARY:57. Celostátní výroční sraz MBKČR - Mercedesem za Pradědem
DESCRIPTION:
URL:https://klassikauto.pl/impreza/57-celostatni-vyrocni-sraz-mbkcr-mercedesem-za-pradedem/
LOCATION:Loučná nad Desnou\, Czechy
CATEGORIES:Rajd
END:VEVENT
BEGIN:VEVENT
DTSTART;TZID=Europe/Helsinki:20200815T080000
DTEND;TZID=Europe/Helsinki:20200815T170000
DTSTAMP:20260423T161454
CREATED:20200407T171214Z
LAST-MODIFIED:20200407T171214Z
UID:72619-1597478400-1597510800@klassikauto.pl
SUMMARY:Radegast-33 2020 Veteráni do kopca
DESCRIPTION:
URL:https://klassikauto.pl/impreza/radegast-33-2020-veterani-do-kopca/
LOCATION:Valašská Bystřice\, Czechy
CATEGORIES:Zlot
END:VEVENT
BEGIN:VEVENT
DTSTART;TZID=Europe/Helsinki:20200815T100000
DTEND;TZID=Europe/Helsinki:20200815T160000
DTSTAMP:20260423T161454
CREATED:20200322T132207Z
LAST-MODIFIED:20200322T132207Z
UID:72329-1597485600-1597507200@klassikauto.pl
SUMMARY:Odcinek IV - Warmińsko-Mazurski Rajd Motocykli Zabytkowych
DESCRIPTION:
URL:https://klassikauto.pl/impreza/odcinek-iv-warminsko-mazurski-rajd-motocykli-zabytkowych/
LOCATION:Mrągowo
CATEGORIES:Rajd
END:VEVENT
END:VCALENDAR
<!-- RunCloud Hub 2026-04-23 15:14:54 -->