BEGIN:VCALENDAR
VERSION:2.0
PRODID:-//KlassikAuto.pl - ECPv6.7.0//NONSGML v1.0//EN
CALSCALE:GREGORIAN
METHOD:PUBLISH
X-ORIGINAL-URL:https://klassikauto.pl
X-WR-CALDESC:Wydarzenia dla KlassikAuto.pl
REFRESH-INTERVAL;VALUE=DURATION:PT1H
X-Robots-Tag:noindex
X-PUBLISHED-TTL:PT1H
BEGIN:VTIMEZONE
TZID:Europe/Helsinki
BEGIN:DAYLIGHT
TZOFFSETFROM:+0200
TZOFFSETTO:+0300
TZNAME:EEST
DTSTART:20200329T010000
END:DAYLIGHT
BEGIN:STANDARD
TZOFFSETFROM:+0300
TZOFFSETTO:+0200
TZNAME:EET
DTSTART:20201025T010000
END:STANDARD
END:VTIMEZONE
BEGIN:VEVENT
DTSTART;TZID=Europe/Helsinki:20200701T080000
DTEND;TZID=Europe/Helsinki:20200831T170000
DTSTAMP:20260423T143440
CREATED:20191117T075823Z
LAST-MODIFIED:20191117T075823Z
UID:70499-1593590400-1598893200@klassikauto.pl
SUMMARY:Sköda 125 Years
DESCRIPTION:
URL:https://klassikauto.pl/impreza/skoda-125-years/
LOCATION:Muzeum Autoworld\, Bruksela\, Belgia
CATEGORIES:Wystawa
END:VEVENT
BEGIN:VEVENT
DTSTART;TZID=Europe/Helsinki:20200731T080000
DTEND;TZID=Europe/Helsinki:20200802T170000
DTSTAMP:20260423T143440
CREATED:20200110T153613Z
LAST-MODIFIED:20200110T153613Z
UID:71210-1596182400-1596387600@klassikauto.pl
SUMMARY:Retroopekačka 2020 - Stretnutie majiteľov veteránov
DESCRIPTION:
URL:https://klassikauto.pl/impreza/retroopekacka-2020-stretnutie-majitelov-veteranov/
LOCATION:Mošovce\, Słowacja
CATEGORIES:Zlot
END:VEVENT
BEGIN:VEVENT
DTSTART;TZID=Europe/Helsinki:20200731T080000
DTEND;TZID=Europe/Helsinki:20200802T170000
DTSTAMP:20260423T143440
CREATED:20200110T165939Z
LAST-MODIFIED:20200110T165939Z
UID:71233-1596182400-1596387600@klassikauto.pl
SUMMARY:Amcars River Bank Mikoszewo
DESCRIPTION:
URL:https://klassikauto.pl/impreza/amcars-river-bank-mikoszewo/
LOCATION:Mikoszewo
CATEGORIES:Zlot
END:VEVENT
BEGIN:VEVENT
DTSTART;TZID=Europe/Helsinki:20200731T160000
DTEND;TZID=Europe/Helsinki:20200801T170000
DTSTAMP:20260423T143440
CREATED:20200110T154313Z
LAST-MODIFIED:20200110T154313Z
UID:71217-1596211200-1596301200@klassikauto.pl
SUMMARY:Lada Meeting 2020
DESCRIPTION:
URL:https://klassikauto.pl/impreza/lada-meeting-2020/
LOCATION:Duchonka\, Słowacja
CATEGORIES:Zlot
END:VEVENT
BEGIN:VEVENT
DTSTART;TZID=Europe/Helsinki:20200801T080000
DTEND;TZID=Europe/Helsinki:20200801T170000
DTSTAMP:20260423T143440
CREATED:20200407T170618Z
LAST-MODIFIED:20200407T170618Z
UID:72608-1596268800-1596301200@klassikauto.pl
SUMMARY:Tatra sraz Lednice 2020
DESCRIPTION:
URL:https://klassikauto.pl/impreza/tatra-sraz-lednice-2020/
LOCATION:Lednice\, Czechy
CATEGORIES:Zlot
END:VEVENT
END:VCALENDAR
<!-- RunCloud Hub 2026-04-23 13:34:40 -->