BEGIN:VCALENDAR
VERSION:2.0
PRODID:-//KlassikAuto.pl - ECPv6.7.0//NONSGML v1.0//EN
CALSCALE:GREGORIAN
METHOD:PUBLISH
X-WR-CALNAME:KlassikAuto.pl
X-ORIGINAL-URL:https://klassikauto.pl
X-WR-CALDESC:Wydarzenia dla KlassikAuto.pl
REFRESH-INTERVAL;VALUE=DURATION:PT1H
X-Robots-Tag:noindex
X-PUBLISHED-TTL:PT1H
BEGIN:VTIMEZONE
TZID:Europe/Helsinki
BEGIN:DAYLIGHT
TZOFFSETFROM:+0200
TZOFFSETTO:+0300
TZNAME:EEST
DTSTART:20200329T010000
END:DAYLIGHT
BEGIN:STANDARD
TZOFFSETFROM:+0300
TZOFFSETTO:+0200
TZNAME:EET
DTSTART:20201025T010000
END:STANDARD
END:VTIMEZONE
BEGIN:VEVENT
DTSTART;TZID=Europe/Helsinki:20200701T080000
DTEND;TZID=Europe/Helsinki:20200831T170000
DTSTAMP:20260423T161455
CREATED:20191117T075823Z
LAST-MODIFIED:20191117T075823Z
UID:70499-1593590400-1598893200@klassikauto.pl
SUMMARY:Sköda 125 Years
DESCRIPTION:
URL:https://klassikauto.pl/impreza/skoda-125-years/
LOCATION:Muzeum Autoworld\, Bruksela\, Belgia
CATEGORIES:Wystawa
END:VEVENT
BEGIN:VEVENT
DTSTART;TZID=Europe/Helsinki:20200724T080000
DTEND;TZID=Europe/Helsinki:20200726T170000
DTSTAMP:20260423T161455
CREATED:20200108T172704Z
LAST-MODIFIED:20200108T172704Z
UID:71087-1595577600-1595782800@klassikauto.pl
SUMMARY:7. Dinotreffen
DESCRIPTION:
URL:https://klassikauto.pl/impreza/7-dinotreffen/
LOCATION:Fürstenau\, Niemcy
CATEGORIES:Zlot
END:VEVENT
BEGIN:VEVENT
DTSTART;TZID=Europe/Helsinki:20200724T160000
DTEND;TZID=Europe/Helsinki:20200726T120000
DTSTAMP:20260423T161455
CREATED:20200206T193328Z
LAST-MODIFIED:20200206T193328Z
UID:71684-1595606400-1595764800@klassikauto.pl
SUMMARY:12 Zlot GarBusów Garborbanie
DESCRIPTION:
URL:https://klassikauto.pl/impreza/12-zlot-garbusow-garborbanie/
LOCATION:Zielona Góra
CATEGORIES:Zlot
END:VEVENT
BEGIN:VEVENT
DTSTART;TZID=Europe/Helsinki:20200726T120000
DTEND;TZID=Europe/Helsinki:20200726T160000
DTSTAMP:20260423T161455
CREATED:20200320T182337Z
LAST-MODIFIED:20200320T182337Z
UID:72213-1595764800-1595779200@klassikauto.pl
SUMMARY:Přehlídka veteránů
DESCRIPTION:
URL:https://klassikauto.pl/impreza/prehlidka-veteranu/
LOCATION:Adrspach\, Czechy
CATEGORIES:Zlot
END:VEVENT
END:VCALENDAR
<!-- RunCloud Hub 2026-04-23 15:14:55 -->