BEGIN:VCALENDAR
VERSION:2.0
PRODID:-//KlassikAuto.pl - ECPv6.7.0//NONSGML v1.0//EN
CALSCALE:GREGORIAN
METHOD:PUBLISH
X-WR-CALNAME:KlassikAuto.pl
X-ORIGINAL-URL:https://klassikauto.pl
X-WR-CALDESC:Wydarzenia dla KlassikAuto.pl
REFRESH-INTERVAL;VALUE=DURATION:PT1H
X-Robots-Tag:noindex
X-PUBLISHED-TTL:PT1H
BEGIN:VTIMEZONE
TZID:Europe/Helsinki
BEGIN:DAYLIGHT
TZOFFSETFROM:+0200
TZOFFSETTO:+0300
TZNAME:EEST
DTSTART:20200329T010000
END:DAYLIGHT
BEGIN:STANDARD
TZOFFSETFROM:+0300
TZOFFSETTO:+0200
TZNAME:EET
DTSTART:20201025T010000
END:STANDARD
END:VTIMEZONE
BEGIN:VEVENT
DTSTART;TZID=Europe/Helsinki:20200701T080000
DTEND;TZID=Europe/Helsinki:20200831T170000
DTSTAMP:20260423T161455
CREATED:20191117T075823Z
LAST-MODIFIED:20191117T075823Z
UID:70499-1593590400-1598893200@klassikauto.pl
SUMMARY:Sköda 125 Years
DESCRIPTION:
URL:https://klassikauto.pl/impreza/skoda-125-years/
LOCATION:Muzeum Autoworld\, Bruksela\, Belgia
CATEGORIES:Wystawa
END:VEVENT
BEGIN:VEVENT
DTSTART;TZID=Europe/Helsinki:20200717T140000
DTEND;TZID=Europe/Helsinki:20200719T150000
DTSTAMP:20260423T161455
CREATED:20200322T102715Z
LAST-MODIFIED:20200322T102715Z
UID:72252-1594994400-1595170800@klassikauto.pl
SUMMARY:VIII Skalny Zlot Motocyklowy w Myszkowie
DESCRIPTION:
URL:https://klassikauto.pl/impreza/viii-skalny-zlot-motocyklowy-w-myszkowie/
LOCATION:Myszków
CATEGORIES:Zlot
END:VEVENT
BEGIN:VEVENT
DTSTART;TZID=Europe/Helsinki:20200718T100000
DTEND;TZID=Europe/Helsinki:20200719T190000
DTSTAMP:20260423T161455
CREATED:20200320T172308Z
LAST-MODIFIED:20200320T172308Z
UID:72188-1595066400-1595185200@klassikauto.pl
SUMMARY:Zlot Pojazdów Zabytkowych
DESCRIPTION:Wydarzenie w ramach Moto Show Bielsko-Biała
URL:https://klassikauto.pl/impreza/zlot-pojazdow-zabytkowych-2/
LOCATION:Bielsko-Biała
CATEGORIES:Rajd
END:VEVENT
BEGIN:VEVENT
DTSTART;TZID=Europe/Helsinki:20200719T120000
DTEND;TZID=Europe/Helsinki:20200719T170000
DTSTAMP:20260423T161455
CREATED:20200206T162819Z
LAST-MODIFIED:20200206T162819Z
UID:71527-1595160000-1595178000@klassikauto.pl
SUMMARY:IV Rajd Klasyków
DESCRIPTION:
URL:https://klassikauto.pl/impreza/iv-rajd-klasykow/
LOCATION:Proszowice
CATEGORIES:Rajd
END:VEVENT
END:VCALENDAR
<!-- RunCloud Hub 2026-04-23 15:14:55 -->