BEGIN:VCALENDAR
VERSION:2.0
PRODID:-//KlassikAuto.pl - ECPv6.7.0//NONSGML v1.0//EN
CALSCALE:GREGORIAN
METHOD:PUBLISH
X-WR-CALNAME:KlassikAuto.pl
X-ORIGINAL-URL:https://klassikauto.pl
X-WR-CALDESC:Wydarzenia dla KlassikAuto.pl
REFRESH-INTERVAL;VALUE=DURATION:PT1H
X-Robots-Tag:noindex
X-PUBLISHED-TTL:PT1H
BEGIN:VTIMEZONE
TZID:Europe/Helsinki
BEGIN:DAYLIGHT
TZOFFSETFROM:+0200
TZOFFSETTO:+0300
TZNAME:EEST
DTSTART:20200329T010000
END:DAYLIGHT
BEGIN:STANDARD
TZOFFSETFROM:+0300
TZOFFSETTO:+0200
TZNAME:EET
DTSTART:20201025T010000
END:STANDARD
END:VTIMEZONE
BEGIN:VEVENT
DTSTART;TZID=Europe/Helsinki:20200313T080000
DTEND;TZID=Europe/Helsinki:20200502T170000
DTSTAMP:20260423T215707
CREATED:20191117T075456Z
LAST-MODIFIED:20191117T075456Z
UID:70495-1584086400-1588438800@klassikauto.pl
SUMMARY:Motorcycles: 50Y of Endurance
DESCRIPTION:
URL:https://klassikauto.pl/impreza/motorcycles-50y-of-endurance/
LOCATION:Muzeum Autoworld\, Bruksela\, Belgia
CATEGORIES:Wystawa
END:VEVENT
BEGIN:VEVENT
DTSTART;TZID=Europe/Helsinki:20200417T130000
DTEND;TZID=Europe/Helsinki:20200419T170000
DTSTAMP:20260423T215707
CREATED:20200206T190325Z
LAST-MODIFIED:20200206T190325Z
UID:71664-1587128400-1587315600@klassikauto.pl
SUMMARY:IV Polski Zimowy Zlot Trabantów w kwietniu
DESCRIPTION:
URL:https://klassikauto.pl/impreza/iv-polski-zimowy-zlot-trabantow-w-kwietniu/
LOCATION:Busko Zdrój
CATEGORIES:Zlot
END:VEVENT
BEGIN:VEVENT
DTSTART;TZID=Europe/Helsinki:20200418T080000
DTEND;TZID=Europe/Helsinki:20200419T170000
DTSTAMP:20260423T215707
CREATED:20200108T215425Z
LAST-MODIFIED:20200108T215425Z
UID:71175-1587196800-1587315600@klassikauto.pl
SUMMARY:Moto Session 2020
DESCRIPTION:
URL:https://klassikauto.pl/impreza/moto-session-2020/
LOCATION:Lublin
CATEGORIES:Targi
END:VEVENT
BEGIN:VEVENT
DTSTART;TZID=Europe/Helsinki:20200418T090000
DTEND;TZID=Europe/Helsinki:20200630T120000
DTSTAMP:20260423T215707
CREATED:20200206T190439Z
LAST-MODIFIED:20200206T190439Z
UID:71666-1587200400-1593518400@klassikauto.pl
SUMMARY:VIII Rajd Autosana
DESCRIPTION:
URL:https://klassikauto.pl/impreza/viii-rajd-autosana/
LOCATION:Pomorze
CATEGORIES:Rajd
END:VEVENT
BEGIN:VEVENT
DTSTART;TZID=Europe/Helsinki:20200419T100000
DTEND;TZID=Europe/Helsinki:20200419T170000
DTSTAMP:20260423T215707
CREATED:20200320T171157Z
LAST-MODIFIED:20200320T171157Z
UID:72177-1587290400-1587315600@klassikauto.pl
SUMMARY:VI Bunkrowe Spotkanie Miłośników Pojazdów Zabytkowych w Wałczu
DESCRIPTION:
URL:https://klassikauto.pl/impreza/vi-bunkrowe-spotkanie-milosnikow-pojazdow-zabytkowych-w-walczu/
LOCATION:Wałcz
CATEGORIES:Zlot
END:VEVENT
BEGIN:VEVENT
DTSTART;TZID=Europe/Helsinki:20200419T110000
DTEND;TZID=Europe/Helsinki:20200419T170000
DTSTAMP:20260423T215707
CREATED:20200108T165000Z
LAST-MODIFIED:20200108T165000Z
UID:71042-1587294000-1587315600@klassikauto.pl
SUMMARY:Rozpoczęcie Sezonu 2020 Radomskich Klasyków
DESCRIPTION:
URL:https://klassikauto.pl/impreza/rozpoczecie-sezonu-2020-radomskich-klasykow/
LOCATION:Radom
CATEGORIES:Zlot
END:VEVENT
BEGIN:VEVENT
DTSTART;TZID=Europe/Helsinki:20200419T123000
DTEND;TZID=Europe/Helsinki:20200419T190000
DTSTAMP:20260423T215707
CREATED:20200206T172633Z
LAST-MODIFIED:20200206T172633Z
UID:71596-1587299400-1587322800@klassikauto.pl
SUMMARY:Zlot otwarcie sezonu 2020
DESCRIPTION:
URL:https://klassikauto.pl/impreza/zlot-otwarcie-sezonu-2020/
LOCATION:Katowice
CATEGORIES:Zlot
END:VEVENT
END:VCALENDAR
<!-- RunCloud Hub 2026-04-23 20:57:07 -->