BEGIN:VCALENDAR
VERSION:2.0
PRODID:-//KlassikAuto.pl - ECPv6.7.0//NONSGML v1.0//EN
CALSCALE:GREGORIAN
METHOD:PUBLISH
X-ORIGINAL-URL:https://klassikauto.pl
X-WR-CALDESC:Wydarzenia dla KlassikAuto.pl
REFRESH-INTERVAL;VALUE=DURATION:PT1H
X-Robots-Tag:noindex
X-PUBLISHED-TTL:PT1H
BEGIN:VTIMEZONE
TZID:Europe/Helsinki
BEGIN:DAYLIGHT
TZOFFSETFROM:+0200
TZOFFSETTO:+0300
TZNAME:EEST
DTSTART:20200329T010000
END:DAYLIGHT
BEGIN:STANDARD
TZOFFSETFROM:+0300
TZOFFSETTO:+0200
TZNAME:EET
DTSTART:20201025T010000
END:STANDARD
END:VTIMEZONE
BEGIN:VEVENT
DTSTART;TZID=Europe/Helsinki:20200313T080000
DTEND;TZID=Europe/Helsinki:20200502T170000
DTSTAMP:20260423T215825
CREATED:20191117T075456Z
LAST-MODIFIED:20191117T075456Z
UID:70495-1584086400-1588438800@klassikauto.pl
SUMMARY:Motorcycles: 50Y of Endurance
DESCRIPTION:
URL:https://klassikauto.pl/impreza/motorcycles-50y-of-endurance/
LOCATION:Muzeum Autoworld\, Bruksela\, Belgia
CATEGORIES:Wystawa
END:VEVENT
BEGIN:VEVENT
DTSTART;TZID=Europe/Helsinki:20200417T070000
DTEND;TZID=Europe/Helsinki:20200418T180000
DTSTAMP:20260423T215825
CREATED:20200206T163458Z
LAST-MODIFIED:20200206T163458Z
UID:71531-1587106800-1587232800@klassikauto.pl
SUMMARY:Retro Carpathia 2020
DESCRIPTION:Pierwsza oraz druga eliminacja Mistrzostw Polski w Historycznych Rajdach na Regularność
URL:https://klassikauto.pl/impreza/retro-carpathia-2020/
LOCATION:Rzeszów
CATEGORIES:Rajd
END:VEVENT
BEGIN:VEVENT
DTSTART;TZID=Europe/Helsinki:20200417T130000
DTEND;TZID=Europe/Helsinki:20200419T170000
DTSTAMP:20260423T215825
CREATED:20200206T190325Z
LAST-MODIFIED:20200206T190325Z
UID:71664-1587128400-1587315600@klassikauto.pl
SUMMARY:IV Polski Zimowy Zlot Trabantów w kwietniu
DESCRIPTION:
URL:https://klassikauto.pl/impreza/iv-polski-zimowy-zlot-trabantow-w-kwietniu/
LOCATION:Busko Zdrój
CATEGORIES:Zlot
END:VEVENT
BEGIN:VEVENT
DTSTART;TZID=Europe/Helsinki:20200418T080000
DTEND;TZID=Europe/Helsinki:20200419T170000
DTSTAMP:20260423T215825
CREATED:20200108T215425Z
LAST-MODIFIED:20200108T215425Z
UID:71175-1587196800-1587315600@klassikauto.pl
SUMMARY:Moto Session 2020
DESCRIPTION:
URL:https://klassikauto.pl/impreza/moto-session-2020/
LOCATION:Lublin
CATEGORIES:Targi
END:VEVENT
BEGIN:VEVENT
DTSTART;TZID=Europe/Helsinki:20200418T090000
DTEND;TZID=Europe/Helsinki:20200418T180000
DTSTAMP:20260423T215825
CREATED:20200206T174336Z
LAST-MODIFIED:20200206T174336Z
UID:71611-1587200400-1587232800@klassikauto.pl
SUMMARY:Klasyczne Rozpoczęcie Sezonu 2020
DESCRIPTION:
URL:https://klassikauto.pl/impreza/klasyczne-rozpoczecie-sezonu-2020/
LOCATION:Brzesko
CATEGORIES:Zlot
END:VEVENT
BEGIN:VEVENT
DTSTART;TZID=Europe/Helsinki:20200418T090000
DTEND;TZID=Europe/Helsinki:20200630T120000
DTSTAMP:20260423T215825
CREATED:20200206T190439Z
LAST-MODIFIED:20200206T190439Z
UID:71666-1587200400-1593518400@klassikauto.pl
SUMMARY:VIII Rajd Autosana
DESCRIPTION:
URL:https://klassikauto.pl/impreza/viii-rajd-autosana/
LOCATION:Pomorze
CATEGORIES:Rajd
END:VEVENT
BEGIN:VEVENT
DTSTART;TZID=Europe/Helsinki:20200418T100000
DTEND;TZID=Europe/Helsinki:20200418T180000
DTSTAMP:20260423T215825
CREATED:20200110T152155Z
LAST-MODIFIED:20200110T152155Z
UID:71193-1587204000-1587232800@klassikauto.pl
SUMMARY:Rally Monte Calvaria Historic
DESCRIPTION:
URL:https://klassikauto.pl/impreza/rally-monte-calvaria-historic/
LOCATION:Góra Kalwaria
CATEGORIES:Rajd
END:VEVENT
BEGIN:VEVENT
DTSTART;TZID=Europe/Helsinki:20200418T100000
DTEND;TZID=Europe/Helsinki:20200418T220000
DTSTAMP:20260423T215825
CREATED:20200206T170418Z
LAST-MODIFIED:20200206T170418Z
UID:71577-1587204000-1587247200@klassikauto.pl
SUMMARY:Bazzarcuda Swap Meet 2 & Rozpoczęcie sezonu 2020
DESCRIPTION:
URL:https://klassikauto.pl/impreza/bazzarcuda-swap-meet-2-rozpoczecie-sezonu-2020/
LOCATION:Radziejowice
CATEGORIES:Zlot
END:VEVENT
BEGIN:VEVENT
DTSTART;TZID=Europe/Helsinki:20200418T103000
DTEND;TZID=Europe/Helsinki:20200418T170000
DTSTAMP:20260423T215825
CREATED:20200206T175207Z
LAST-MODIFIED:20200206T175207Z
UID:71619-1587205800-1587229200@klassikauto.pl
SUMMARY:Rozpoczęcie Sezonu 2020 z Youngtimer Nowy Sącz
DESCRIPTION:
URL:https://klassikauto.pl/impreza/rozpoczecie-sezonu-2020-z-youngtimer-nowy-sacz/
LOCATION:Nowy Sącz
CATEGORIES:Zlot
END:VEVENT
BEGIN:VEVENT
DTSTART;TZID=Europe/Helsinki:20200418T120000
DTEND;TZID=Europe/Helsinki:20200418T170000
DTSTAMP:20260423T215825
CREATED:20200206T170006Z
LAST-MODIFIED:20200206T170006Z
UID:71573-1587211200-1587229200@klassikauto.pl
SUMMARY:Rozpoczęcie sezonu RCM - klasyczna Łódź budzi się do życia!
DESCRIPTION:
URL:https://klassikauto.pl/impreza/rozpoczecie-sezonu-rcm-klasyczna-lodz-budzi-sie-do-zycia/
LOCATION:Łódź
CATEGORIES:Zlot
END:VEVENT
BEGIN:VEVENT
DTSTART;TZID=Europe/Helsinki:20200418T130000
DTEND;TZID=Europe/Helsinki:20200418T170000
DTSTAMP:20260423T215825
CREATED:20200322T112142Z
LAST-MODIFIED:20200322T112422Z
UID:72270-1587214800-1587229200@klassikauto.pl
SUMMARY:Rozpoczęcie Sezonu Motocyklowego w Turku 2020
DESCRIPTION:
URL:https://klassikauto.pl/impreza/rozpoczecie-sezonu-motocyklowego-w-turku-2020/
LOCATION:Turek
CATEGORIES:Zlot
END:VEVENT
END:VCALENDAR
<!-- RunCloud Hub 2026-04-23 20:58:25 -->