BEGIN:VCALENDAR
VERSION:2.0
PRODID:-//KlassikAuto.pl - ECPv6.7.0//NONSGML v1.0//EN
CALSCALE:GREGORIAN
METHOD:PUBLISH
X-ORIGINAL-URL:https://klassikauto.pl
X-WR-CALDESC:Wydarzenia dla KlassikAuto.pl
REFRESH-INTERVAL;VALUE=DURATION:PT1H
X-Robots-Tag:noindex
X-PUBLISHED-TTL:PT1H
BEGIN:VTIMEZONE
TZID:Europe/Helsinki
BEGIN:DAYLIGHT
TZOFFSETFROM:+0200
TZOFFSETTO:+0300
TZNAME:EEST
DTSTART:20190331T010000
END:DAYLIGHT
BEGIN:STANDARD
TZOFFSETFROM:+0300
TZOFFSETTO:+0200
TZNAME:EET
DTSTART:20191027T010000
END:STANDARD
BEGIN:DAYLIGHT
TZOFFSETFROM:+0200
TZOFFSETTO:+0300
TZNAME:EEST
DTSTART:20200329T010000
END:DAYLIGHT
BEGIN:STANDARD
TZOFFSETFROM:+0300
TZOFFSETTO:+0200
TZNAME:EET
DTSTART:20201025T010000
END:STANDARD
END:VTIMEZONE
BEGIN:VEVENT
DTSTART;TZID=Europe/Helsinki:20191206T080000
DTEND;TZID=Europe/Helsinki:20200126T170000
DTSTAMP:20260424T031231
CREATED:20181113T161301Z
LAST-MODIFIED:20181113T161301Z
UID:63214-1575619200-1580058000@klassikauto.pl
SUMMARY:Major exposition: So British! - wystawa
DESCRIPTION:
URL:https://klassikauto.pl/impreza/major-exposition-so-british-wystawa/
LOCATION:Muzeum Autoworld\, Bruksela\, Belgia
CATEGORIES:Wystawa
END:VEVENT
BEGIN:VEVENT
DTSTART;TZID=Europe/Helsinki:20200103T080000
DTEND;TZID=Europe/Helsinki:20200105T170000
DTSTAMP:20260424T031231
CREATED:20200108T173717Z
LAST-MODIFIED:20200108T173717Z
UID:71093-1578038400-1578243600@klassikauto.pl
SUMMARY:Plannai Classic 2020
DESCRIPTION:
URL:https://klassikauto.pl/impreza/plannai-classic-2020/
LOCATION:Grobming\, Austria
CATEGORIES:Rajd
END:VEVENT
END:VCALENDAR
<!-- RunCloud Hub 2026-04-24 02:12:31 -->