BEGIN:VCALENDAR
VERSION:2.0
PRODID:-//KlassikAuto.pl - ECPv6.7.0//NONSGML v1.0//EN
CALSCALE:GREGORIAN
METHOD:PUBLISH
X-WR-CALNAME:KlassikAuto.pl
X-ORIGINAL-URL:https://klassikauto.pl
X-WR-CALDESC:Wydarzenia dla KlassikAuto.pl
REFRESH-INTERVAL;VALUE=DURATION:PT1H
X-Robots-Tag:noindex
X-PUBLISHED-TTL:PT1H
BEGIN:VTIMEZONE
TZID:Europe/Helsinki
BEGIN:DAYLIGHT
TZOFFSETFROM:+0200
TZOFFSETTO:+0300
TZNAME:EEST
DTSTART:20190331T010000
END:DAYLIGHT
BEGIN:STANDARD
TZOFFSETFROM:+0300
TZOFFSETTO:+0200
TZNAME:EET
DTSTART:20191027T010000
END:STANDARD
END:VTIMEZONE
BEGIN:VEVENT
DTSTART;TZID=Europe/Helsinki:20191005T080000
DTEND;TZID=Europe/Helsinki:20191130T170000
DTSTAMP:20260424T063213
CREATED:20181113T161152Z
LAST-MODIFIED:20181113T161152Z
UID:63212-1570262400-1575133200@klassikauto.pl
SUMMARY:In the spotlight: Zagato 100th Anniversary - wystawa
DESCRIPTION:
URL:https://klassikauto.pl/impreza/in-the-spotlight-zagato-100th-anniversary-wystawa/
LOCATION:Muzeum Autoworld\, Bruksela\, Belgia
CATEGORIES:Wystawa
END:VEVENT
BEGIN:VEVENT
DTSTART;TZID=Europe/Helsinki:20191108T080000
DTEND;TZID=Europe/Helsinki:20191110T170000
DTSTAMP:20260424T063213
CREATED:20190103T153013Z
LAST-MODIFIED:20190103T153013Z
UID:64273-1573200000-1573405200@klassikauto.pl
SUMMARY:ADAC Rallye Köln - Ahrweiler
DESCRIPTION:Youngtimer Rallye Trophy
URL:https://klassikauto.pl/impreza/adac-rallye-koln-ahrweiler/
LOCATION:Niemcy
CATEGORIES:Rajd
END:VEVENT
BEGIN:VEVENT
DTSTART;TZID=Europe/Helsinki:20191108T080000
DTEND;TZID=Europe/Helsinki:20191110T170000
DTSTAMP:20260424T063213
CREATED:20190904T194721Z
LAST-MODIFIED:20190904T194721Z
UID:69323-1573200000-1573405200@klassikauto.pl
SUMMARY:Racing & Classic Expo 2019
DESCRIPTION:
URL:https://klassikauto.pl/impreza/racing-classic-expo-2019/
LOCATION:Praga\, Czechy
CATEGORIES:Targi
END:VEVENT
END:VCALENDAR
<!-- RunCloud Hub 2026-04-24 05:32:13 -->