BEGIN:VCALENDAR
VERSION:2.0
PRODID:-//KlassikAuto.pl - ECPv6.7.0//NONSGML v1.0//EN
CALSCALE:GREGORIAN
METHOD:PUBLISH
X-WR-CALNAME:KlassikAuto.pl
X-ORIGINAL-URL:https://klassikauto.pl
X-WR-CALDESC:Wydarzenia dla KlassikAuto.pl
REFRESH-INTERVAL;VALUE=DURATION:PT1H
X-Robots-Tag:noindex
X-PUBLISHED-TTL:PT1H
BEGIN:VTIMEZONE
TZID:Europe/Helsinki
BEGIN:DAYLIGHT
TZOFFSETFROM:+0200
TZOFFSETTO:+0300
TZNAME:EEST
DTSTART:20190331T010000
END:DAYLIGHT
BEGIN:STANDARD
TZOFFSETFROM:+0300
TZOFFSETTO:+0200
TZNAME:EET
DTSTART:20191027T010000
END:STANDARD
END:VTIMEZONE
BEGIN:VEVENT
DTSTART;TZID=Europe/Helsinki:20191002T080000
DTEND;TZID=Europe/Helsinki:20191005T170000
DTSTAMP:20260424T084827
CREATED:20190807T184909Z
LAST-MODIFIED:20190807T184909Z
UID:68661-1570003200-1570294800@klassikauto.pl
SUMMARY:3. Sauerland Klassik 2019
DESCRIPTION:
URL:https://klassikauto.pl/impreza/3-sauerland-klassik-2019/
LOCATION:Attendorn\, Niemcy
CATEGORIES:Rajd
END:VEVENT
BEGIN:VEVENT
DTSTART;TZID=Europe/Helsinki:20191004T080000
DTEND;TZID=Europe/Helsinki:20191006T170000
DTSTAMP:20260424T084827
CREATED:20190904T192521Z
LAST-MODIFIED:20190904T192521Z
UID:69312-1570176000-1570381200@klassikauto.pl
SUMMARY:VI Jesienny Rajd Pojazdów Zabytkowych AW Dolsk
DESCRIPTION:
URL:https://klassikauto.pl/impreza/vi-jesienny-rajd-pojazdow-zabytkowych-aw-dolsk/
LOCATION:Dolsk
CATEGORIES:Rajd
END:VEVENT
END:VCALENDAR
<!-- RunCloud Hub 2026-04-24 07:48:27 -->