BEGIN:VCALENDAR
VERSION:2.0
PRODID:-//KlassikAuto.pl - ECPv6.7.0//NONSGML v1.0//EN
CALSCALE:GREGORIAN
METHOD:PUBLISH
X-WR-CALNAME:KlassikAuto.pl
X-ORIGINAL-URL:https://klassikauto.pl
X-WR-CALDESC:Wydarzenia dla KlassikAuto.pl
REFRESH-INTERVAL;VALUE=DURATION:PT1H
X-Robots-Tag:noindex
X-PUBLISHED-TTL:PT1H
BEGIN:VTIMEZONE
TZID:Europe/Helsinki
BEGIN:DAYLIGHT
TZOFFSETFROM:+0200
TZOFFSETTO:+0300
TZNAME:EEST
DTSTART:20190331T010000
END:DAYLIGHT
BEGIN:STANDARD
TZOFFSETFROM:+0300
TZOFFSETTO:+0200
TZNAME:EET
DTSTART:20191027T010000
END:STANDARD
END:VTIMEZONE
BEGIN:VEVENT
DTSTART;TZID=Europe/Helsinki:20190905T080000
DTEND;TZID=Europe/Helsinki:20190908T170000
DTSTAMP:20260424T102841
CREATED:20190312T181535Z
LAST-MODIFIED:20190312T181535Z
UID:65818-1567670400-1567962000@klassikauto.pl
SUMMARY:8 Rajd Polski Historyczny
DESCRIPTION:
URL:https://klassikauto.pl/impreza/8-rajd-polski-historyczny/
LOCATION:Kraków
CATEGORIES:Rajd
END:VEVENT
BEGIN:VEVENT
DTSTART;TZID=Europe/Helsinki:20190905T080000
DTEND;TZID=Europe/Helsinki:20190908T170000
DTSTAMP:20260424T102841
CREATED:20190807T185114Z
LAST-MODIFIED:20190807T185114Z
UID:68664-1567670400-1567962000@klassikauto.pl
SUMMARY:3. Int. ADAC ZURICH Westfalen Klassik
DESCRIPTION:
URL:https://klassikauto.pl/impreza/3-int-adac-zurich-westfalen-klassik/
LOCATION:Bad Sassendorf\, Niemcy
CATEGORIES:Rajd
END:VEVENT
BEGIN:VEVENT
DTSTART;TZID=Europe/Helsinki:20190906T080000
DTEND;TZID=Europe/Helsinki:20190908T170000
DTSTAMP:20260424T102841
CREATED:20190807T182941Z
LAST-MODIFIED:20190807T182941Z
UID:68643-1567756800-1567962000@klassikauto.pl
SUMMARY:Retro Classic - Concours d´Elegance Tegernsee
DESCRIPTION:
URL:https://klassikauto.pl/impreza/retro-classic-concours-delegance-tegernsee/
LOCATION:Gmund\, Niemcy
CATEGORIES:Zlot
END:VEVENT
BEGIN:VEVENT
DTSTART;TZID=Europe/Helsinki:20190906T080000
DTEND;TZID=Europe/Helsinki:20190908T170000
DTSTAMP:20260424T102841
CREATED:20190807T192925Z
LAST-MODIFIED:20190807T192925Z
UID:68711-1567756800-1567962000@klassikauto.pl
SUMMARY:3 Ogólnopolski Zlot "Skodomania"
DESCRIPTION:
URL:https://klassikauto.pl/impreza/3-ogolnopolski-zlot-skodomania/
LOCATION:Sielpia Wielka
CATEGORIES:Zlot
END:VEVENT
BEGIN:VEVENT
DTSTART;TZID=Europe/Helsinki:20190907T080000
DTEND;TZID=Europe/Helsinki:20190908T170000
DTSTAMP:20260424T102841
CREATED:20190217T114316Z
LAST-MODIFIED:20190217T114356Z
UID:65306-1567843200-1567962000@klassikauto.pl
SUMMARY:Moto Weteran Bazar 2019
DESCRIPTION:
URL:https://klassikauto.pl/impreza/jesienny-moto-weteran-bazar-2019/
LOCATION:Łódź
CATEGORIES:Aukcja
END:VEVENT
BEGIN:VEVENT
DTSTART;TZID=Europe/Helsinki:20190907T080000
DTEND;TZID=Europe/Helsinki:20190908T170000
DTSTAMP:20260424T102841
CREATED:20190217T114934Z
LAST-MODIFIED:20190217T114934Z
UID:65312-1567843200-1567962000@klassikauto.pl
SUMMARY:XV Wołomiński Zlot Pojazdów Zabytkowych im. T. Mikulskiego
DESCRIPTION:
URL:https://klassikauto.pl/impreza/xv-wolominski-zlot-pojazdow-zabytkowych-im-t-mikulskiego/
LOCATION:Wołomin
CATEGORIES:Zlot
END:VEVENT
BEGIN:VEVENT
DTSTART;TZID=Europe/Helsinki:20190907T080000
DTEND;TZID=Europe/Helsinki:20190908T170000
DTSTAMP:20260424T102841
CREATED:20190221T193739Z
LAST-MODIFIED:20190221T193739Z
UID:65410-1567843200-1567962000@klassikauto.pl
SUMMARY:52. ročník mezinárodní jízdy Zbraslav - Jíloviště 2019
DESCRIPTION:
URL:https://klassikauto.pl/impreza/52-rocnik-mezinarodni-jizdy-zbraslav-jiloviste-2019/
LOCATION:Praga\, Czechy
CATEGORIES:Rajd
END:VEVENT
BEGIN:VEVENT
DTSTART;TZID=Europe/Helsinki:20190907T080000
DTEND;TZID=Europe/Helsinki:20190908T170000
DTSTAMP:20260424T102841
CREATED:20190308T181131Z
LAST-MODIFIED:20190312T172759Z
UID:65701-1567843200-1567962000@klassikauto.pl
SUMMARY:Motolegends 2019 - Festiwal klasyków motoryzacji
DESCRIPTION:Już we wrześniu kolejna edycja MotoLegends – wydarzenia\, które powstało z pasji do zabytkowej motoryzacji. \nChcesz dowiedzieć się jak wyglądała miniona edycja i co Cię czeka w tym roku?\nOdwiedź naszą stronę internetową: www.motolegends.pl
URL:https://klassikauto.pl/impreza/motolegends-2019-festiwal-klasykow-motoryzacji/
LOCATION:Sosnowiec
CATEGORIES:Targi,Wystawa
END:VEVENT
BEGIN:VEVENT
DTSTART;TZID=Europe/Helsinki:20190907T080000
DTEND;TZID=Europe/Helsinki:20190908T170000
DTSTAMP:20260424T102841
CREATED:20190904T182043Z
LAST-MODIFIED:20190904T182043Z
UID:69253-1567843200-1567962000@klassikauto.pl
SUMMARY:Summer Cars Party 2019 - On Fire!
DESCRIPTION:
URL:https://klassikauto.pl/impreza/summer-cars-party-2019-on-fire/
LOCATION:Katowice
CATEGORIES:Zlot
END:VEVENT
BEGIN:VEVENT
DTSTART;TZID=Europe/Helsinki:20190907T080000
DTEND;TZID=Europe/Helsinki:20190908T170000
DTSTAMP:20260424T102841
CREATED:20190904T191642Z
LAST-MODIFIED:20190904T191642Z
UID:69301-1567843200-1567962000@klassikauto.pl
SUMMARY:12 Międzynarodowy Rajd Dawnych Automobili\, Motocykli i Rowerów
DESCRIPTION:
URL:https://klassikauto.pl/impreza/12-miedzynarodowy-rajd-dawnych-automobili-motocykli-i-rowerow/
LOCATION:Radom
CATEGORIES:Rajd
END:VEVENT
BEGIN:VEVENT
DTSTART;TZID=Europe/Helsinki:20190908T080000
DTEND;TZID=Europe/Helsinki:20190908T170000
DTSTAMP:20260424T102841
CREATED:20190213T173809Z
LAST-MODIFIED:20190213T173809Z
UID:65069-1567929600-1567962000@klassikauto.pl
SUMMARY:StreetLodz Car Show 2019
DESCRIPTION:
URL:https://klassikauto.pl/impreza/streetlodz-car-show-2019/
LOCATION:Łódź
CATEGORIES:Zlot
END:VEVENT
BEGIN:VEVENT
DTSTART;TZID=Europe/Helsinki:20190908T080000
DTEND;TZID=Europe/Helsinki:20190908T170000
DTSTAMP:20260424T102841
CREATED:20190217T115247Z
LAST-MODIFIED:20190217T115247Z
UID:65317-1567929600-1567962000@klassikauto.pl
SUMMARY:Ogólnopolska Giełda Modeli Samochodów im.Sławoja Gwiazdowskiego
DESCRIPTION:
URL:https://klassikauto.pl/impreza/ogolnopolska-gielda-modeli-samochodow-im-slawoja-gwiazdowskiego-3/
LOCATION:Warszawa
CATEGORIES:Aukcja
END:VEVENT
BEGIN:VEVENT
DTSTART;TZID=Europe/Helsinki:20190908T080000
DTEND;TZID=Europe/Helsinki:20190908T170000
DTSTAMP:20260424T102841
CREATED:20190625T090236Z
LAST-MODIFIED:20190625T090236Z
UID:67822-1567929600-1567962000@klassikauto.pl
SUMMARY:1. Fürst Leopold Young- und Oldtimertreffen
DESCRIPTION:
URL:https://klassikauto.pl/impreza/1-furst-leopold-young-und-oldtimertreffen/
LOCATION:Dorsten\, Niemcy
CATEGORIES:Zlot
END:VEVENT
BEGIN:VEVENT
DTSTART;TZID=Europe/Helsinki:20190908T100000
DTEND;TZID=Europe/Helsinki:20190908T170000
DTSTAMP:20260424T102841
CREATED:20190807T193138Z
LAST-MODIFIED:20190807T193138Z
UID:68714-1567936800-1567962000@klassikauto.pl
SUMMARY:Mazowiecki Zlot Pojazdów Pożarniczych i Zabytkowych Jeruzal 2019
DESCRIPTION:
URL:https://klassikauto.pl/impreza/mazowiecki-zlot-pojazdow-pozarniczych-i-zabytkowych-jeruzal-2019/
LOCATION:Jeruzal
CATEGORIES:Zlot
END:VEVENT
BEGIN:VEVENT
DTSTART;TZID=Europe/Helsinki:20190908T140000
DTEND;TZID=Europe/Helsinki:20190908T190000
DTSTAMP:20260424T102841
CREATED:20190904T183452Z
LAST-MODIFIED:20190904T183452Z
UID:69267-1567951200-1567969200@klassikauto.pl
SUMMARY:Integracyjne spotkanie pojazdów zabytkowych i nietypowych
DESCRIPTION:
URL:https://klassikauto.pl/impreza/integracyjne-spotkanie-pojazdow-zabytkowych-i-nietypowych/
LOCATION:Skawina
CATEGORIES:Zlot
END:VEVENT
END:VCALENDAR
<!-- RunCloud Hub 2026-04-24 09:28:41 -->