BEGIN:VCALENDAR
VERSION:2.0
PRODID:-//KlassikAuto.pl - ECPv6.7.0//NONSGML v1.0//EN
CALSCALE:GREGORIAN
METHOD:PUBLISH
X-WR-CALNAME:KlassikAuto.pl
X-ORIGINAL-URL:https://klassikauto.pl
X-WR-CALDESC:Wydarzenia dla KlassikAuto.pl
REFRESH-INTERVAL;VALUE=DURATION:PT1H
X-Robots-Tag:noindex
X-PUBLISHED-TTL:PT1H
BEGIN:VTIMEZONE
TZID:Europe/Helsinki
BEGIN:DAYLIGHT
TZOFFSETFROM:+0200
TZOFFSETTO:+0300
TZNAME:EEST
DTSTART:20190331T010000
END:DAYLIGHT
BEGIN:STANDARD
TZOFFSETFROM:+0300
TZOFFSETTO:+0200
TZNAME:EET
DTSTART:20191027T010000
END:STANDARD
END:VTIMEZONE
BEGIN:VEVENT
DTSTART;TZID=Europe/Helsinki:20190705T080000
DTEND;TZID=Europe/Helsinki:20190901T170000
DTSTAMP:20260424T102841
CREATED:20181113T160913Z
LAST-MODIFIED:20181113T160913Z
UID:63207-1562313600-1567357200@klassikauto.pl
SUMMARY:Expostion: Citroën 100th anniversary - wystawa
DESCRIPTION:
URL:https://klassikauto.pl/impreza/expostion-citroen-100th-anniversary-wystawa/
LOCATION:Muzeum Autoworld\, Bruksela\, Belgia
CATEGORIES:Wystawa
END:VEVENT
BEGIN:VEVENT
DTSTART;TZID=Europe/Helsinki:20190829T080000
DTEND;TZID=Europe/Helsinki:20190901T170000
DTSTAMP:20260424T102841
CREATED:20181225T115156Z
LAST-MODIFIED:20181225T115156Z
UID:63960-1567065600-1567357200@klassikauto.pl
SUMMARY:RM Sotheby's 2019\, Auburn Fall
DESCRIPTION:Auburn Auction Park\, Auburn\, Indiana
URL:https://klassikauto.pl/impreza/rm-sothebys-2019-auburn-fall/
LOCATION:Auburn\, Indiana
CATEGORIES:Aukcja
END:VEVENT
BEGIN:VEVENT
DTSTART;TZID=Europe/Helsinki:20190829T080000
DTEND;TZID=Europe/Helsinki:20190901T170000
DTSTAMP:20260424T102841
CREATED:20190213T181852Z
LAST-MODIFIED:20190213T181852Z
UID:65109-1567065600-1567357200@klassikauto.pl
SUMMARY:50. ročník Mezinárodní Tatra Veterán Rallye Beskydy
DESCRIPTION:
URL:https://klassikauto.pl/impreza/50-rocnik-mezinarodni-tatra-veteran-rallye-beskydy/
LOCATION:Koprivnice\, Czechy
CATEGORIES:Rajd
END:VEVENT
BEGIN:VEVENT
DTSTART;TZID=Europe/Helsinki:20190830T080000
DTEND;TZID=Europe/Helsinki:20190901T170000
DTSTAMP:20260424T102841
CREATED:20190209T140140Z
LAST-MODIFIED:20190209T140140Z
UID:64967-1567152000-1567357200@klassikauto.pl
SUMMARY:Zlot Passat 35i Family
DESCRIPTION:
URL:https://klassikauto.pl/impreza/zlot-passat-35i-family/
LOCATION:Jeziorsko
CATEGORIES:Zlot
END:VEVENT
BEGIN:VEVENT
DTSTART;TZID=Europe/Helsinki:20190831T080000
DTEND;TZID=Europe/Helsinki:20190901T170000
DTSTAMP:20260424T102841
CREATED:20181225T171249Z
LAST-MODIFIED:20181225T171249Z
UID:63988-1567238400-1567357200@klassikauto.pl
SUMMARY:Przełęcz Spalona - Vintage Motorcycle Days
DESCRIPTION:
URL:https://klassikauto.pl/impreza/przelecz-spalona-vintage-motorcycle-days/
LOCATION:Bystrzyca Kłodzka
CATEGORIES:Rajd
END:VEVENT
BEGIN:VEVENT
DTSTART;TZID=Europe/Helsinki:20190901T090000
DTEND;TZID=Europe/Helsinki:20190901T190000
DTSTAMP:20260424T102841
CREATED:20190624T083322Z
LAST-MODIFIED:20190624T083322Z
UID:67746-1567328400-1567364400@klassikauto.pl
SUMMARY:Classic Spot Wieruszów 2019
DESCRIPTION:
URL:https://klassikauto.pl/impreza/classic-spot-wieruszow-2019/
LOCATION:Wieruszów
CATEGORIES:Zlot
END:VEVENT
BEGIN:VEVENT
DTSTART;TZID=Europe/Helsinki:20190901T100000
DTEND;TZID=Europe/Helsinki:20190901T160000
DTSTAMP:20260424T102841
CREATED:20190807T191057Z
LAST-MODIFIED:20190807T191057Z
UID:68690-1567332000-1567353600@klassikauto.pl
SUMMARY:V Piaseczyński Rajd Pojazdów Zabytkowych
DESCRIPTION:
URL:https://klassikauto.pl/impreza/v-piaseczynski-rajd-pojazdow-zabytkowych/
LOCATION:Piaseczno
CATEGORIES:Rajd
END:VEVENT
BEGIN:VEVENT
DTSTART;TZID=Europe/Helsinki:20190901T100000
DTEND;TZID=Europe/Helsinki:20190901T170000
DTSTAMP:20260424T102841
CREATED:20190625T084314Z
LAST-MODIFIED:20190625T084314Z
UID:67809-1567332000-1567357200@klassikauto.pl
SUMMARY:1. NOSW Oldtimerfestival in Voerde
DESCRIPTION:
URL:https://klassikauto.pl/impreza/1-nosw-oldtimerfestival-in-voerde/
LOCATION:Voerde\, Niemcy
CATEGORIES:Zlot
END:VEVENT
BEGIN:VEVENT
DTSTART;TZID=Europe/Helsinki:20190901T103000
DTEND;TZID=Europe/Helsinki:20190901T163000
DTSTAMP:20260424T102841
CREATED:20190807T200342Z
LAST-MODIFIED:20190807T200342Z
UID:68743-1567333800-1567355400@klassikauto.pl
SUMMARY:III Klasyczne Ciężkowice
DESCRIPTION:
URL:https://klassikauto.pl/impreza/iii-klasyczne-ciezkowice/
LOCATION:Ciężkowice
CATEGORIES:Zlot
END:VEVENT
BEGIN:VEVENT
DTSTART;TZID=Europe/Helsinki:20190901T150000
DTEND;TZID=Europe/Helsinki:20190901T220000
DTSTAMP:20260424T102841
CREATED:20190807T193739Z
LAST-MODIFIED:20190807T193739Z
UID:68722-1567350000-1567375200@klassikauto.pl
SUMMARY:Moto Fest Jaworzno
DESCRIPTION:Po raz pierwszy organizatorzy zapraszają do strefy VIP i Klasyk
URL:https://klassikauto.pl/impreza/moto-fest-jaworzno/
LOCATION:Jaworzno
CATEGORIES:Zlot
END:VEVENT
END:VCALENDAR
<!-- RunCloud Hub 2026-04-24 09:28:41 -->