BEGIN:VCALENDAR
VERSION:2.0
PRODID:-//KlassikAuto.pl - ECPv6.7.0//NONSGML v1.0//EN
CALSCALE:GREGORIAN
METHOD:PUBLISH
X-WR-CALNAME:KlassikAuto.pl
X-ORIGINAL-URL:https://klassikauto.pl
X-WR-CALDESC:Wydarzenia dla KlassikAuto.pl
REFRESH-INTERVAL;VALUE=DURATION:PT1H
X-Robots-Tag:noindex
X-PUBLISHED-TTL:PT1H
BEGIN:VTIMEZONE
TZID:Europe/Helsinki
BEGIN:DAYLIGHT
TZOFFSETFROM:+0200
TZOFFSETTO:+0300
TZNAME:EEST
DTSTART:20190331T010000
END:DAYLIGHT
BEGIN:STANDARD
TZOFFSETFROM:+0300
TZOFFSETTO:+0200
TZNAME:EET
DTSTART:20191027T010000
END:STANDARD
END:VTIMEZONE
BEGIN:VEVENT
DTSTART;TZID=Europe/Helsinki:20190705T080000
DTEND;TZID=Europe/Helsinki:20190901T170000
DTSTAMP:20260424T121326
CREATED:20181113T160913Z
LAST-MODIFIED:20181113T160913Z
UID:63207-1562313600-1567357200@klassikauto.pl
SUMMARY:Expostion: Citroën 100th anniversary - wystawa
DESCRIPTION:
URL:https://klassikauto.pl/impreza/expostion-citroen-100th-anniversary-wystawa/
LOCATION:Muzeum Autoworld\, Bruksela\, Belgia
CATEGORIES:Wystawa
END:VEVENT
BEGIN:VEVENT
DTSTART;TZID=Europe/Helsinki:20190821T080000
DTEND;TZID=Europe/Helsinki:20190825T170000
DTSTAMP:20260424T121326
CREATED:20181225T171108Z
LAST-MODIFIED:20181225T171108Z
UID:63983-1566374400-1566752400@klassikauto.pl
SUMMARY:Classic Mustang Rally
DESCRIPTION:Rajd na trasie Tarnowskie Góry – Kielce
URL:https://klassikauto.pl/impreza/classic-mustang-rally/
LOCATION:Tarnowskie Góry
CATEGORIES:Rajd
END:VEVENT
BEGIN:VEVENT
DTSTART;TZID=Europe/Helsinki:20190822T080000
DTEND;TZID=Europe/Helsinki:20190825T170000
DTSTAMP:20260424T121326
CREATED:20190807T185705Z
LAST-MODIFIED:20190807T185716Z
UID:68672-1566460800-1566752400@klassikauto.pl
SUMMARY:38 Rajd z okazji 60-lecia Automobilklubu Częstochowskiego
DESCRIPTION:
URL:https://klassikauto.pl/impreza/38-rajd-z-okazji-60cio-lecia-automobilklubu-czestochowskiego/
LOCATION:Częstochowa
CATEGORIES:Rajd
END:VEVENT
BEGIN:VEVENT
DTSTART;TZID=Europe/Helsinki:20190823T080000
DTEND;TZID=Europe/Helsinki:20190825T170000
DTSTAMP:20260424T121326
CREATED:20190103T160050Z
LAST-MODIFIED:20190103T160158Z
UID:64303-1566547200-1566752400@klassikauto.pl
SUMMARY:She’s Mercedes - IV Zlot Miłośniczek Zabytkowych Mercedesów
DESCRIPTION:
URL:https://klassikauto.pl/impreza/shes-mercedes-iv-zlot-milosniczek-zabytkowych-mercedesow/
LOCATION:Mierzęcin
CATEGORIES:Zlot
END:VEVENT
BEGIN:VEVENT
DTSTART;TZID=Europe/Helsinki:20190823T080000
DTEND;TZID=Europe/Helsinki:20190825T170000
DTSTAMP:20260424T121326
CREATED:20190213T174010Z
LAST-MODIFIED:20190213T174010Z
UID:65071-1566547200-1566752400@klassikauto.pl
SUMMARY:II Śląski Zlot Klasycznych Volkswagenów
DESCRIPTION:
URL:https://klassikauto.pl/impreza/ii-slaski-zlot-klasycznych-volkswagenow/
LOCATION:Tworóg
CATEGORIES:Zlot
END:VEVENT
BEGIN:VEVENT
DTSTART;TZID=Europe/Helsinki:20190823T080000
DTEND;TZID=Europe/Helsinki:20190825T170000
DTSTAMP:20260424T121326
CREATED:20190213T174650Z
LAST-MODIFIED:20190213T174650Z
UID:65078-1566547200-1566752400@klassikauto.pl
SUMMARY:Zlot Volkswagena Garbusa i innych Volkswagenów chłodzonych powietrzem
DESCRIPTION:
URL:https://klassikauto.pl/impreza/zlot-volkswagena-garbusa-i-innych-volkswagenow-chlodzonych-powietrzem/
LOCATION:Leszno
CATEGORIES:Zlot
END:VEVENT
BEGIN:VEVENT
DTSTART;TZID=Europe/Helsinki:20190823T080000
DTEND;TZID=Europe/Helsinki:20190825T170000
DTSTAMP:20260424T121326
CREATED:20190625T091547Z
LAST-MODIFIED:20190625T091547Z
UID:67828-1566547200-1566752400@klassikauto.pl
SUMMARY:8. Spęęd Wypasionych Garbusów 2019
DESCRIPTION:
URL:https://klassikauto.pl/impreza/8-speed-wypasionych-garbusow-2019/
LOCATION:Cieklin
CATEGORIES:Zlot
END:VEVENT
BEGIN:VEVENT
DTSTART;TZID=Europe/Helsinki:20190824T080000
DTEND;TZID=Europe/Helsinki:20190825T170000
DTSTAMP:20260424T121326
CREATED:20190213T185539Z
LAST-MODIFIED:20190213T185539Z
UID:65129-1566633600-1566752400@klassikauto.pl
SUMMARY:10. Mercedes Treffen Schöne Sterne 2019
DESCRIPTION:
URL:https://klassikauto.pl/impreza/10-mercedes-treffen-schone-sterne-2019/
LOCATION:Hattingen\, Niemcy
CATEGORIES:Zlot
END:VEVENT
BEGIN:VEVENT
DTSTART;TZID=Europe/Helsinki:20190824T080000
DTEND;TZID=Europe/Helsinki:20190825T170000
DTSTAMP:20260424T121326
CREATED:20190217T113942Z
LAST-MODIFIED:20190217T113942Z
UID:65302-1566633600-1566752400@klassikauto.pl
SUMMARY:Runda Mistrzostw Polski Pojazdów Zabytkowych PZM\, MPPZ (Samochody)
DESCRIPTION:
URL:https://klassikauto.pl/impreza/runda-mistrzostw-polski-pojazdow-zabytkowych-pzm-mppz-samochody/
LOCATION:Częstochowa
CATEGORIES:Rajd
END:VEVENT
BEGIN:VEVENT
DTSTART;TZID=Europe/Helsinki:20190824T080000
DTEND;TZID=Europe/Helsinki:20190825T170000
DTSTAMP:20260424T121326
CREATED:20190624T082317Z
LAST-MODIFIED:20190624T082317Z
UID:67738-1566633600-1566752400@klassikauto.pl
SUMMARY:4 Rajd i Zlot Pojazdów Zabytkowych Oldtimer Chojnów
DESCRIPTION:
URL:https://klassikauto.pl/impreza/4-rajd-i-zlot-pojazdow-zabytkowych-oldtimer-chojnow/
LOCATION:Chojnów
CATEGORIES:Rajd,Zlot
END:VEVENT
BEGIN:VEVENT
DTSTART;TZID=Europe/Helsinki:20190824T090000
DTEND;TZID=Europe/Helsinki:20190825T180000
DTSTAMP:20260424T121326
CREATED:20190321T185002Z
LAST-MODIFIED:20190321T185002Z
UID:65921-1566637200-1566756000@klassikauto.pl
SUMMARY:Vienna Classic Days 2019
DESCRIPTION:
URL:https://klassikauto.pl/impreza/vienna-classic-days-2019/
LOCATION:Wiedeń\, Austria
CATEGORIES:Zlot
END:VEVENT
BEGIN:VEVENT
DTSTART;TZID=Europe/Helsinki:20190824T100000
DTEND;TZID=Europe/Helsinki:20190825T160000
DTSTAMP:20260424T121326
CREATED:20190103T130355Z
LAST-MODIFIED:20190103T130355Z
UID:64199-1566640800-1566748800@klassikauto.pl
SUMMARY:VI Cross Country Motocykli Zabytkowych i Klasycznych
DESCRIPTION:
URL:https://klassikauto.pl/impreza/vi-cross-country-motocykli-zabytkowych-i-klasycznych/
LOCATION:Kurdwanów
CATEGORIES:Zlot
END:VEVENT
BEGIN:VEVENT
DTSTART;TZID=Europe/Helsinki:20190825T080000
DTEND;TZID=Europe/Helsinki:20190825T170000
DTSTAMP:20260424T121326
CREATED:20190217T114104Z
LAST-MODIFIED:20190217T114104Z
UID:65304-1566720000-1566752400@klassikauto.pl
SUMMARY:V Opolski Zjazd Pojazdów PRL-u
DESCRIPTION:
URL:https://klassikauto.pl/impreza/v-opolski-zjazd-pojazdow-prl-u/
LOCATION:Opole
CATEGORIES:Zlot
END:VEVENT
BEGIN:VEVENT
DTSTART;TZID=Europe/Helsinki:20190825T080000
DTEND;TZID=Europe/Helsinki:20190825T170000
DTSTAMP:20260424T121326
CREATED:20190624T090048Z
LAST-MODIFIED:20190624T090048Z
UID:67765-1566720000-1566752400@klassikauto.pl
SUMMARY:MotoPiknik. Zlot Motocykli SHL i Pojazdów Zabytkowych
DESCRIPTION:
URL:https://klassikauto.pl/impreza/motopiknik-zlot-motocykli-shl-i-pojazdow-zabytkowych/
LOCATION:Kielce
CATEGORIES:Zlot
END:VEVENT
BEGIN:VEVENT
DTSTART;TZID=Europe/Helsinki:20190825T090000
DTEND;TZID=Europe/Helsinki:20190825T170000
DTSTAMP:20260424T121327
CREATED:20190807T191704Z
LAST-MODIFIED:20190807T191704Z
UID:68697-1566723600-1566752400@klassikauto.pl
SUMMARY:VII Międzynarodowy Siedlecki Rajd Oldtimerów 2019
DESCRIPTION:
URL:https://klassikauto.pl/impreza/vii-miedzynarodowy-siedlecki-rajd-oldtimerow-2019/
LOCATION:Siedlce
CATEGORIES:Rajd
END:VEVENT
BEGIN:VEVENT
DTSTART;TZID=Europe/Helsinki:20190825T100000
DTEND;TZID=Europe/Helsinki:20190825T170000
DTSTAMP:20260424T121327
CREATED:20190807T185336Z
LAST-MODIFIED:20190807T185336Z
UID:68667-1566727200-1566752400@klassikauto.pl
SUMMARY:The End of Summer 2k19
DESCRIPTION:
URL:https://klassikauto.pl/impreza/the-end-of-summer-2k19/
LOCATION:Siemianowice Śląskie
CATEGORIES:Zlot
END:VEVENT
BEGIN:VEVENT
DTSTART;TZID=Europe/Helsinki:20190825T120000
DTEND;TZID=Europe/Helsinki:20190825T180000
DTSTAMP:20260424T121327
CREATED:20190807T190848Z
LAST-MODIFIED:20190807T190848Z
UID:68688-1566734400-1566756000@klassikauto.pl
SUMMARY:II Urodziny Nowa Iwiczna Classic Car
DESCRIPTION:
URL:https://klassikauto.pl/impreza/ii-urodziny-nowa-iwiczna-classic-car/
LOCATION:Mysiadło
CATEGORIES:Zlot
END:VEVENT
END:VCALENDAR
<!-- RunCloud Hub 2026-04-24 11:13:27 -->