BEGIN:VCALENDAR
VERSION:2.0
PRODID:-//KlassikAuto.pl - ECPv6.7.0//NONSGML v1.0//EN
CALSCALE:GREGORIAN
METHOD:PUBLISH
X-ORIGINAL-URL:https://klassikauto.pl
X-WR-CALDESC:Wydarzenia dla KlassikAuto.pl
REFRESH-INTERVAL;VALUE=DURATION:PT1H
X-Robots-Tag:noindex
X-PUBLISHED-TTL:PT1H
BEGIN:VTIMEZONE
TZID:Europe/Helsinki
BEGIN:DAYLIGHT
TZOFFSETFROM:+0200
TZOFFSETTO:+0300
TZNAME:EEST
DTSTART:20190331T010000
END:DAYLIGHT
BEGIN:STANDARD
TZOFFSETFROM:+0300
TZOFFSETTO:+0200
TZNAME:EET
DTSTART:20191027T010000
END:STANDARD
END:VTIMEZONE
BEGIN:VEVENT
DTSTART;TZID=Europe/Helsinki:20190705T080000
DTEND;TZID=Europe/Helsinki:20190901T170000
DTSTAMP:20260424T121459
CREATED:20181113T160913Z
LAST-MODIFIED:20181113T160913Z
UID:63207-1562313600-1567357200@klassikauto.pl
SUMMARY:Expostion: Citroën 100th anniversary - wystawa
DESCRIPTION:
URL:https://klassikauto.pl/impreza/expostion-citroen-100th-anniversary-wystawa/
LOCATION:Muzeum Autoworld\, Bruksela\, Belgia
CATEGORIES:Wystawa
END:VEVENT
BEGIN:VEVENT
DTSTART;TZID=Europe/Helsinki:20190821T080000
DTEND;TZID=Europe/Helsinki:20190825T170000
DTSTAMP:20260424T121459
CREATED:20181225T171108Z
LAST-MODIFIED:20181225T171108Z
UID:63983-1566374400-1566752400@klassikauto.pl
SUMMARY:Classic Mustang Rally
DESCRIPTION:Rajd na trasie Tarnowskie Góry – Kielce
URL:https://klassikauto.pl/impreza/classic-mustang-rally/
LOCATION:Tarnowskie Góry
CATEGORIES:Rajd
END:VEVENT
BEGIN:VEVENT
DTSTART;TZID=Europe/Helsinki:20190822T080000
DTEND;TZID=Europe/Helsinki:20190824T170000
DTSTAMP:20260424T121459
CREATED:20190103T142305Z
LAST-MODIFIED:20190103T142721Z
UID:64238-1566460800-1566666000@klassikauto.pl
SUMMARY:17. Sachsen Classic
DESCRIPTION:
URL:https://klassikauto.pl/impreza/17-sachsen-classic/
LOCATION:Drezdno\, Lipsk\, Niemcy
CATEGORIES:Rajd
END:VEVENT
BEGIN:VEVENT
DTSTART;TZID=Europe/Helsinki:20190822T080000
DTEND;TZID=Europe/Helsinki:20190825T170000
DTSTAMP:20260424T121459
CREATED:20190807T185705Z
LAST-MODIFIED:20190807T185716Z
UID:68672-1566460800-1566752400@klassikauto.pl
SUMMARY:38 Rajd z okazji 60-lecia Automobilklubu Częstochowskiego
DESCRIPTION:
URL:https://klassikauto.pl/impreza/38-rajd-z-okazji-60cio-lecia-automobilklubu-czestochowskiego/
LOCATION:Częstochowa
CATEGORIES:Rajd
END:VEVENT
BEGIN:VEVENT
DTSTART;TZID=Europe/Helsinki:20190823T080000
DTEND;TZID=Europe/Helsinki:20190825T170000
DTSTAMP:20260424T121459
CREATED:20190103T160050Z
LAST-MODIFIED:20190103T160158Z
UID:64303-1566547200-1566752400@klassikauto.pl
SUMMARY:She’s Mercedes - IV Zlot Miłośniczek Zabytkowych Mercedesów
DESCRIPTION:
URL:https://klassikauto.pl/impreza/shes-mercedes-iv-zlot-milosniczek-zabytkowych-mercedesow/
LOCATION:Mierzęcin
CATEGORIES:Zlot
END:VEVENT
BEGIN:VEVENT
DTSTART;TZID=Europe/Helsinki:20190823T080000
DTEND;TZID=Europe/Helsinki:20190825T170000
DTSTAMP:20260424T121459
CREATED:20190213T174010Z
LAST-MODIFIED:20190213T174010Z
UID:65071-1566547200-1566752400@klassikauto.pl
SUMMARY:II Śląski Zlot Klasycznych Volkswagenów
DESCRIPTION:
URL:https://klassikauto.pl/impreza/ii-slaski-zlot-klasycznych-volkswagenow/
LOCATION:Tworóg
CATEGORIES:Zlot
END:VEVENT
BEGIN:VEVENT
DTSTART;TZID=Europe/Helsinki:20190823T080000
DTEND;TZID=Europe/Helsinki:20190825T170000
DTSTAMP:20260424T121459
CREATED:20190213T174650Z
LAST-MODIFIED:20190213T174650Z
UID:65078-1566547200-1566752400@klassikauto.pl
SUMMARY:Zlot Volkswagena Garbusa i innych Volkswagenów chłodzonych powietrzem
DESCRIPTION:
URL:https://klassikauto.pl/impreza/zlot-volkswagena-garbusa-i-innych-volkswagenow-chlodzonych-powietrzem/
LOCATION:Leszno
CATEGORIES:Zlot
END:VEVENT
BEGIN:VEVENT
DTSTART;TZID=Europe/Helsinki:20190823T080000
DTEND;TZID=Europe/Helsinki:20190825T170000
DTSTAMP:20260424T121459
CREATED:20190625T091547Z
LAST-MODIFIED:20190625T091547Z
UID:67828-1566547200-1566752400@klassikauto.pl
SUMMARY:8. Spęęd Wypasionych Garbusów 2019
DESCRIPTION:
URL:https://klassikauto.pl/impreza/8-speed-wypasionych-garbusow-2019/
LOCATION:Cieklin
CATEGORIES:Zlot
END:VEVENT
BEGIN:VEVENT
DTSTART;TZID=Europe/Helsinki:20190823T120000
DTEND;TZID=Europe/Helsinki:20190823T170000
DTSTAMP:20260424T121459
CREATED:20190217T095038Z
LAST-MODIFIED:20190217T095038Z
UID:65216-1566561600-1566579600@klassikauto.pl
SUMMARY:XIX Pożegnanie Wakacji w Rudawce & Wyścigi Traktorów
DESCRIPTION:
URL:https://klassikauto.pl/impreza/xix-pozegnanie-wakacji-w-rudawce-wyscigi-traktorow/
LOCATION:Rudawka Rymanowska
CATEGORIES:Zlot
END:VEVENT
BEGIN:VEVENT
DTSTART;TZID=Europe/Helsinki:20190823T190000
DTEND;TZID=Europe/Helsinki:20190823T220000
DTSTAMP:20260424T121459
CREATED:20190807T192453Z
LAST-MODIFIED:20190807T192453Z
UID:68706-1566586800-1566597600@klassikauto.pl
SUMMARY:Wyścig Nocny Pojazdów Zabytkowych
DESCRIPTION:
URL:https://klassikauto.pl/impreza/wyscig-nocny-pojazdow-zabytkowych/
LOCATION:Częstochowa
CATEGORIES:Rajd
END:VEVENT
END:VCALENDAR
<!-- RunCloud Hub 2026-04-24 11:14:59 -->