BEGIN:VCALENDAR
VERSION:2.0
PRODID:-//KlassikAuto.pl - ECPv6.7.0//NONSGML v1.0//EN
CALSCALE:GREGORIAN
METHOD:PUBLISH
X-ORIGINAL-URL:https://klassikauto.pl
X-WR-CALDESC:Wydarzenia dla KlassikAuto.pl
REFRESH-INTERVAL;VALUE=DURATION:PT1H
X-Robots-Tag:noindex
X-PUBLISHED-TTL:PT1H
BEGIN:VTIMEZONE
TZID:Europe/Helsinki
BEGIN:DAYLIGHT
TZOFFSETFROM:+0200
TZOFFSETTO:+0300
TZNAME:EEST
DTSTART:20190331T010000
END:DAYLIGHT
BEGIN:STANDARD
TZOFFSETFROM:+0300
TZOFFSETTO:+0200
TZNAME:EET
DTSTART:20191027T010000
END:STANDARD
END:VTIMEZONE
BEGIN:VEVENT
DTSTART;TZID=Europe/Helsinki:20190705T080000
DTEND;TZID=Europe/Helsinki:20190901T170000
DTSTAMP:20260424T121459
CREATED:20181113T160913Z
LAST-MODIFIED:20181113T160913Z
UID:63207-1562313600-1567357200@klassikauto.pl
SUMMARY:Expostion: Citroën 100th anniversary - wystawa
DESCRIPTION:
URL:https://klassikauto.pl/impreza/expostion-citroen-100th-anniversary-wystawa/
LOCATION:Muzeum Autoworld\, Bruksela\, Belgia
CATEGORIES:Wystawa
END:VEVENT
BEGIN:VEVENT
DTSTART;TZID=Europe/Helsinki:20190814T080000
DTEND;TZID=Europe/Helsinki:20190818T170000
DTSTAMP:20260424T121459
CREATED:20190217T113142Z
LAST-MODIFIED:20190217T113142Z
UID:65298-1565769600-1566147600@klassikauto.pl
SUMMARY:VI American Dream Car Show - Łeba 2019 -Zlot Samochodów Amerykańskich
DESCRIPTION:
URL:https://klassikauto.pl/impreza/vi-american-dream-car-show-leba-2019-zlot-samochodow-amerykanskich/
LOCATION:Łeba
CATEGORIES:Zlot
END:VEVENT
BEGIN:VEVENT
DTSTART;TZID=Europe/Helsinki:20190814T080000
DTEND;TZID=Europe/Helsinki:20190818T170000
DTSTAMP:20260424T121459
CREATED:20190217T113337Z
LAST-MODIFIED:20190217T113337Z
UID:65300-1565769600-1566147600@klassikauto.pl
SUMMARY:IV  Zlot Miłośników Garbusów Bulików i Ogórków
DESCRIPTION:
URL:https://klassikauto.pl/impreza/iv-zlot-milosnikow-garbusow-bulikow-i-ogorkow/
LOCATION:Łeba
CATEGORIES:Zlot
END:VEVENT
BEGIN:VEVENT
DTSTART;TZID=Europe/Helsinki:20190814T080000
DTEND;TZID=Europe/Helsinki:20190818T170000
DTSTAMP:20260424T121459
CREATED:20190625T094602Z
LAST-MODIFIED:20190625T094602Z
UID:67852-1565769600-1566147600@klassikauto.pl
SUMMARY:IX Międzynarodowy Zlot Motocyklowy BIKE WEEK ŁEBA 2019
DESCRIPTION:
URL:https://klassikauto.pl/impreza/ix-miedzynarodowy-zlot-motocyklowy-bike-week-leba-2019/
LOCATION:Łeba
CATEGORIES:Zlot
END:VEVENT
BEGIN:VEVENT
DTSTART;TZID=Europe/Helsinki:20190815T080000
DTEND;TZID=Europe/Helsinki:20190816T170000
DTSTAMP:20260424T121459
CREATED:20190624T091634Z
LAST-MODIFIED:20190624T091634Z
UID:67781-1565856000-1565974800@klassikauto.pl
SUMMARY:Rajd Klasyczny Warszawa-Topacz 2019 (III edycja)
DESCRIPTION:
URL:https://klassikauto.pl/impreza/rajd-klasyczny-warszawa-topacz-2019-iii-edycja/
LOCATION:Warszawa
CATEGORIES:Rajd
END:VEVENT
BEGIN:VEVENT
DTSTART;TZID=Europe/Helsinki:20190815T080000
DTEND;TZID=Europe/Helsinki:20190818T170000
DTSTAMP:20260424T121459
CREATED:20181225T170548Z
LAST-MODIFIED:20181225T170548Z
UID:63977-1565856000-1566147600@klassikauto.pl
SUMMARY:16 Ogólnopolski Zlot Fiatów 126p
DESCRIPTION:
URL:https://klassikauto.pl/impreza/16-ogolnopolski-zlot-fiatow-126p/
LOCATION:Bystry\, gmina Giżycko
CATEGORIES:Zlot
END:VEVENT
BEGIN:VEVENT
DTSTART;TZID=Europe/Helsinki:20190815T080000
DTEND;TZID=Europe/Helsinki:20190818T170000
DTSTAMP:20260424T121459
CREATED:20190213T193222Z
LAST-MODIFIED:20190213T193222Z
UID:65146-1565856000-1566147600@klassikauto.pl
SUMMARY:Trabantem w Bieszczady 2019
DESCRIPTION:
URL:https://klassikauto.pl/impreza/trabantem-w-bieszczady-2019/
LOCATION:Czarna Góra
CATEGORIES:Zlot
END:VEVENT
BEGIN:VEVENT
DTSTART;TZID=Europe/Helsinki:20190816T080000
DTEND;TZID=Europe/Helsinki:20190817T170000
DTSTAMP:20260424T121459
CREATED:20181225T114126Z
LAST-MODIFIED:20181225T174902Z
UID:63947-1565942400-1566061200@klassikauto.pl
SUMMARY:RM Sotheby's 2019\, Monterey
DESCRIPTION:Monterey Conference Center\, Monterey\, California
URL:https://klassikauto.pl/impreza/rm-sothebys-2019-monterey/
LOCATION:Monterey\, USA
CATEGORIES:Aukcja
END:VEVENT
BEGIN:VEVENT
DTSTART;TZID=Europe/Helsinki:20190816T080000
DTEND;TZID=Europe/Helsinki:20190818T170000
DTSTAMP:20260424T121459
CREATED:20190125T185123Z
LAST-MODIFIED:20190125T185123Z
UID:64579-1565942400-1566147600@klassikauto.pl
SUMMARY:Car Paradise 2019 - Zlot
DESCRIPTION:
URL:https://klassikauto.pl/impreza/car-paradise-2019-zlot/
LOCATION:Lipka
CATEGORIES:Zlot
END:VEVENT
BEGIN:VEVENT
DTSTART;TZID=Europe/Helsinki:20190816T080000
DTEND;TZID=Europe/Helsinki:20190818T170000
DTSTAMP:20260424T121459
CREATED:20190423T165731Z
LAST-MODIFIED:20190423T165731Z
UID:66456-1565942400-1566147600@klassikauto.pl
SUMMARY:V Zlot VW Garbusa & CO Śladami Pana Samochodzika
DESCRIPTION:
URL:https://klassikauto.pl/impreza/v-zlot-vw-garbusa-co-sladami-pana-samochodzika/
LOCATION:Frombork
CATEGORIES:Zlot
END:VEVENT
BEGIN:VEVENT
DTSTART;TZID=Europe/Helsinki:20190816T080000
DTEND;TZID=Europe/Helsinki:20190818T170000
DTSTAMP:20260424T121459
CREATED:20190807T190059Z
LAST-MODIFIED:20190807T190059Z
UID:68677-1565942400-1566147600@klassikauto.pl
SUMMARY:VI Radomski Zlot Marki Mercedes - Benz
DESCRIPTION:
URL:https://klassikauto.pl/impreza/vi-radomski-zlot-marki-mercedes-benz/
LOCATION:Radom
CATEGORIES:Zlot
END:VEVENT
BEGIN:VEVENT
DTSTART;TZID=Europe/Helsinki:20190816T120000
DTEND;TZID=Europe/Helsinki:20190818T180000
DTSTAMP:20260424T121459
CREATED:20190103T125815Z
LAST-MODIFIED:20190103T125815Z
UID:64190-1565956800-1566151200@klassikauto.pl
SUMMARY:Car Paradise 2019
DESCRIPTION:
URL:https://klassikauto.pl/impreza/car-paradise-2019/
LOCATION:Lipka
CATEGORIES:Zlot
END:VEVENT
END:VCALENDAR
<!-- RunCloud Hub 2026-04-24 11:14:59 -->