BEGIN:VCALENDAR
VERSION:2.0
PRODID:-//KlassikAuto.pl - ECPv6.7.0//NONSGML v1.0//EN
CALSCALE:GREGORIAN
METHOD:PUBLISH
X-ORIGINAL-URL:https://klassikauto.pl
X-WR-CALDESC:Wydarzenia dla KlassikAuto.pl
REFRESH-INTERVAL;VALUE=DURATION:PT1H
X-Robots-Tag:noindex
X-PUBLISHED-TTL:PT1H
BEGIN:VTIMEZONE
TZID:Europe/Helsinki
BEGIN:DAYLIGHT
TZOFFSETFROM:+0200
TZOFFSETTO:+0300
TZNAME:EEST
DTSTART:20190331T010000
END:DAYLIGHT
BEGIN:STANDARD
TZOFFSETFROM:+0300
TZOFFSETTO:+0200
TZNAME:EET
DTSTART:20191027T010000
END:STANDARD
END:VTIMEZONE
BEGIN:VEVENT
DTSTART;TZID=Europe/Helsinki:20190705T080000
DTEND;TZID=Europe/Helsinki:20190901T170000
DTSTAMP:20260424T135523
CREATED:20181113T160913Z
LAST-MODIFIED:20181113T160913Z
UID:63207-1562313600-1567357200@klassikauto.pl
SUMMARY:Expostion: Citroën 100th anniversary - wystawa
DESCRIPTION:
URL:https://klassikauto.pl/impreza/expostion-citroen-100th-anniversary-wystawa/
LOCATION:Muzeum Autoworld\, Bruksela\, Belgia
CATEGORIES:Wystawa
END:VEVENT
BEGIN:VEVENT
DTSTART;TZID=Europe/Helsinki:20190724T080000
DTEND;TZID=Europe/Helsinki:20190728T170000
DTSTAMP:20260424T135523
CREATED:20190625T085912Z
LAST-MODIFIED:20190625T085912Z
UID:67820-1563955200-1564333200@klassikauto.pl
SUMMARY:Oldtimer-Festspiele im Alpenvorland
DESCRIPTION:
URL:https://klassikauto.pl/impreza/oldtimer-festspiele-im-alpenvorland/
LOCATION:Niemcy
CATEGORIES:Rajd
END:VEVENT
BEGIN:VEVENT
DTSTART;TZID=Europe/Helsinki:20190726T080000
DTEND;TZID=Europe/Helsinki:20190728T170000
DTSTAMP:20260424T135523
CREATED:20190213T172943Z
LAST-MODIFIED:20190213T172943Z
UID:65063-1564128000-1564333200@klassikauto.pl
SUMMARY:Jurassic Cars Party 2019
DESCRIPTION:
URL:https://klassikauto.pl/impreza/jurassic-cars-party-2019/
LOCATION:Bałtów\, Kielce
CATEGORIES:Zlot
END:VEVENT
BEGIN:VEVENT
DTSTART;TZID=Europe/Helsinki:20190726T080000
DTEND;TZID=Europe/Helsinki:20190728T170000
DTSTAMP:20260424T135523
CREATED:20190625T093801Z
LAST-MODIFIED:20190625T093801Z
UID:67842-1564128000-1564333200@klassikauto.pl
SUMMARY:III Zlot Zabytkowych Samochodów Dostawczych oraz Jednośladów PRL
DESCRIPTION:
URL:https://klassikauto.pl/impreza/iii-zlot-zabytkowych-samochodow-dostawczych-oraz-jednosladow-prl/
LOCATION:Dopiewo
CATEGORIES:Zlot
END:VEVENT
BEGIN:VEVENT
DTSTART;TZID=Europe/Helsinki:20190727T080000
DTEND;TZID=Europe/Helsinki:20190728T170000
DTSTAMP:20260424T135523
CREATED:20190217T112350Z
LAST-MODIFIED:20190217T112350Z
UID:65292-1564214400-1564333200@klassikauto.pl
SUMMARY:XII Zlot Oldtimerów
DESCRIPTION:
URL:https://klassikauto.pl/impreza/xii-zlot-oldtimerow/
LOCATION:Dobrzeń Wielki
CATEGORIES:Zlot
END:VEVENT
BEGIN:VEVENT
DTSTART;TZID=Europe/Helsinki:20190727T080000
DTEND;TZID=Europe/Helsinki:20190728T170000
DTSTAMP:20260424T135523
CREATED:20190610T174200Z
LAST-MODIFIED:20190610T174200Z
UID:67354-1564214400-1564333200@klassikauto.pl
SUMMARY:Zlot Samochodów Zabytkowych
DESCRIPTION:
URL:https://klassikauto.pl/impreza/zlot-samochodow-zabytkowych/
LOCATION:Dobrzeń Wielki
CATEGORIES:Zlot
END:VEVENT
BEGIN:VEVENT
DTSTART;TZID=Europe/Helsinki:20190728T080000
DTEND;TZID=Europe/Helsinki:20190728T170000
DTSTAMP:20260424T135523
CREATED:20190625T090654Z
LAST-MODIFIED:20190625T090654Z
UID:67825-1564300800-1564333200@klassikauto.pl
SUMMARY:Oldtimer Brunch
DESCRIPTION:
URL:https://klassikauto.pl/impreza/oldtimer-brunch/
LOCATION:Herten\, Niemcy
CATEGORIES:Zlot
END:VEVENT
BEGIN:VEVENT
DTSTART;TZID=Europe/Helsinki:20190728T080000
DTEND;TZID=Europe/Helsinki:20190728T170000
DTSTAMP:20260424T135523
CREATED:20190807T201919Z
LAST-MODIFIED:20190807T201919Z
UID:68751-1564300800-1564333200@klassikauto.pl
SUMMARY:Klasyczna Roskosz 2019
DESCRIPTION:– Zlot Pojazdów Zabytkowych i Nietypowych
URL:https://klassikauto.pl/impreza/klasyczna-roskosz-2019/
LOCATION:Biała Podlaska
CATEGORIES:Zlot
END:VEVENT
END:VCALENDAR
<!-- RunCloud Hub 2026-04-24 12:55:23 -->