BEGIN:VCALENDAR
VERSION:2.0
PRODID:-//KlassikAuto.pl - ECPv6.7.0//NONSGML v1.0//EN
CALSCALE:GREGORIAN
METHOD:PUBLISH
X-ORIGINAL-URL:https://klassikauto.pl
X-WR-CALDESC:Wydarzenia dla KlassikAuto.pl
REFRESH-INTERVAL;VALUE=DURATION:PT1H
X-Robots-Tag:noindex
X-PUBLISHED-TTL:PT1H
BEGIN:VTIMEZONE
TZID:Europe/Helsinki
BEGIN:DAYLIGHT
TZOFFSETFROM:+0200
TZOFFSETTO:+0300
TZNAME:EEST
DTSTART:20190331T010000
END:DAYLIGHT
BEGIN:STANDARD
TZOFFSETFROM:+0300
TZOFFSETTO:+0200
TZNAME:EET
DTSTART:20191027T010000
END:STANDARD
END:VTIMEZONE
BEGIN:VEVENT
DTSTART;TZID=Europe/Helsinki:20190705T080000
DTEND;TZID=Europe/Helsinki:20190901T170000
DTSTAMP:20260424T141835
CREATED:20181113T160913Z
LAST-MODIFIED:20181113T160913Z
UID:63207-1562313600-1567357200@klassikauto.pl
SUMMARY:Expostion: Citroën 100th anniversary - wystawa
DESCRIPTION:
URL:https://klassikauto.pl/impreza/expostion-citroen-100th-anniversary-wystawa/
LOCATION:Muzeum Autoworld\, Bruksela\, Belgia
CATEGORIES:Wystawa
END:VEVENT
BEGIN:VEVENT
DTSTART;TZID=Europe/Helsinki:20190719T080000
DTEND;TZID=Europe/Helsinki:20190721T170000
DTSTAMP:20260424T141835
CREATED:20190512T190830Z
LAST-MODIFIED:20190512T190830Z
UID:66768-1563523200-1563728400@klassikauto.pl
SUMMARY:VIII Olsztyński Zlot Miłośników Pojazdów PRL
DESCRIPTION:
URL:https://klassikauto.pl/impreza/viii-olsztynski-zlot-milosnikow-pojazdow-prl/
LOCATION:Olsztyn
CATEGORIES:Zlot
END:VEVENT
BEGIN:VEVENT
DTSTART;TZID=Europe/Helsinki:20190719T120000
DTEND;TZID=Europe/Helsinki:20190720T120000
DTSTAMP:20260424T141835
CREATED:20181225T170327Z
LAST-MODIFIED:20181225T170605Z
UID:63975-1563537600-1563624000@klassikauto.pl
SUMMARY:Zlot Weteranów Szos - Historia na kołach 2019
DESCRIPTION:
URL:https://klassikauto.pl/impreza/zlot-weteranow-szos-historia-na-kolach-2019/
LOCATION:Starogard Gdański
CATEGORIES:Zlot
END:VEVENT
END:VCALENDAR
<!-- RunCloud Hub 2026-04-24 13:18:35 -->