BEGIN:VCALENDAR
VERSION:2.0
PRODID:-//KlassikAuto.pl - ECPv6.7.0//NONSGML v1.0//EN
CALSCALE:GREGORIAN
METHOD:PUBLISH
X-WR-CALNAME:KlassikAuto.pl
X-ORIGINAL-URL:https://klassikauto.pl
X-WR-CALDESC:Wydarzenia dla KlassikAuto.pl
REFRESH-INTERVAL;VALUE=DURATION:PT1H
X-Robots-Tag:noindex
X-PUBLISHED-TTL:PT1H
BEGIN:VTIMEZONE
TZID:Europe/Helsinki
BEGIN:DAYLIGHT
TZOFFSETFROM:+0200
TZOFFSETTO:+0300
TZNAME:EEST
DTSTART:20190331T010000
END:DAYLIGHT
BEGIN:STANDARD
TZOFFSETFROM:+0300
TZOFFSETTO:+0200
TZNAME:EET
DTSTART:20191027T010000
END:STANDARD
END:VTIMEZONE
BEGIN:VEVENT
DTSTART;TZID=Europe/Helsinki:20190705T080000
DTEND;TZID=Europe/Helsinki:20190901T170000
DTSTAMP:20260424T141727
CREATED:20181113T160913Z
LAST-MODIFIED:20181113T160913Z
UID:63207-1562313600-1567357200@klassikauto.pl
SUMMARY:Expostion: Citroën 100th anniversary - wystawa
DESCRIPTION:
URL:https://klassikauto.pl/impreza/expostion-citroen-100th-anniversary-wystawa/
LOCATION:Muzeum Autoworld\, Bruksela\, Belgia
CATEGORIES:Wystawa
END:VEVENT
BEGIN:VEVENT
DTSTART;TZID=Europe/Helsinki:20190710T080000
DTEND;TZID=Europe/Helsinki:20190714T170000
DTSTAMP:20260424T141727
CREATED:20190217T111133Z
LAST-MODIFIED:20190217T111133Z
UID:65284-1562745600-1563123600@klassikauto.pl
SUMMARY:42 Beskidzki Rajd Pojazdów Zabytkowych
DESCRIPTION:
URL:https://klassikauto.pl/impreza/42-beskidzki-rajd-pojazdow-zabytkowych/
LOCATION:Jaworze
CATEGORIES:Rajd
END:VEVENT
BEGIN:VEVENT
DTSTART;TZID=Europe/Helsinki:20190711T080000
DTEND;TZID=Europe/Helsinki:20190713T170000
DTSTAMP:20260424T141727
CREATED:20190304T180432Z
LAST-MODIFIED:20190304T180432Z
UID:65628-1562832000-1563037200@klassikauto.pl
SUMMARY:Rally Heidelberg Historic 2019
DESCRIPTION:
URL:https://klassikauto.pl/impreza/rally-heidelberg-historic-2019/
LOCATION:Heildelberg\, Niemcy
CATEGORIES:Rajd
END:VEVENT
BEGIN:VEVENT
DTSTART;TZID=Europe/Helsinki:20190711T080000
DTEND;TZID=Europe/Helsinki:20190714T170000
DTSTAMP:20260424T141727
CREATED:20190217T111313Z
LAST-MODIFIED:20190217T111313Z
UID:65287-1562832000-1563123600@klassikauto.pl
SUMMARY:X Rajd Pojazdów Zabytkowych
DESCRIPTION:Rajd motocyklowy
URL:https://klassikauto.pl/impreza/x-rajd-pojazdow-zabytkowych/
LOCATION:Lutocin
CATEGORIES:Rajd
END:VEVENT
END:VCALENDAR
<!-- RunCloud Hub 2026-04-24 13:17:27 -->