BEGIN:VCALENDAR
VERSION:2.0
PRODID:-//KlassikAuto.pl - ECPv6.7.0//NONSGML v1.0//EN
CALSCALE:GREGORIAN
METHOD:PUBLISH
X-WR-CALNAME:KlassikAuto.pl
X-ORIGINAL-URL:https://klassikauto.pl
X-WR-CALDESC:Wydarzenia dla KlassikAuto.pl
REFRESH-INTERVAL;VALUE=DURATION:PT1H
X-Robots-Tag:noindex
X-PUBLISHED-TTL:PT1H
BEGIN:VTIMEZONE
TZID:Europe/Helsinki
BEGIN:DAYLIGHT
TZOFFSETFROM:+0200
TZOFFSETTO:+0300
TZNAME:EEST
DTSTART:20190331T010000
END:DAYLIGHT
BEGIN:STANDARD
TZOFFSETFROM:+0300
TZOFFSETTO:+0200
TZNAME:EET
DTSTART:20191027T010000
END:STANDARD
END:VTIMEZONE
BEGIN:VEVENT
DTSTART;TZID=Europe/Helsinki:20190701T080000
DTEND;TZID=Europe/Helsinki:20190707T170000
DTSTAMP:20260424T141728
CREATED:20190209T150904Z
LAST-MODIFIED:20190209T151102Z
UID:64991-1561968000-1562518800@klassikauto.pl
SUMMARY:2019 - FIVA World Rally\, Andorra
DESCRIPTION:Rajd: Andora\, Francja\, Hiszpaia
URL:https://klassikauto.pl/impreza/2019-fiva-world-rally-andorra/
CATEGORIES:Rajd
END:VEVENT
BEGIN:VEVENT
DTSTART;TZID=Europe/Helsinki:20190701T080000
DTEND;TZID=Europe/Helsinki:20190707T170000
DTSTAMP:20260424T141728
CREATED:20190308T181956Z
LAST-MODIFIED:20190308T181956Z
UID:65707-1561968000-1562518800@klassikauto.pl
SUMMARY:XXII Międzynarodowy Zlot Historycznych Pojazdów Wojskowych
DESCRIPTION:
URL:https://klassikauto.pl/impreza/xxii-miedzynarodowy-zlot-historycznych-pojazdow-wojskowych/
LOCATION:Darłowo
CATEGORIES:Zlot
END:VEVENT
BEGIN:VEVENT
DTSTART;TZID=Europe/Helsinki:20190703T080000
DTEND;TZID=Europe/Helsinki:20190707T170000
DTSTAMP:20260424T141728
CREATED:20190103T154526Z
LAST-MODIFIED:20190103T154526Z
UID:64286-1562140800-1562518800@klassikauto.pl
SUMMARY:ADAC Deutschland Klassik 2019
DESCRIPTION:
URL:https://klassikauto.pl/impreza/adac-deutschland-klassik-2019/
LOCATION:Wolfsburg\, Niemcy
CATEGORIES:Rajd
END:VEVENT
BEGIN:VEVENT
DTSTART;TZID=Europe/Helsinki:20190704T080000
DTEND;TZID=Europe/Helsinki:20190706T170000
DTSTAMP:20260424T141728
CREATED:20190103T142014Z
LAST-MODIFIED:20190103T142530Z
UID:64234-1562227200-1562432400@klassikauto.pl
SUMMARY:22. Silvretta Classic Rallye Montafon
DESCRIPTION:
URL:https://klassikauto.pl/impreza/22-silvretta-classic-rallye-montafon/
LOCATION:Montafon\, Austria
CATEGORIES:Rajd
END:VEVENT
BEGIN:VEVENT
DTSTART;TZID=Europe/Helsinki:20190704T080000
DTEND;TZID=Europe/Helsinki:20190707T170000
DTSTAMP:20260424T141728
CREATED:20190103T161224Z
LAST-MODIFIED:20190103T161224Z
UID:64308-1562227200-1562518800@klassikauto.pl
SUMMARY:Festival of Speed 2019
DESCRIPTION:
URL:https://klassikauto.pl/impreza/festival-of-speed-2019/
LOCATION:Goodwood
CATEGORIES:Rajd
END:VEVENT
BEGIN:VEVENT
DTSTART;TZID=Europe/Helsinki:20190704T080000
DTEND;TZID=Europe/Helsinki:20190707T170000
DTSTAMP:20260424T141728
CREATED:20190213T174203Z
LAST-MODIFIED:20190213T174203Z
UID:65074-1562227200-1562518800@klassikauto.pl
SUMMARY:XIX European Classic VW meeting - "Garbojama 2019"
DESCRIPTION:
URL:https://klassikauto.pl/impreza/xix-european-classic-vw-meeting-garbojama-2019/
LOCATION:Liszki\, Cholerzyn
CATEGORIES:Zlot
END:VEVENT
BEGIN:VEVENT
DTSTART;TZID=Europe/Helsinki:20190705T080000
DTEND;TZID=Europe/Helsinki:20190707T170000
DTSTAMP:20260424T141728
CREATED:20190213T175045Z
LAST-MODIFIED:20190213T175045Z
UID:65083-1562313600-1562518800@klassikauto.pl
SUMMARY:18 ZLOT Miłośników VW GarBusa w Sztumie - 25 lecie 1994-2019
DESCRIPTION:
URL:https://klassikauto.pl/impreza/18-zlot-milosnikow-vw-garbusa-w-sztumie-25-lecie-1994-2019/
LOCATION:Sztum
CATEGORIES:Zlot
END:VEVENT
BEGIN:VEVENT
DTSTART;TZID=Europe/Helsinki:20190705T080000
DTEND;TZID=Europe/Helsinki:20190901T170000
DTSTAMP:20260424T141728
CREATED:20181113T160913Z
LAST-MODIFIED:20181113T160913Z
UID:63207-1562313600-1567357200@klassikauto.pl
SUMMARY:Expostion: Citroën 100th anniversary - wystawa
DESCRIPTION:
URL:https://klassikauto.pl/impreza/expostion-citroen-100th-anniversary-wystawa/
LOCATION:Muzeum Autoworld\, Bruksela\, Belgia
CATEGORIES:Wystawa
END:VEVENT
END:VCALENDAR
<!-- RunCloud Hub 2026-04-24 13:17:28 -->