BEGIN:VCALENDAR
VERSION:2.0
PRODID:-//KlassikAuto.pl - ECPv6.7.0//NONSGML v1.0//EN
CALSCALE:GREGORIAN
METHOD:PUBLISH
X-WR-CALNAME:KlassikAuto.pl
X-ORIGINAL-URL:https://klassikauto.pl
X-WR-CALDESC:Wydarzenia dla KlassikAuto.pl
REFRESH-INTERVAL;VALUE=DURATION:PT1H
X-Robots-Tag:noindex
X-PUBLISHED-TTL:PT1H
BEGIN:VTIMEZONE
TZID:Europe/Helsinki
BEGIN:DAYLIGHT
TZOFFSETFROM:+0200
TZOFFSETTO:+0300
TZNAME:EEST
DTSTART:20190331T010000
END:DAYLIGHT
BEGIN:STANDARD
TZOFFSETFROM:+0300
TZOFFSETTO:+0200
TZNAME:EET
DTSTART:20191027T010000
END:STANDARD
END:VTIMEZONE
BEGIN:VEVENT
DTSTART;TZID=Europe/Helsinki:20190501T080000
DTEND;TZID=Europe/Helsinki:20190630T170000
DTSTAMP:20260424T161045
CREATED:20181113T160759Z
LAST-MODIFIED:20181113T160759Z
UID:63205-1556697600-1561914000@klassikauto.pl
SUMMARY:In the spotlight: Bentley 100th Anniversary - wystawa
DESCRIPTION:
URL:https://klassikauto.pl/impreza/in-the-spotlight-bentley-100th-anniversary-wystawa/
LOCATION:Muzeum Autoworld\, Bruksela\, Belgia
CATEGORIES:Wystawa
END:VEVENT
BEGIN:VEVENT
DTSTART;TZID=Europe/Helsinki:20190626T080000
DTEND;TZID=Europe/Helsinki:20190630T170000
DTSTAMP:20260424T161045
CREATED:20190209T150309Z
LAST-MODIFIED:20190209T150309Z
UID:64987-1561536000-1561914000@klassikauto.pl
SUMMARY:Mustang Race 2019
DESCRIPTION:
URL:https://klassikauto.pl/impreza/mustang-race-2019/
CATEGORIES:Rajd
END:VEVENT
BEGIN:VEVENT
DTSTART;TZID=Europe/Helsinki:20190627T080000
DTEND;TZID=Europe/Helsinki:20190629T170000
DTSTAMP:20260424T161045
CREATED:20190218T185504Z
LAST-MODIFIED:20190218T185504Z
UID:65349-1561622400-1561827600@klassikauto.pl
SUMMARY:14. Donau Classic
DESCRIPTION:
URL:https://klassikauto.pl/impreza/14-donau-classic/
LOCATION:Ingolstadt
CATEGORIES:Rajd
END:VEVENT
BEGIN:VEVENT
DTSTART;TZID=Europe/Helsinki:20190627T080000
DTEND;TZID=Europe/Helsinki:20190630T170000
DTSTAMP:20260424T161045
CREATED:20181113T162449Z
LAST-MODIFIED:20181113T162449Z
UID:63224-1561622400-1561914000@klassikauto.pl
SUMMARY:Elégance et Automobile
DESCRIPTION:
URL:https://klassikauto.pl/impreza/elegance-et-automobile/
LOCATION:Monte Carlo\, Monaco
CATEGORIES:Rajd,Targi,Wystawa
END:VEVENT
BEGIN:VEVENT
DTSTART;TZID=Europe/Helsinki:20190628T080000
DTEND;TZID=Europe/Helsinki:20190630T170000
DTSTAMP:20260424T161045
CREATED:20190125T195421Z
LAST-MODIFIED:20190125T195421Z
UID:64611-1561708800-1561914000@klassikauto.pl
SUMMARY:XV Nadmorski Zlot Garbusów & C.o. Niechorze
DESCRIPTION:
URL:https://klassikauto.pl/impreza/xv-nadmorski-zlot-garbusow-c-o-niechorze/
LOCATION:Niechorze
CATEGORIES:Zlot
END:VEVENT
BEGIN:VEVENT
DTSTART;TZID=Europe/Helsinki:20190628T080000
DTEND;TZID=Europe/Helsinki:20190630T170000
DTSTAMP:20260424T161045
CREATED:20190217T110437Z
LAST-MODIFIED:20190217T110437Z
UID:65276-1561708800-1561914000@klassikauto.pl
SUMMARY:XVI Międzynarodowy Rajd Pojazdów Zabytkowych IKAR 2019 „Z Karkonoszem w bagażniku”
DESCRIPTION:Start: Pałac Spiż-Miłków\, woj. dolnośląskie
URL:https://klassikauto.pl/impreza/xvi-miedzynarodowy-rajd-pojazdow-zabytkowych-ikar-2019-z-karkonoszem-w-bagazniku/
LOCATION:Miłków
CATEGORIES:Rajd
END:VEVENT
BEGIN:VEVENT
DTSTART;TZID=Europe/Helsinki:20190628T080000
DTEND;TZID=Europe/Helsinki:20190701T170000
DTSTAMP:20260424T161045
CREATED:20190304T180756Z
LAST-MODIFIED:20190304T180756Z
UID:65631-1561708800-1562000400@klassikauto.pl
SUMMARY:Mega Zlot Wszystkich Citroenów – Szreniawa 2019
DESCRIPTION:Z okazji 100 lecia marki organizujemy Mega Zlot Posiadaczy Citroenów. Na zlot zaproszone są WSZYSTKIE POJAZDY MARKI\, niezależnie od wieku i stanu technicznego.\nMiejsce:  Muzeum Narodowe Rolnictwa i Przemysłu Spożywczego w Szreniawie
URL:https://klassikauto.pl/impreza/mega-zlot-wszystkich-citroenow-szreniawa-2019/
LOCATION:Szreniawa
CATEGORIES:Zlot
END:VEVENT
BEGIN:VEVENT
DTSTART;TZID=Europe/Helsinki:20190628T120000
DTEND;TZID=Europe/Helsinki:20190630T100000
DTSTAMP:20260424T161045
CREATED:20190103T134657Z
LAST-MODIFIED:20190103T134657Z
UID:64215-1561723200-1561888800@klassikauto.pl
SUMMARY:Strážov Classic Rallye
DESCRIPTION:
URL:https://klassikauto.pl/impreza/strazov-classic-rallye/
LOCATION:Powaska Bystrzyca\, Słowacja
CATEGORIES:Rajd
END:VEVENT
BEGIN:VEVENT
DTSTART;TZID=Europe/Helsinki:20190628T160000
DTEND;TZID=Europe/Helsinki:20190628T200000
DTSTAMP:20260424T161045
CREATED:20190308T164614Z
LAST-MODIFIED:20190308T164614Z
UID:65673-1561737600-1561752000@klassikauto.pl
SUMMARY:VII Merc- Integra 2019
DESCRIPTION:
URL:https://klassikauto.pl/impreza/vii-merc-integra-2019/
LOCATION:Somianka
CATEGORIES:Zlot
END:VEVENT
END:VCALENDAR
<!-- RunCloud Hub 2026-04-24 15:10:45 -->