BEGIN:VCALENDAR
VERSION:2.0
PRODID:-//KlassikAuto.pl - ECPv6.7.0//NONSGML v1.0//EN
CALSCALE:GREGORIAN
METHOD:PUBLISH
X-WR-CALNAME:KlassikAuto.pl
X-ORIGINAL-URL:https://klassikauto.pl
X-WR-CALDESC:Wydarzenia dla KlassikAuto.pl
REFRESH-INTERVAL;VALUE=DURATION:PT1H
X-Robots-Tag:noindex
X-PUBLISHED-TTL:PT1H
BEGIN:VTIMEZONE
TZID:Europe/Helsinki
BEGIN:DAYLIGHT
TZOFFSETFROM:+0200
TZOFFSETTO:+0300
TZNAME:EEST
DTSTART:20190331T010000
END:DAYLIGHT
BEGIN:STANDARD
TZOFFSETFROM:+0300
TZOFFSETTO:+0200
TZNAME:EET
DTSTART:20191027T010000
END:STANDARD
END:VTIMEZONE
BEGIN:VEVENT
DTSTART;TZID=Europe/Helsinki:20190501T080000
DTEND;TZID=Europe/Helsinki:20190630T170000
DTSTAMP:20260424T161142
CREATED:20181113T160759Z
LAST-MODIFIED:20181113T160759Z
UID:63205-1556697600-1561914000@klassikauto.pl
SUMMARY:In the spotlight: Bentley 100th Anniversary - wystawa
DESCRIPTION:
URL:https://klassikauto.pl/impreza/in-the-spotlight-bentley-100th-anniversary-wystawa/
LOCATION:Muzeum Autoworld\, Bruksela\, Belgia
CATEGORIES:Wystawa
END:VEVENT
BEGIN:VEVENT
DTSTART;TZID=Europe/Helsinki:20190613T080000
DTEND;TZID=Europe/Helsinki:20190615T170000
DTSTAMP:20260424T161142
CREATED:20190513T173507Z
LAST-MODIFIED:20190513T173507Z
UID:66783-1560412800-1560618000@klassikauto.pl
SUMMARY:Oldtimer Bohemia Rally 2019
DESCRIPTION:
URL:https://klassikauto.pl/impreza/oldtimer-bohemia-rally-2019/
LOCATION:Mlada Boleslav\, Czechy
CATEGORIES:Rajd
END:VEVENT
BEGIN:VEVENT
DTSTART;TZID=Europe/Helsinki:20190613T080000
DTEND;TZID=Europe/Helsinki:20190616T170000
DTSTAMP:20260424T161142
CREATED:20190217T105814Z
LAST-MODIFIED:20190217T105814Z
UID:65271-1560412800-1560704400@klassikauto.pl
SUMMARY:30-ta Eurolambretta
DESCRIPTION:
URL:https://klassikauto.pl/impreza/30-ta-eurolambretta/
LOCATION:Zakopane
CATEGORIES:Zlot
END:VEVENT
BEGIN:VEVENT
DTSTART;TZID=Europe/Helsinki:20190613T080000
DTEND;TZID=Europe/Helsinki:20190616T170000
DTSTAMP:20260424T161142
CREATED:20190513T173258Z
LAST-MODIFIED:20190513T173258Z
UID:66780-1560412800-1560704400@klassikauto.pl
SUMMARY:XXII. mezinárodní sraz historických skútrů Zvůle u Kunžaku
DESCRIPTION:Międzynarodowe spotkanie zabytkowych skuterów produkcji Tatra\, Maneta\, Cezeta
URL:https://klassikauto.pl/impreza/xxii-mezinarodni-sraz-historickych-skutru-zvule-u-kunzaku/
LOCATION:Zvůle u Kunžaku\, Czechy
CATEGORIES:Zlot
END:VEVENT
BEGIN:VEVENT
DTSTART;TZID=Europe/Helsinki:20190614T080000
DTEND;TZID=Europe/Helsinki:20190615T170000
DTSTAMP:20260424T161142
CREATED:20190423T171804Z
LAST-MODIFIED:20190423T171804Z
UID:66461-1560499200-1560618000@klassikauto.pl
SUMMARY:34 Rajd Częstochowski Pojazdów Zabytkowych czyli II runda MPHHR
DESCRIPTION:
URL:https://klassikauto.pl/impreza/34-rajd-czestochowski-pojazdow-zabytkowych-czyli-ii-runda-mphhr/
LOCATION:Częstochowa
CATEGORIES:Rajd
END:VEVENT
BEGIN:VEVENT
DTSTART;TZID=Europe/Helsinki:20190614T080000
DTEND;TZID=Europe/Helsinki:20190616T170000
DTSTAMP:20260424T161142
CREATED:20190213T174901Z
LAST-MODIFIED:20190213T174901Z
UID:65081-1560499200-1560704400@klassikauto.pl
SUMMARY:XIX Jubileuszowy Zlot VW Garbusa & Co w Przybrodzinie
DESCRIPTION:
URL:https://klassikauto.pl/impreza/xix-jubileuszowy-zlot-vw-garbusa-co-w-przybrodzinie/
LOCATION:Przybrodzin
CATEGORIES:Zlot
END:VEVENT
BEGIN:VEVENT
DTSTART;TZID=Europe/Helsinki:20190614T080000
DTEND;TZID=Europe/Helsinki:20190616T170000
DTSTAMP:20260424T161142
CREATED:20190213T185239Z
LAST-MODIFIED:20190213T185239Z
UID:65127-1560499200-1560704400@klassikauto.pl
SUMMARY:5. MIB-Rallye 2019 - für Mercedes-Fan
DESCRIPTION:
URL:https://klassikauto.pl/impreza/5-mib-rallye-2019-fur-mercedes-fan/
LOCATION:Niemcy
CATEGORIES:Rajd
END:VEVENT
BEGIN:VEVENT
DTSTART;TZID=Europe/Helsinki:20190614T080000
DTEND;TZID=Europe/Helsinki:20190616T170000
DTSTAMP:20260424T161142
CREATED:20190218T185158Z
LAST-MODIFIED:20190218T185158Z
UID:65347-1560499200-1560704400@klassikauto.pl
SUMMARY:Retro Classics meets Barock
DESCRIPTION:
URL:https://klassikauto.pl/impreza/retro-classics-meets-barock/
LOCATION:Ludwigsburg
CATEGORIES:Zlot
END:VEVENT
BEGIN:VEVENT
DTSTART;TZID=Europe/Helsinki:20190614T080000
DTEND;TZID=Europe/Helsinki:20190616T170000
DTSTAMP:20260424T161142
CREATED:20190218T192239Z
LAST-MODIFIED:20190218T192239Z
UID:65360-1560499200-1560704400@klassikauto.pl
SUMMARY:III Zlot Żuka
DESCRIPTION:
URL:https://klassikauto.pl/impreza/iii-zlot-zuka/
LOCATION:Duszniki
CATEGORIES:Zlot
END:VEVENT
BEGIN:VEVENT
DTSTART;TZID=Europe/Helsinki:20190614T080000
DTEND;TZID=Europe/Helsinki:20190616T170000
DTSTAMP:20260424T161142
CREATED:20190423T162824Z
LAST-MODIFIED:20190423T162824Z
UID:66441-1560499200-1560704400@klassikauto.pl
SUMMARY:XVIII zlot Polskiego Klubu Fiata X 1/9
DESCRIPTION:
URL:https://klassikauto.pl/impreza/xviii-zlot-polskiego-klubu-fiata-x-1-9/
LOCATION:Dąbrowa Dolna
CATEGORIES:Zlot
END:VEVENT
BEGIN:VEVENT
DTSTART;TZID=Europe/Helsinki:20190614T120000
DTEND;TZID=Europe/Helsinki:20190616T120000
DTSTAMP:20260424T161142
CREATED:20190209T133325Z
LAST-MODIFIED:20190209T133325Z
UID:64952-1560513600-1560686400@klassikauto.pl
SUMMARY:VI Ogólnopolski Zlot Miłośników Renault Scenic
DESCRIPTION:
URL:https://klassikauto.pl/impreza/vi-ogolnopolski-zlot-milosnikow-renault-scenic/
LOCATION:Sielpia\, Kielce
CATEGORIES:Zlot
END:VEVENT
BEGIN:VEVENT
DTSTART;TZID=Europe/Helsinki:20190614T140000
DTEND;TZID=Europe/Helsinki:20190616T180000
DTSTAMP:20260424T161142
CREATED:20190209T125557Z
LAST-MODIFIED:20190209T125557Z
UID:64932-1560520800-1560708000@klassikauto.pl
SUMMARY:Honda Days 2019
DESCRIPTION:
URL:https://klassikauto.pl/impreza/honda-days-2019/
LOCATION:Nowodwór
CATEGORIES:Zlot
END:VEVENT
BEGIN:VEVENT
DTSTART;TZID=Europe/Helsinki:20190614T170000
DTEND;TZID=Europe/Helsinki:20190616T110000
DTSTAMP:20260424T161142
CREATED:20190103T123307Z
LAST-MODIFIED:20190103T123307Z
UID:64164-1560531600-1560682800@klassikauto.pl
SUMMARY:V MOTOBiWAK 2019
DESCRIPTION:Zalew Przeczycko-Siewierski
URL:https://klassikauto.pl/impreza/v-motobiwak-2019/
LOCATION:Siewierz
CATEGORIES:Zlot
END:VEVENT
BEGIN:VEVENT
DTSTART;TZID=Europe/Helsinki:20190614T170000
DTEND;TZID=Europe/Helsinki:20190616T120000
DTSTAMP:20260424T161142
CREATED:20190321T194409Z
LAST-MODIFIED:20190321T194409Z
UID:65926-1560531600-1560686400@klassikauto.pl
SUMMARY:8 Oravsky Veteran
DESCRIPTION:XVIII Rodzinne Spotkania Pojazdów Zabytkowych na Orawie
URL:https://klassikauto.pl/impreza/8-oravsky-veteran/
LOCATION:Námestovo\, Słowacja
CATEGORIES:Zlot
END:VEVENT
BEGIN:VEVENT
DTSTART;TZID=Europe/Helsinki:20190614T170000
DTEND;TZID=Europe/Helsinki:20190616T130000
DTSTAMP:20260424T161142
CREATED:20190103T123455Z
LAST-MODIFIED:20190103T123455Z
UID:64168-1560531600-1560690000@klassikauto.pl
SUMMARY:Weekend z pojazdami dwukołowymi i trójkołowymi
DESCRIPTION:
URL:https://klassikauto.pl/impreza/weekend-z-pojazdami-dwukolowymi-i-trojkolowymi/
LOCATION:Bożejewice
CATEGORIES:Zlot
END:VEVENT
BEGIN:VEVENT
DTSTART;TZID=Europe/Helsinki:20190615T080000
DTEND;TZID=Europe/Helsinki:20190615T170000
DTSTAMP:20260424T161142
CREATED:20190125T180505Z
LAST-MODIFIED:20190218T191322Z
UID:64535-1560585600-1560618000@klassikauto.pl
SUMMARY:V Klasyczne Dni Knurowa 2019
DESCRIPTION:Patronat medialny sprawuje KlassikAuto.pl
URL:https://klassikauto.pl/impreza/klasyczne-dni-knurowa-2019/
LOCATION:Knurów
CATEGORIES:Zlot
END:VEVENT
BEGIN:VEVENT
DTSTART;TZID=Europe/Helsinki:20190615T080000
DTEND;TZID=Europe/Helsinki:20190615T170000
DTSTAMP:20260424T161142
CREATED:20190125T181822Z
LAST-MODIFIED:20190125T181822Z
UID:64547-1560585600-1560618000@klassikauto.pl
SUMMARY:Turystyczny Puchar 126p Sezonu 2019
DESCRIPTION:Runda letnia
URL:https://klassikauto.pl/impreza/turystyczny-puchar-126p-sezonu-2019-2/
LOCATION:Warszawa
CATEGORIES:Rajd
END:VEVENT
BEGIN:VEVENT
DTSTART;TZID=Europe/Helsinki:20190615T080000
DTEND;TZID=Europe/Helsinki:20190615T170000
DTSTAMP:20260424T161142
CREATED:20190213T180123Z
LAST-MODIFIED:20190213T180123Z
UID:65089-1560585600-1560618000@klassikauto.pl
SUMMARY:Pacovský okruh 1906-2019
DESCRIPTION:XVIII Międzynarodowy Rajd Zabytkowych Motocykli
URL:https://klassikauto.pl/impreza/pacovsky-okruh-1906-2019/
LOCATION:Pacov\, Czechy
CATEGORIES:Rajd
END:VEVENT
BEGIN:VEVENT
DTSTART;TZID=Europe/Helsinki:20190615T080000
DTEND;TZID=Europe/Helsinki:20190615T170000
DTSTAMP:20260424T161142
CREATED:20190213T180433Z
LAST-MODIFIED:20190213T180433Z
UID:65092-1560585600-1560618000@klassikauto.pl
SUMMARY:Rajd zabytkowych samochodów - XIX. písecká jízda HV
DESCRIPTION:
URL:https://klassikauto.pl/impreza/rajd-zabytkowych-samochodow-xix-pisecka-jizda-hv/
LOCATION:Pisek\, Czechy
CATEGORIES:Rajd
END:VEVENT
BEGIN:VEVENT
DTSTART;TZID=Europe/Helsinki:20190615T080000
DTEND;TZID=Europe/Helsinki:20190615T170000
DTSTAMP:20260424T161142
CREATED:20190213T180653Z
LAST-MODIFIED:20190213T180653Z
UID:65095-1560585600-1560618000@klassikauto.pl
SUMMARY:Rajd - 35. Kolínská plaketová jízda historických vozidel
DESCRIPTION:
URL:https://klassikauto.pl/impreza/rajd-35-kolinska-plaketova-jizda-historickych-vozidel/
LOCATION:Kolin\, Czechy
CATEGORIES:Rajd
END:VEVENT
BEGIN:VEVENT
DTSTART;TZID=Europe/Helsinki:20190615T080000
DTEND;TZID=Europe/Helsinki:20190615T170000
DTSTAMP:20260424T161142
CREATED:20190217T091803Z
LAST-MODIFIED:20190217T091803Z
UID:65197-1560585600-1560618000@klassikauto.pl
SUMMARY:Piknik Rodzinny
DESCRIPTION:
URL:https://klassikauto.pl/impreza/piknik-rodzinny/
LOCATION:Kęsowo
CATEGORIES:Zlot
END:VEVENT
BEGIN:VEVENT
DTSTART;TZID=Europe/Helsinki:20190615T080000
DTEND;TZID=Europe/Helsinki:20190615T170000
DTSTAMP:20260424T161142
CREATED:20190217T110022Z
LAST-MODIFIED:20190217T110022Z
UID:65274-1560585600-1560618000@klassikauto.pl
SUMMARY:Varsopolis 2019
DESCRIPTION:
URL:https://klassikauto.pl/impreza/varsopolis-2019/
LOCATION:Warszawa
CATEGORIES:Rajd
END:VEVENT
BEGIN:VEVENT
DTSTART;TZID=Europe/Helsinki:20190615T080000
DTEND;TZID=Europe/Helsinki:20190615T170000
DTSTAMP:20260424T161142
CREATED:20190512T185840Z
LAST-MODIFIED:20190512T185840Z
UID:66762-1560585600-1560618000@klassikauto.pl
SUMMARY:Dni Kwidzyna Zlot Pojazdów Zabytkowych i z PRL-u
DESCRIPTION:
URL:https://klassikauto.pl/impreza/dni-kwidzyna-zlot-pojazdow-zabytkowych-i-z-prl-u/
LOCATION:Kwidzyń
CATEGORIES:Zlot
END:VEVENT
BEGIN:VEVENT
DTSTART;TZID=Europe/Helsinki:20190615T080000
DTEND;TZID=Europe/Helsinki:20190615T170000
DTSTAMP:20260424T161142
CREATED:20190513T173956Z
LAST-MODIFIED:20190513T173956Z
UID:66785-1560585600-1560618000@klassikauto.pl
SUMMARY:Sraz historických vozidel Litvínov
DESCRIPTION:
URL:https://klassikauto.pl/impreza/sraz-historickych-vozidel-litvinov/
LOCATION:Litvinov\, Czechy
CATEGORIES:Zlot
END:VEVENT
BEGIN:VEVENT
DTSTART;TZID=Europe/Helsinki:20190615T080000
DTEND;TZID=Europe/Helsinki:20190616T170000
DTSTAMP:20260424T161142
CREATED:20190615T070529Z
LAST-MODIFIED:20190615T070529Z
UID:67515-1560585600-1560704400@klassikauto.pl
SUMMARY:50 Rajd Festiwalowy\, Opole 2019
DESCRIPTION:
URL:https://klassikauto.pl/impreza/50-rajd-festiwalowy-opole-2019/
LOCATION:Opole
CATEGORIES:Rajd
END:VEVENT
BEGIN:VEVENT
DTSTART;TZID=Europe/Helsinki:20190615T080000
DTEND;TZID=Europe/Helsinki:20190616T170000
DTSTAMP:20260424T161142
CREATED:20190624T082536Z
LAST-MODIFIED:20190624T082536Z
UID:67740-1560585600-1560704400@klassikauto.pl
SUMMARY:VIII Parada MINI Rodziny #60 Years Challenge
DESCRIPTION:
URL:https://klassikauto.pl/impreza/viii-parada-mini-rodziny-60-years-challenge/
LOCATION:Gdynia
CATEGORIES:Zlot
END:VEVENT
BEGIN:VEVENT
DTSTART;TZID=Europe/Helsinki:20190615T090000
DTEND;TZID=Europe/Helsinki:20190615T160000
DTSTAMP:20260424T161142
CREATED:20190209T115652Z
LAST-MODIFIED:20190209T115652Z
UID:64891-1560589200-1560614400@klassikauto.pl
SUMMARY:X. Ogólnopolski Jubileuszowy Zlot Pojazdów Motolegendy PRL
DESCRIPTION:
URL:https://klassikauto.pl/impreza/x-ogolnopolski-jubileuszowy-zlot-pojazdow-motolegendy-prl/
LOCATION:Kraków
CATEGORIES:Zlot
END:VEVENT
BEGIN:VEVENT
DTSTART;TZID=Europe/Helsinki:20190615T110000
DTEND;TZID=Europe/Helsinki:20190615T200000
DTSTAMP:20260424T161142
CREATED:20190103T123912Z
LAST-MODIFIED:20190103T123912Z
UID:64171-1560596400-1560628800@klassikauto.pl
SUMMARY:Fajera 2019
DESCRIPTION:Impreza na lotnisku Katowice-Muchowiec. \nPokazy lotnicze połączone z wystawą zabytkowych samochodów.
URL:https://klassikauto.pl/impreza/fajera-2019/
LOCATION:Katowice
CATEGORIES:Wystawa,Zlot
END:VEVENT
BEGIN:VEVENT
DTSTART;TZID=Europe/Helsinki:20190615T120000
DTEND;TZID=Europe/Helsinki:20190615T230000
DTSTAMP:20260424T161142
CREATED:20190304T174037Z
LAST-MODIFIED:20190304T174037Z
UID:65621-1560600000-1560639600@klassikauto.pl
SUMMARY:Obchody 100-lecia Citroena na Pomorzu
DESCRIPTION:
URL:https://klassikauto.pl/impreza/obchody-100-lecia-citroena-na-pomorzu/
LOCATION:Rumia
CATEGORIES:Zlot
END:VEVENT
END:VCALENDAR
<!-- RunCloud Hub 2026-04-24 15:11:42 -->