BEGIN:VCALENDAR
VERSION:2.0
PRODID:-//KlassikAuto.pl - ECPv6.7.0//NONSGML v1.0//EN
CALSCALE:GREGORIAN
METHOD:PUBLISH
X-ORIGINAL-URL:https://klassikauto.pl
X-WR-CALDESC:Wydarzenia dla KlassikAuto.pl
REFRESH-INTERVAL;VALUE=DURATION:PT1H
X-Robots-Tag:noindex
X-PUBLISHED-TTL:PT1H
BEGIN:VTIMEZONE
TZID:Europe/Helsinki
BEGIN:DAYLIGHT
TZOFFSETFROM:+0200
TZOFFSETTO:+0300
TZNAME:EEST
DTSTART:20190331T010000
END:DAYLIGHT
BEGIN:STANDARD
TZOFFSETFROM:+0300
TZOFFSETTO:+0200
TZNAME:EET
DTSTART:20191027T010000
END:STANDARD
END:VTIMEZONE
BEGIN:VEVENT
DTSTART;TZID=Europe/Helsinki:20190501T080000
DTEND;TZID=Europe/Helsinki:20190630T170000
DTSTAMP:20260424T161142
CREATED:20181113T160759Z
LAST-MODIFIED:20181113T160759Z
UID:63205-1556697600-1561914000@klassikauto.pl
SUMMARY:In the spotlight: Bentley 100th Anniversary - wystawa
DESCRIPTION:
URL:https://klassikauto.pl/impreza/in-the-spotlight-bentley-100th-anniversary-wystawa/
LOCATION:Muzeum Autoworld\, Bruksela\, Belgia
CATEGORIES:Wystawa
END:VEVENT
BEGIN:VEVENT
DTSTART;TZID=Europe/Helsinki:20190529T080000
DTEND;TZID=Europe/Helsinki:20190602T170000
DTSTAMP:20260424T161142
CREATED:20190308T171416Z
LAST-MODIFIED:20190308T171416Z
UID:65689-1559116800-1559494800@klassikauto.pl
SUMMARY:50 years of Porsche 914 - międzynarodowy zlot
DESCRIPTION:
URL:https://klassikauto.pl/impreza/50-years-of-porsche-914-miedzynarodowy-zlot/
LOCATION:Wiesloch\, Niemcy
CATEGORIES:Zlot
END:VEVENT
BEGIN:VEVENT
DTSTART;TZID=Europe/Helsinki:20190530T080000
DTEND;TZID=Europe/Helsinki:20190602T170000
DTSTAMP:20260424T161142
CREATED:20190222T191739Z
LAST-MODIFIED:20190222T191739Z
UID:65421-1559203200-1559494800@klassikauto.pl
SUMMARY:48. Internationales Alt-Opel  Treffen - Görlitz/Zgorzelec 2019
DESCRIPTION:Görlitz/Zgorzelec 2019 – doroczny zlot klasyków z trzech Niemiec\,  Polski\, Czech
URL:https://klassikauto.pl/impreza/48-internationales-alt-opel-treffen-gorlitz-zgorzelec-2019/
LOCATION:Görlitz – Zgorzelec
CATEGORIES:Zlot
END:VEVENT
BEGIN:VEVENT
DTSTART;TZID=Europe/Helsinki:20190530T080000
DTEND;TZID=Europe/Helsinki:20190602T170000
DTSTAMP:20260424T161142
CREATED:20190312T181814Z
LAST-MODIFIED:20190312T181814Z
UID:65820-1559203200-1559494800@klassikauto.pl
SUMMARY:64. Internationale ASC Schnauferl-Rallye 2019
DESCRIPTION:
URL:https://klassikauto.pl/impreza/64-internationale-asc-schnauferl-rallye-2019/
LOCATION:Siegen\, Niemcy
CATEGORIES:Rajd
END:VEVENT
BEGIN:VEVENT
DTSTART;TZID=Europe/Helsinki:20190531T080000
DTEND;TZID=Europe/Helsinki:20190602T170000
DTSTAMP:20260424T161142
CREATED:20181113T165530Z
LAST-MODIFIED:20181113T165530Z
UID:63249-1559289600-1559494800@klassikauto.pl
SUMMARY:2 Małomiasteczkowy Zlot Fiata 126p I Oldtimerów
DESCRIPTION:
URL:https://klassikauto.pl/impreza/2-malomiasteczkowy-zlot-fiata-126p-i-oldtimerow/
LOCATION:Olza
CATEGORIES:Zlot
END:VEVENT
BEGIN:VEVENT
DTSTART;TZID=Europe/Helsinki:20190531T080000
DTEND;TZID=Europe/Helsinki:20190602T170000
DTSTAMP:20260424T161142
CREATED:20181113T165638Z
LAST-MODIFIED:20181113T165638Z
UID:63252-1559289600-1559494800@klassikauto.pl
SUMMARY:I Zlot Klasyki & Busiki
DESCRIPTION:
URL:https://klassikauto.pl/impreza/i-zlot-klasyki-busiki/
LOCATION:Zdwórz
CATEGORIES:Zlot
END:VEVENT
BEGIN:VEVENT
DTSTART;TZID=Europe/Helsinki:20190531T080000
DTEND;TZID=Europe/Helsinki:20190602T170000
DTSTAMP:20260424T161142
CREATED:20190125T193132Z
LAST-MODIFIED:20190125T193132Z
UID:64604-1559289600-1559494800@klassikauto.pl
SUMMARY:ClassicMania Trip edycja VII - Lwów - Leopolis Grand Prix
DESCRIPTION:
URL:https://klassikauto.pl/impreza/classicmania-trip-edycja-vii-lwow-leopolis-grand-prix/
LOCATION:Lwów\, Ukraina
CATEGORIES:Rajd
END:VEVENT
BEGIN:VEVENT
DTSTART;TZID=Europe/Helsinki:20190531T080000
DTEND;TZID=Europe/Helsinki:20190602T170000
DTSTAMP:20260424T161142
CREATED:20190217T104741Z
LAST-MODIFIED:20190217T104741Z
UID:65258-1559289600-1559494800@klassikauto.pl
SUMMARY:Rajd Pojazdów Zabytkowych „Podróż przez świat”
DESCRIPTION:
URL:https://klassikauto.pl/impreza/rajd-pojazdow-zabytkowych-podroz-przez-swiat/
LOCATION:Środa Wielkopolska
CATEGORIES:Rajd
END:VEVENT
BEGIN:VEVENT
DTSTART;TZID=Europe/Helsinki:20190531T080000
DTEND;TZID=Europe/Helsinki:20190602T170000
DTSTAMP:20260424T161142
CREATED:20190308T175957Z
LAST-MODIFIED:20190308T175957Z
UID:65692-1559289600-1559494800@klassikauto.pl
SUMMARY:Piknik z Bemowem
DESCRIPTION:
URL:https://klassikauto.pl/impreza/piknik-z-bemowem/
LOCATION:Warszawa
CATEGORIES:Rajd
END:VEVENT
BEGIN:VEVENT
DTSTART;TZID=Europe/Helsinki:20190531T080000
DTEND;TZID=Europe/Helsinki:20190602T170000
DTSTAMP:20260424T161142
CREATED:20190423T170127Z
LAST-MODIFIED:20190423T170127Z
UID:66459-1559289600-1559494800@klassikauto.pl
SUMMARY:XVI Mercedesem po Wiśle Classic Days
DESCRIPTION:
URL:https://klassikauto.pl/impreza/xvi-mercedesem-po-wisle-classic-days/
LOCATION:Płock
CATEGORIES:Zlot
END:VEVENT
BEGIN:VEVENT
DTSTART;TZID=Europe/Helsinki:20190531T150000
DTEND;TZID=Europe/Helsinki:20190602T120000
DTSTAMP:20260424T161142
CREATED:20190103T131311Z
LAST-MODIFIED:20190103T131311Z
UID:64208-1559314800-1559476800@klassikauto.pl
SUMMARY:Germanfest International Chotowa 2019
DESCRIPTION:
URL:https://klassikauto.pl/impreza/germanfest-international-chotowa-2019/
LOCATION:Tarnów
CATEGORIES:Zlot
END:VEVENT
BEGIN:VEVENT
DTSTART;TZID=Europe/Helsinki:20190601T080000
DTEND;TZID=Europe/Helsinki:20190602T170000
DTSTAMP:20260424T161142
CREATED:20181113T165844Z
LAST-MODIFIED:20181113T165844Z
UID:63255-1559376000-1559494800@klassikauto.pl
SUMMARY:Volkstreffen 7Th 2019
DESCRIPTION:
URL:https://klassikauto.pl/impreza/volkstreffen-7th-2019/
LOCATION:Warzenko
CATEGORIES:Zlot
END:VEVENT
BEGIN:VEVENT
DTSTART;TZID=Europe/Helsinki:20190601T080000
DTEND;TZID=Europe/Helsinki:20190604T170000
DTSTAMP:20260424T161142
CREATED:20190512T182214Z
LAST-MODIFIED:20190512T182214Z
UID:66737-1559376000-1559667600@klassikauto.pl
SUMMARY:II Ogólnopolski Zlot Pojazdów Zabytkowych
DESCRIPTION:
URL:https://klassikauto.pl/impreza/ii-ogolnopolski-zlot-pojazdow-zabytkowych/
LOCATION:Kock
CATEGORIES:Zlot
END:VEVENT
BEGIN:VEVENT
DTSTART;TZID=Europe/Helsinki:20190601T120000
DTEND;TZID=Europe/Helsinki:20190602T053000
DTSTAMP:20260424T161142
CREATED:20190125T193339Z
LAST-MODIFIED:20190125T193339Z
UID:64606-1559390400-1559453400@klassikauto.pl
SUMMARY:Klasyczny biwak w Stegnie
DESCRIPTION:
URL:https://klassikauto.pl/impreza/klasyczny-biwak-w-stegnie/
LOCATION:Stegna
CATEGORIES:Zlot
END:VEVENT
BEGIN:VEVENT
DTSTART;TZID=Europe/Helsinki:20190602T080000
DTEND;TZID=Europe/Helsinki:20190602T170000
DTSTAMP:20260424T161142
CREATED:20181225T105048Z
LAST-MODIFIED:20181225T105142Z
UID:63908-1559462400-1559494800@klassikauto.pl
SUMMARY:Oldtimerbazar
DESCRIPTION:
URL:https://klassikauto.pl/impreza/oldtimerbazar-13/
LOCATION:Sosnowiec
CATEGORIES:Aukcja
END:VEVENT
BEGIN:VEVENT
DTSTART;TZID=Europe/Helsinki:20190602T080000
DTEND;TZID=Europe/Helsinki:20190602T170000
DTSTAMP:20260424T161142
CREATED:20190217T104941Z
LAST-MODIFIED:20190217T105029Z
UID:65261-1559462400-1559494800@klassikauto.pl
SUMMARY:II Zlot Pojazdów Zabytkowych „Rummeliada 2019”
DESCRIPTION:
URL:https://klassikauto.pl/impreza/i-zlot-pojazdow-zabytkowych-rummeliada-2019/
LOCATION:Miastko
CATEGORIES:Zlot
END:VEVENT
BEGIN:VEVENT
DTSTART;TZID=Europe/Helsinki:20190602T080000
DTEND;TZID=Europe/Helsinki:20190602T170000
DTSTAMP:20260424T161142
CREATED:20190520T190444Z
LAST-MODIFIED:20190520T190444Z
UID:66943-1559462400-1559494800@klassikauto.pl
SUMMARY:Moto Weteran 2
DESCRIPTION:
URL:https://klassikauto.pl/impreza/moto-weteran-2/
LOCATION:Radomsko
CATEGORIES:Zlot
END:VEVENT
BEGIN:VEVENT
DTSTART;TZID=Europe/Helsinki:20190602T090000
DTEND;TZID=Europe/Helsinki:20190602T130000
DTSTAMP:20260424T161142
CREATED:20190512T181136Z
LAST-MODIFIED:20190512T181136Z
UID:66729-1559466000-1559480400@klassikauto.pl
SUMMARY:Klasyczna Niedziela - Dzień Dziecka 2019
DESCRIPTION:
URL:https://klassikauto.pl/impreza/klasyczna-niedziela-dzien-dziecka-2019/
LOCATION:Będzin
CATEGORIES:Zlot
END:VEVENT
BEGIN:VEVENT
DTSTART;TZID=Europe/Helsinki:20190602T100000
DTEND;TZID=Europe/Helsinki:20190602T190000
DTSTAMP:20260424T161142
CREATED:20190209T132752Z
LAST-MODIFIED:20190209T132752Z
UID:64947-1559469600-1559502000@klassikauto.pl
SUMMARY:Auto Moto Show Skaryszew
DESCRIPTION:
URL:https://klassikauto.pl/impreza/auto-moto-show-skaryszew-2/
LOCATION:Skaryszew
CATEGORIES:Zlot
END:VEVENT
END:VCALENDAR
<!-- RunCloud Hub 2026-04-24 15:11:42 -->