BEGIN:VCALENDAR
VERSION:2.0
PRODID:-//KlassikAuto.pl - ECPv6.7.0//NONSGML v1.0//EN
CALSCALE:GREGORIAN
METHOD:PUBLISH
X-ORIGINAL-URL:https://klassikauto.pl
X-WR-CALDESC:Wydarzenia dla KlassikAuto.pl
REFRESH-INTERVAL;VALUE=DURATION:PT1H
X-Robots-Tag:noindex
X-PUBLISHED-TTL:PT1H
BEGIN:VTIMEZONE
TZID:Europe/Helsinki
BEGIN:DAYLIGHT
TZOFFSETFROM:+0200
TZOFFSETTO:+0300
TZNAME:EEST
DTSTART:20190331T010000
END:DAYLIGHT
BEGIN:STANDARD
TZOFFSETFROM:+0300
TZOFFSETTO:+0200
TZNAME:EET
DTSTART:20191027T010000
END:STANDARD
END:VTIMEZONE
BEGIN:VEVENT
DTSTART;TZID=Europe/Helsinki:20190501T080000
DTEND;TZID=Europe/Helsinki:20190630T170000
DTSTAMP:20260424T190143
CREATED:20181113T160759Z
LAST-MODIFIED:20181113T160759Z
UID:63205-1556697600-1561914000@klassikauto.pl
SUMMARY:In the spotlight: Bentley 100th Anniversary - wystawa
DESCRIPTION:
URL:https://klassikauto.pl/impreza/in-the-spotlight-bentley-100th-anniversary-wystawa/
LOCATION:Muzeum Autoworld\, Bruksela\, Belgia
CATEGORIES:Wystawa
END:VEVENT
BEGIN:VEVENT
DTSTART;TZID=Europe/Helsinki:20190518T110000
DTEND;TZID=Europe/Helsinki:20190524T220000
DTSTAMP:20260424T190143
CREATED:20181113T163840Z
LAST-MODIFIED:20181113T163840Z
UID:63238-1558177200-1558735200@klassikauto.pl
SUMMARY:VI ClassicMania Night - Nocny Zlot Pojazdów Zabytkowych
DESCRIPTION:
URL:https://klassikauto.pl/impreza/vi-classicmania-night-nocny-zlot-pojazdow-zabytkowych/
LOCATION:Sosnowiec
CATEGORIES:Rajd,Zlot
END:VEVENT
BEGIN:VEVENT
DTSTART;TZID=Europe/Helsinki:20190521T080000
DTEND;TZID=Europe/Helsinki:20190526T170000
DTSTAMP:20260424T190143
CREATED:20190209T125916Z
LAST-MODIFIED:20190209T125916Z
UID:64936-1558425600-1558890000@klassikauto.pl
SUMMARY:XI Międzynarodowy Zlot VW Scirocco
DESCRIPTION:
URL:https://klassikauto.pl/impreza/xi-miedzynarodowy-zlot-vw-scirocco/
LOCATION:Międzybrodzie Bialskie
CATEGORIES:Zlot
END:VEVENT
BEGIN:VEVENT
DTSTART;TZID=Europe/Helsinki:20190523T080000
DTEND;TZID=Europe/Helsinki:20190526T170000
DTSTAMP:20260424T190143
CREATED:20181113T162127Z
LAST-MODIFIED:20181113T162127Z
UID:63222-1558598400-1558890000@klassikauto.pl
SUMMARY:77th Grand Prix de Monaco F1
DESCRIPTION:
URL:https://klassikauto.pl/impreza/77th-grand-prix-de-monaco-f1/
LOCATION:Monte Carlo\, Monaco
CATEGORIES:Rajd
END:VEVENT
BEGIN:VEVENT
DTSTART;TZID=Europe/Helsinki:20190523T160000
DTEND;TZID=Europe/Helsinki:20190526T080000
DTSTAMP:20260424T190143
CREATED:20190125T183157Z
LAST-MODIFIED:20190125T183157Z
UID:64559-1558627200-1558857600@klassikauto.pl
SUMMARY:VII Tarnowski Rajd Pojazdów Zabytkowych - II Runda Mistrzostw Polski Pojazdów Zabytkowych
DESCRIPTION:
URL:https://klassikauto.pl/impreza/vii-tarnowski-rajd-pojazdow-zabytkowych-ii-runda-mistrzostw-polski-pojazdow-zabytkowych/
LOCATION:Tarnów
CATEGORIES:Rajd
END:VEVENT
BEGIN:VEVENT
DTSTART;TZID=Europe/Helsinki:20190523T160000
DTEND;TZID=Europe/Helsinki:20190526T140000
DTSTAMP:20260424T190143
CREATED:20190209T130440Z
LAST-MODIFIED:20190209T130440Z
UID:64939-1558627200-1558879200@klassikauto.pl
SUMMARY:OWLA 7 - Polish Opel Event
DESCRIPTION:
URL:https://klassikauto.pl/impreza/owla-7-polish-opel-event/
LOCATION:Żerków\, wielkopolskie
CATEGORIES:Zlot
END:VEVENT
BEGIN:VEVENT
DTSTART;TZID=Europe/Helsinki:20190524T080000
DTEND;TZID=Europe/Helsinki:20190525T170000
DTSTAMP:20260424T190143
CREATED:20190103T141556Z
LAST-MODIFIED:20190103T142637Z
UID:64231-1558684800-1558803600@klassikauto.pl
SUMMARY:Paul Pietsch Classic 2019
DESCRIPTION:
URL:https://klassikauto.pl/impreza/paul-pietsch-classic-2019/
LOCATION:Offenburg\, Niemcy
CATEGORIES:Rajd
END:VEVENT
BEGIN:VEVENT
DTSTART;TZID=Europe/Helsinki:20190524T080000
DTEND;TZID=Europe/Helsinki:20190526T170000
DTSTAMP:20260424T190143
CREATED:20181225T194846Z
LAST-MODIFIED:20181225T194846Z
UID:64056-1558684800-1558890000@klassikauto.pl
SUMMARY:Concorso d’Eleganza Villa d’Estate
DESCRIPTION:
URL:https://klassikauto.pl/impreza/concorso-deleganza-villa-destate-2/
LOCATION:Como\, Włochy
CATEGORIES:Wystawa
END:VEVENT
BEGIN:VEVENT
DTSTART;TZID=Europe/Helsinki:20190524T080000
DTEND;TZID=Europe/Helsinki:20190526T170000
DTSTAMP:20260424T190143
CREATED:20190103T154050Z
LAST-MODIFIED:20190103T154120Z
UID:64281-1558684800-1558890000@klassikauto.pl
SUMMARY:Nürburgring Classic
DESCRIPTION:
URL:https://klassikauto.pl/impreza/historic-trophy-nuerburgring-2/
LOCATION:Nuerburgring\, Niemcy
CATEGORIES:Rajd
END:VEVENT
BEGIN:VEVENT
DTSTART;TZID=Europe/Helsinki:20190524T080000
DTEND;TZID=Europe/Helsinki:20190526T170000
DTSTAMP:20260424T190143
CREATED:20190125T192918Z
LAST-MODIFIED:20190125T192918Z
UID:64602-1558684800-1558890000@klassikauto.pl
SUMMARY:Jubileuszowy XVIII Zlot Miłośników Volkswagena Garbusa & CO
DESCRIPTION:
URL:https://klassikauto.pl/impreza/jubileuszowy-xviii-zlot-milosnikow-volkswagena-garbusa-co/
LOCATION:Lisie Kąty
CATEGORIES:Zlot
END:VEVENT
BEGIN:VEVENT
DTSTART;TZID=Europe/Helsinki:20190524T080000
DTEND;TZID=Europe/Helsinki:20190526T170000
DTSTAMP:20260424T190143
CREATED:20190209T161158Z
LAST-MODIFIED:20190209T161158Z
UID:65045-1558684800-1558890000@klassikauto.pl
SUMMARY:7. jarní Wartburg sraz Seč 2019
DESCRIPTION:Spotkanie dla sympatyków takich samochodów jak: Wartburg\,  Ifa\, Barkas\, Framo či DKW \nOrganizator: Wartburg Veterán Klub ČR\, z.s.
URL:https://klassikauto.pl/impreza/7-jarni-wartburg-sraz-sec-2019/
LOCATION:Czechy
CATEGORIES:Zlot
END:VEVENT
BEGIN:VEVENT
DTSTART;TZID=Europe/Helsinki:20190524T080000
DTEND;TZID=Europe/Helsinki:20190526T170000
DTSTAMP:20260424T190143
CREATED:20190217T091306Z
LAST-MODIFIED:20190217T091306Z
UID:65193-1558684800-1558890000@klassikauto.pl
SUMMARY:4 Śląski Zlot Syren
DESCRIPTION:
URL:https://klassikauto.pl/impreza/4-slaski-zlot-syren/
LOCATION:Ustroń
CATEGORIES:Zlot
END:VEVENT
BEGIN:VEVENT
DTSTART;TZID=Europe/Helsinki:20190524T080000
DTEND;TZID=Europe/Helsinki:20190526T170000
DTSTAMP:20260424T190143
CREATED:20190217T104044Z
LAST-MODIFIED:20190217T104044Z
UID:65250-1558684800-1558890000@klassikauto.pl
SUMMARY:Międzynarodowy Festiwal Samochodów Zabytkowych „Złoty cień Królewca”
DESCRIPTION:
URL:https://klassikauto.pl/impreza/miedzynarodowy-festiwal-samochodow-zabytkowych-zloty-cien-krolewca/
LOCATION:Kaliningrad\, Rosja
CATEGORIES:Zlot
END:VEVENT
BEGIN:VEVENT
DTSTART;TZID=Europe/Helsinki:20190524T080000
DTEND;TZID=Europe/Helsinki:20190526T170000
DTSTAMP:20260424T190143
CREATED:20190217T104248Z
LAST-MODIFIED:20190217T104248Z
UID:65253-1558684800-1558890000@klassikauto.pl
SUMMARY:VII Obornicki Zlot Fiata 126
DESCRIPTION:
URL:https://klassikauto.pl/impreza/vii-obornicki-zlot-fiata-126/
LOCATION:Oborniki Śląskie
CATEGORIES:Zlot
END:VEVENT
BEGIN:VEVENT
DTSTART;TZID=Europe/Helsinki:20190524T150000
DTEND;TZID=Europe/Helsinki:20190526T133000
DTSTAMP:20260424T190143
CREATED:20190209T130838Z
LAST-MODIFIED:20190209T130838Z
UID:64941-1558710000-1558877400@klassikauto.pl
SUMMARY:I Turystyczny Rajd MINI
DESCRIPTION:
URL:https://klassikauto.pl/impreza/i-turystyczny-rajd-mini/
LOCATION:Częstochowa
CATEGORIES:Rajd
END:VEVENT
END:VCALENDAR
<!-- RunCloud Hub 2026-04-24 18:01:43 -->