BEGIN:VCALENDAR
VERSION:2.0
PRODID:-//KlassikAuto.pl - ECPv6.7.0//NONSGML v1.0//EN
CALSCALE:GREGORIAN
METHOD:PUBLISH
X-WR-CALNAME:KlassikAuto.pl
X-ORIGINAL-URL:https://klassikauto.pl
X-WR-CALDESC:Wydarzenia dla KlassikAuto.pl
REFRESH-INTERVAL;VALUE=DURATION:PT1H
X-Robots-Tag:noindex
X-PUBLISHED-TTL:PT1H
BEGIN:VTIMEZONE
TZID:Europe/Helsinki
BEGIN:DAYLIGHT
TZOFFSETFROM:+0200
TZOFFSETTO:+0300
TZNAME:EEST
DTSTART:20190331T010000
END:DAYLIGHT
BEGIN:STANDARD
TZOFFSETFROM:+0300
TZOFFSETTO:+0200
TZNAME:EET
DTSTART:20191027T010000
END:STANDARD
END:VTIMEZONE
BEGIN:VEVENT
DTSTART;TZID=Europe/Helsinki:20190301T080000
DTEND;TZID=Europe/Helsinki:20190430T170000
DTSTAMP:20260424T204033
CREATED:20181113T160032Z
LAST-MODIFIED:20181113T160032Z
UID:63200-1551427200-1556643600@klassikauto.pl
SUMMARY:In the spotlight: MINI 50th anniversary - wystawa
DESCRIPTION:
URL:https://klassikauto.pl/impreza/in-the-spotlight-mini-50th-anniversary-wystawa/
LOCATION:Muzeum Autoworld\, Bruksela\, Belgia
CATEGORIES:Wystawa
END:VEVENT
BEGIN:VEVENT
DTSTART;TZID=Europe/Helsinki:20190410T080000
DTEND;TZID=Europe/Helsinki:20190414T170000
DTSTAMP:20260424T204033
CREATED:20181225T112041Z
LAST-MODIFIED:20181225T112041Z
UID:63929-1554883200-1555261200@klassikauto.pl
SUMMARY:Techno Classica\, Essen 2019
DESCRIPTION:
URL:https://klassikauto.pl/impreza/techno-classica-essen-2019/
LOCATION:Essen\, Niemcy
CATEGORIES:Aukcja,Targi
END:VEVENT
BEGIN:VEVENT
DTSTART;TZID=Europe/Helsinki:20190412T080000
DTEND;TZID=Europe/Helsinki:20190414T170000
DTSTAMP:20260424T204033
CREATED:20181225T175729Z
LAST-MODIFIED:20181225T175833Z
UID:64011-1555056000-1555261200@klassikauto.pl
SUMMARY:VI Zdrowotel Rajd motocykli zabytkowych i zaprzęgów
DESCRIPTION:
URL:https://klassikauto.pl/impreza/vii-zdrowotel-rajd-motocykli-zabytkowych-i-zaprzegow/
LOCATION:Łeba
CATEGORIES:Rajd
END:VEVENT
BEGIN:VEVENT
DTSTART;TZID=Europe/Helsinki:20190412T080000
DTEND;TZID=Europe/Helsinki:20190414T170000
DTSTAMP:20260424T204033
CREATED:20190209T144640Z
LAST-MODIFIED:20190209T144640Z
UID:64982-1555056000-1555261200@klassikauto.pl
SUMMARY:66. Ralley Sanremo 2019
DESCRIPTION:
URL:https://klassikauto.pl/impreza/66-ralley-sanremo-2019/
LOCATION:Sanremo
CATEGORIES:Rajd
END:VEVENT
BEGIN:VEVENT
DTSTART;TZID=Europe/Helsinki:20190412T080000
DTEND;TZID=Europe/Helsinki:20190414T170000
DTSTAMP:20260424T204033
CREATED:20190308T170506Z
LAST-MODIFIED:20190308T170506Z
UID:65683-1555056000-1555261200@klassikauto.pl
SUMMARY:11 Ogólnopolski Zlot Mustangów
DESCRIPTION:
URL:https://klassikauto.pl/impreza/11-ogolnopolski-zlot-mustangow/
LOCATION:Bełchatów
CATEGORIES:Zlot
END:VEVENT
BEGIN:VEVENT
DTSTART;TZID=Europe/Helsinki:20190413T080000
DTEND;TZID=Europe/Helsinki:20190414T170000
DTSTAMP:20260424T204033
CREATED:20190209T145320Z
LAST-MODIFIED:20190209T145320Z
UID:64985-1555142400-1555261200@klassikauto.pl
SUMMARY:VII Rajd Autosana
DESCRIPTION:
URL:https://klassikauto.pl/impreza/vii-rajd-autosana/
LOCATION:Trójmiasto
END:VEVENT
BEGIN:VEVENT
DTSTART;TZID=Europe/Helsinki:20190414T080000
DTEND;TZID=Europe/Helsinki:20190414T170000
DTSTAMP:20260424T204033
CREATED:20190125T192025Z
LAST-MODIFIED:20190125T192025Z
UID:64593-1555228800-1555261200@klassikauto.pl
SUMMARY:V Bunkrowe Spotkanie Miłośników Pojazdów Zabytkowych w Wałczu
DESCRIPTION:
URL:https://klassikauto.pl/impreza/v-bunkrowe-spotkanie-milosnikow-pojazdow-zabytkowych-w-walczu/
LOCATION:Wałcz
CATEGORIES:Zlot
END:VEVENT
BEGIN:VEVENT
DTSTART;TZID=Europe/Helsinki:20190414T080000
DTEND;TZID=Europe/Helsinki:20190414T170000
DTSTAMP:20260424T204033
CREATED:20190209T154558Z
LAST-MODIFIED:20190209T154558Z
UID:65015-1555228800-1555261200@klassikauto.pl
SUMMARY:Auto-moto-burza Valy
DESCRIPTION:
URL:https://klassikauto.pl/impreza/auto-moto-burza-valy-2/
LOCATION:Valy\, Czechy
CATEGORIES:Aukcja
END:VEVENT
BEGIN:VEVENT
DTSTART;TZID=Europe/Helsinki:20190414T080000
DTEND;TZID=Europe/Helsinki:20190414T170000
DTSTAMP:20260424T204033
CREATED:20190222T192020Z
LAST-MODIFIED:20190222T192020Z
UID:65424-1555228800-1555261200@klassikauto.pl
SUMMARY:Internationales Opel-Treffen 2019 in Dronten
DESCRIPTION:Zlot klasyków w Holandii
URL:https://klassikauto.pl/impreza/internationales-opel-treffen-2019-in-dronten/
LOCATION:Dronten\, Holandia
CATEGORIES:Zlot
END:VEVENT
BEGIN:VEVENT
DTSTART;TZID=Europe/Helsinki:20190414T080000
DTEND;TZID=Europe/Helsinki:20190414T170000
DTSTAMP:20260424T204033
CREATED:20190423T154904Z
LAST-MODIFIED:20190423T154904Z
UID:66422-1555228800-1555261200@klassikauto.pl
SUMMARY:Beskidzki Spot Klasyków
DESCRIPTION:
URL:https://klassikauto.pl/impreza/beskidzki-spot-klasykow/
LOCATION:Bielsko-Biała
CATEGORIES:Zlot
END:VEVENT
BEGIN:VEVENT
DTSTART;TZID=Europe/Helsinki:20190414T090000
DTEND;TZID=Europe/Helsinki:20190414T180000
DTSTAMP:20260424T204033
CREATED:20190217T093209Z
LAST-MODIFIED:20190217T093209Z
UID:65206-1555232400-1555264800@klassikauto.pl
SUMMARY:Rozpoczęcie Sezonu Cyklicznych Spotkań YW
DESCRIPTION:
URL:https://klassikauto.pl/impreza/rozpoczecie-sezonu-cyklicznych-spotkan-yw/
LOCATION:Warszawa
CATEGORIES:Zlot
END:VEVENT
END:VCALENDAR
<!-- RunCloud Hub 2026-04-24 19:40:33 -->