BEGIN:VCALENDAR
VERSION:2.0
PRODID:-//KlassikAuto.pl - ECPv6.7.0//NONSGML v1.0//EN
CALSCALE:GREGORIAN
METHOD:PUBLISH
X-ORIGINAL-URL:https://klassikauto.pl
X-WR-CALDESC:Wydarzenia dla KlassikAuto.pl
REFRESH-INTERVAL;VALUE=DURATION:PT1H
X-Robots-Tag:noindex
X-PUBLISHED-TTL:PT1H
BEGIN:VTIMEZONE
TZID:Europe/Helsinki
BEGIN:DAYLIGHT
TZOFFSETFROM:+0200
TZOFFSETTO:+0300
TZNAME:EEST
DTSTART:20190331T010000
END:DAYLIGHT
BEGIN:STANDARD
TZOFFSETFROM:+0300
TZOFFSETTO:+0200
TZNAME:EET
DTSTART:20191027T010000
END:STANDARD
END:VTIMEZONE
BEGIN:VEVENT
DTSTART;TZID=Europe/Helsinki:20190301T080000
DTEND;TZID=Europe/Helsinki:20190430T170000
DTSTAMP:20260424T222215
CREATED:20181113T160032Z
LAST-MODIFIED:20181113T160032Z
UID:63200-1551427200-1556643600@klassikauto.pl
SUMMARY:In the spotlight: MINI 50th anniversary - wystawa
DESCRIPTION:
URL:https://klassikauto.pl/impreza/in-the-spotlight-mini-50th-anniversary-wystawa/
LOCATION:Muzeum Autoworld\, Bruksela\, Belgia
CATEGORIES:Wystawa
END:VEVENT
BEGIN:VEVENT
DTSTART;TZID=Europe/Helsinki:20190307T080000
DTEND;TZID=Europe/Helsinki:20190310T170000
DTSTAMP:20260424T222215
CREATED:20181113T172856Z
LAST-MODIFIED:20190103T164828Z
UID:63278-1551945600-1552237200@klassikauto.pl
SUMMARY:Retro Classics\, Stuttgart 2019
DESCRIPTION:
URL:https://klassikauto.pl/impreza/retro-classics-stuttgart-2019/
LOCATION:Stuttgart\, Niemcy
CATEGORIES:Targi
END:VEVENT
BEGIN:VEVENT
DTSTART;TZID=Europe/Helsinki:20190309T080000
DTEND;TZID=Europe/Helsinki:20190310T170000
DTSTAMP:20260424T222215
CREATED:20181113T174710Z
LAST-MODIFIED:20181113T174710Z
UID:63286-1552118400-1552237200@klassikauto.pl
SUMMARY:Auto Moto Classic
DESCRIPTION:
URL:https://klassikauto.pl/impreza/auto-moto-classic-2/
LOCATION:Ostróda
CATEGORIES:Targi
END:VEVENT
BEGIN:VEVENT
DTSTART;TZID=Europe/Helsinki:20190310T080000
DTEND;TZID=Europe/Helsinki:20190310T170000
DTSTAMP:20260424T222215
CREATED:20181225T104804Z
LAST-MODIFIED:20181225T105012Z
UID:63904-1552204800-1552237200@klassikauto.pl
SUMMARY:Oldtimerbazar
DESCRIPTION:
URL:https://klassikauto.pl/impreza/oldtimerbazar-11/
LOCATION:Wrocław\, Wrocław\, Poland
CATEGORIES:Aukcja
END:VEVENT
BEGIN:VEVENT
DTSTART;TZID=Europe/Helsinki:20190310T080000
DTEND;TZID=Europe/Helsinki:20190310T170000
DTSTAMP:20260424T222215
CREATED:20181225T172453Z
LAST-MODIFIED:20181225T172453Z
UID:63995-1552204800-1552237200@klassikauto.pl
SUMMARY:II Rajd na żółtych papierach
DESCRIPTION:
URL:https://klassikauto.pl/impreza/ii-rajd-na-zoltych-papierach/
LOCATION:Warszawa
CATEGORIES:Rajd
END:VEVENT
BEGIN:VEVENT
DTSTART;TZID=Europe/Helsinki:20190310T080000
DTEND;TZID=Europe/Helsinki:20190310T170000
DTSTAMP:20260424T222215
CREATED:20190103T140419Z
LAST-MODIFIED:20190103T140419Z
UID:64219-1552204800-1552237200@klassikauto.pl
SUMMARY:Impreza Tylko dla Kobiet
DESCRIPTION:
URL:https://klassikauto.pl/impreza/impreza-tylko-dla-kobiet-2/
LOCATION:Stalowa Wola\, Poland
CATEGORIES:Zlot
END:VEVENT
BEGIN:VEVENT
DTSTART;TZID=Europe/Helsinki:20190310T080000
DTEND;TZID=Europe/Helsinki:20190310T170000
DTSTAMP:20260424T222215
CREATED:20190103T151949Z
LAST-MODIFIED:20190103T151949Z
UID:64251-1552204800-1552237200@klassikauto.pl
SUMMARY:ADAC Rallye Kempenich
DESCRIPTION:Youngtimer Rallye Trophy
URL:https://klassikauto.pl/impreza/adac-rallye-kempenich/
LOCATION:Niemcy
CATEGORIES:Rajd
END:VEVENT
BEGIN:VEVENT
DTSTART;TZID=Europe/Helsinki:20190310T080000
DTEND;TZID=Europe/Helsinki:20190310T170000
DTSTAMP:20260424T222215
CREATED:20190209T152425Z
LAST-MODIFIED:20190209T152425Z
UID:64998-1552204800-1552237200@klassikauto.pl
SUMMARY:Auto-moto-burza Valy
DESCRIPTION:
URL:https://klassikauto.pl/impreza/auto-moto-burza-valy/
LOCATION:Valy\, Czechy
CATEGORIES:Aukcja
END:VEVENT
BEGIN:VEVENT
DTSTART;TZID=Europe/Helsinki:20190310T100000
DTEND;TZID=Europe/Helsinki:20190310T140000
DTSTAMP:20260424T222215
CREATED:20190103T120627Z
LAST-MODIFIED:20190103T120627Z
UID:64147-1552212000-1552226400@klassikauto.pl
SUMMARY:Ogólnopolska Giełda Modeli Samochodów im. Sławoja Gwiazdowskiego
DESCRIPTION:
URL:https://klassikauto.pl/impreza/ogolnopolska-gielda-modeli-samochodow-im-slawoja-gwiazdowskiego/
LOCATION:Warszawa
CATEGORIES:Aukcja
END:VEVENT
END:VCALENDAR
<!-- RunCloud Hub 2026-04-24 21:22:15 -->