BEGIN:VCALENDAR
VERSION:2.0
PRODID:-//KlassikAuto.pl - ECPv6.7.0//NONSGML v1.0//EN
CALSCALE:GREGORIAN
METHOD:PUBLISH
X-WR-CALNAME:KlassikAuto.pl
X-ORIGINAL-URL:https://klassikauto.pl
X-WR-CALDESC:Wydarzenia dla KlassikAuto.pl
REFRESH-INTERVAL;VALUE=DURATION:PT1H
X-Robots-Tag:noindex
X-PUBLISHED-TTL:PT1H
BEGIN:VTIMEZONE
TZID:Europe/Helsinki
BEGIN:DAYLIGHT
TZOFFSETFROM:+0200
TZOFFSETTO:+0300
TZNAME:EEST
DTSTART:20190331T010000
END:DAYLIGHT
BEGIN:STANDARD
TZOFFSETFROM:+0300
TZOFFSETTO:+0200
TZNAME:EET
DTSTART:20191027T010000
END:STANDARD
END:VTIMEZONE
BEGIN:VEVENT
DTSTART;TZID=Europe/Helsinki:20190130T080000
DTEND;TZID=Europe/Helsinki:20190202T170000
DTSTAMP:20260424T235806
CREATED:20181113T162006Z
LAST-MODIFIED:20181113T162006Z
UID:63220-1548835200-1549126800@klassikauto.pl
SUMMARY:3rd Rallye Monte-Carlo Classique
DESCRIPTION:
URL:https://klassikauto.pl/impreza/3rd-rallye-monte-carlo-classique/
LOCATION:Monte Carlo\, Monaco
CATEGORIES:Rajd
END:VEVENT
BEGIN:VEVENT
DTSTART;TZID=Europe/Helsinki:20190130T080000
DTEND;TZID=Europe/Helsinki:20190206T170000
DTSTAMP:20260424T235806
CREATED:20181113T161854Z
LAST-MODIFIED:20181113T161854Z
UID:63218-1548835200-1549472400@klassikauto.pl
SUMMARY:22nd Rallye Monte-Carlo Historique
DESCRIPTION:
URL:https://klassikauto.pl/impreza/22nd-rallye-monte-carlo-historique/
LOCATION:Monte Carlo\, Monaco
CATEGORIES:Rajd
END:VEVENT
BEGIN:VEVENT
DTSTART;TZID=Europe/Helsinki:20190201T080000
DTEND;TZID=Europe/Helsinki:20190228T170000
DTSTAMP:20260424T235806
CREATED:20181113T155745Z
LAST-MODIFIED:20181113T160059Z
UID:63196-1549008000-1551373200@klassikauto.pl
SUMMARY:In the spotlight: 50 Years Buggy\, A Belgian Story - wystawa
DESCRIPTION:
URL:https://klassikauto.pl/impreza/in-the-spotlight-50-years-buggy-a-belgian-story-wystawa/
LOCATION:Muzeum Autoworld\, Bruksela\, Belgia
CATEGORIES:Wystawa
END:VEVENT
BEGIN:VEVENT
DTSTART;TZID=Europe/Helsinki:20190201T090000
DTEND;TZID=Europe/Helsinki:20190203T160000
DTSTAMP:20260424T235806
CREATED:20181113T154901Z
LAST-MODIFIED:20181113T160517Z
UID:63189-1549011600-1549209600@klassikauto.pl
SUMMARY:Bremen Classic Motorshow 2019
DESCRIPTION:
URL:https://klassikauto.pl/impreza/bremen-classic-motorshow-2019/
LOCATION:Bremen\, Niemcy
CATEGORIES:Targi,Wystawa
END:VEVENT
BEGIN:VEVENT
DTSTART;TZID=Europe/Helsinki:20190201T120000
DTEND;TZID=Europe/Helsinki:20190203T120000
DTSTAMP:20260424T235806
CREATED:20190103T121237Z
LAST-MODIFIED:20190103T121237Z
UID:64151-1549022400-1549195200@klassikauto.pl
SUMMARY:VIII Zimowy Zlot Borne Sulinowo 2019
DESCRIPTION:
URL:https://klassikauto.pl/impreza/viii-zimowy-zlot-borne-sulinowo-2019/
LOCATION:Borne Sulinowo
CATEGORIES:Zlot
END:VEVENT
END:VCALENDAR
<!-- RunCloud Hub 2026-04-24 22:58:06 -->