BEGIN:VCALENDAR
VERSION:2.0
PRODID:-//KlassikAuto.pl - ECPv6.7.0//NONSGML v1.0//EN
CALSCALE:GREGORIAN
METHOD:PUBLISH
X-ORIGINAL-URL:https://klassikauto.pl
X-WR-CALDESC:Wydarzenia dla KlassikAuto.pl
REFRESH-INTERVAL;VALUE=DURATION:PT1H
X-Robots-Tag:noindex
X-PUBLISHED-TTL:PT1H
BEGIN:VTIMEZONE
TZID:Europe/Helsinki
BEGIN:DAYLIGHT
TZOFFSETFROM:+0200
TZOFFSETTO:+0300
TZNAME:EEST
DTSTART:20180325T010000
END:DAYLIGHT
BEGIN:STANDARD
TZOFFSETFROM:+0300
TZOFFSETTO:+0200
TZNAME:EET
DTSTART:20181028T010000
END:STANDARD
BEGIN:DAYLIGHT
TZOFFSETFROM:+0200
TZOFFSETTO:+0300
TZNAME:EEST
DTSTART:20190331T010000
END:DAYLIGHT
BEGIN:STANDARD
TZOFFSETFROM:+0300
TZOFFSETTO:+0200
TZNAME:EET
DTSTART:20191027T010000
END:STANDARD
END:VTIMEZONE
BEGIN:VEVENT
DTSTART;TZID=Europe/Helsinki:20181201T080000
DTEND;TZID=Europe/Helsinki:20181209T170000
DTSTAMP:20260425T040545
CREATED:20180308T140126Z
LAST-MODIFIED:20180415T103955Z
UID:56809-1543651200-1544374800@klassikauto.pl
SUMMARY:Essen Motor Show
DESCRIPTION:
URL:https://klassikauto.pl/impreza/essen-motor-show/
LOCATION:Essen\, Niemcy
END:VEVENT
BEGIN:VEVENT
DTSTART;VALUE=DATE:20181207
DTEND;VALUE=DATE:20181210
DTSTAMP:20260425T040545
CREATED:20180308T140327Z
LAST-MODIFIED:20180308T140327Z
UID:56818-1544140800-1544399999@klassikauto.pl
SUMMARY:Retro Classics Bavaria
DESCRIPTION:
URL:https://klassikauto.pl/impreza/retro-classics-bavaria/
END:VEVENT
BEGIN:VEVENT
DTSTART;VALUE=DATE:20181208
DTEND;VALUE=DATE:20181209
DTSTAMP:20260425T040545
CREATED:20180308T140217Z
LAST-MODIFIED:20180308T140217Z
UID:56813-1544227200-1544313599@klassikauto.pl
SUMMARY:II Last Minute Santa
DESCRIPTION:
URL:https://klassikauto.pl/impreza/ii-last-minute-santa/
LOCATION:Trójmiasto
END:VEVENT
BEGIN:VEVENT
DTSTART;VALUE=DATE:20181208
DTEND;VALUE=DATE:20190122
DTSTAMP:20260425T040545
CREATED:20180308T140427Z
LAST-MODIFIED:20180308T140513Z
UID:56820-1544227200-1548115199@klassikauto.pl
SUMMARY:wystawa – Porsche 70th Anniversary
DESCRIPTION:
URL:https://klassikauto.pl/impreza/wystawa-porsche-70th-anniversary/
LOCATION:Museum Autoworld\, Bruksela\, Belgia
END:VEVENT
END:VCALENDAR
<!-- RunCloud Hub 2026-04-25 03:05:45 -->