BEGIN:VCALENDAR
VERSION:2.0
PRODID:-//KlassikAuto.pl - ECPv6.7.0//NONSGML v1.0//EN
CALSCALE:GREGORIAN
METHOD:PUBLISH
X-ORIGINAL-URL:https://klassikauto.pl
X-WR-CALDESC:Wydarzenia dla KlassikAuto.pl
REFRESH-INTERVAL;VALUE=DURATION:PT1H
X-Robots-Tag:noindex
X-PUBLISHED-TTL:PT1H
BEGIN:VTIMEZONE
TZID:Europe/Helsinki
BEGIN:DAYLIGHT
TZOFFSETFROM:+0200
TZOFFSETTO:+0300
TZNAME:EEST
DTSTART:20180325T010000
END:DAYLIGHT
BEGIN:STANDARD
TZOFFSETFROM:+0300
TZOFFSETTO:+0200
TZNAME:EET
DTSTART:20181028T010000
END:STANDARD
END:VTIMEZONE
BEGIN:VEVENT
DTSTART;VALUE=DATE:20181006
DTEND;VALUE=DATE:20181105
DTSTAMP:20260425T065511
CREATED:20180308T135304Z
LAST-MODIFIED:20180308T135304Z
UID:56786-1538784000-1541375999@klassikauto.pl
SUMMARY:Wystawa – BMW M1 40th Anniversary
DESCRIPTION:
URL:https://klassikauto.pl/impreza/wystawa-bmw-m1-40th-anniversary/
LOCATION:Museum Autoworld\, Bruksela\, Belgia
END:VEVENT
BEGIN:VEVENT
DTSTART;VALUE=DATE:20181102
DTEND;VALUE=DATE:20181103
DTSTAMP:20260425T065511
CREATED:20180308T135722Z
LAST-MODIFIED:20180309T182758Z
UID:56798-1541116800-1541203199@klassikauto.pl
SUMMARY:Aukcja\, London to Brighton Run Sale\, Veteran Motor Cars and Related Automobilia
DESCRIPTION:
URL:https://klassikauto.pl/impreza/aukcja-london-to-brighton-run-sale-veteran-motor-cars-and-related-automobilia/
LOCATION:Londyn\, Wielka Brytania
CATEGORIES:Aukcja
END:VEVENT
END:VCALENDAR
<!-- RunCloud Hub 2026-04-25 05:55:11 -->