BEGIN:VCALENDAR
VERSION:2.0
PRODID:-//KlassikAuto.pl - ECPv6.7.0//NONSGML v1.0//EN
CALSCALE:GREGORIAN
METHOD:PUBLISH
X-ORIGINAL-URL:https://klassikauto.pl
X-WR-CALDESC:Wydarzenia dla KlassikAuto.pl
REFRESH-INTERVAL;VALUE=DURATION:PT1H
X-Robots-Tag:noindex
X-PUBLISHED-TTL:PT1H
BEGIN:VTIMEZONE
TZID:Europe/Helsinki
BEGIN:DAYLIGHT
TZOFFSETFROM:+0200
TZOFFSETTO:+0300
TZNAME:EEST
DTSTART:20180325T010000
END:DAYLIGHT
BEGIN:STANDARD
TZOFFSETFROM:+0300
TZOFFSETTO:+0200
TZNAME:EET
DTSTART:20181028T010000
END:STANDARD
END:VTIMEZONE
BEGIN:VEVENT
DTSTART;TZID=Europe/Helsinki:20180707T080000
DTEND;TZID=Europe/Helsinki:20180902T170000
DTSTAMP:20260425T140755
CREATED:20180308T104344Z
LAST-MODIFIED:20180308T110940Z
UID:56602-1530950400-1535907600@klassikauto.pl
SUMMARY:Wystawa – Renault 120th Anniversary\, Muzeum Autoworld
DESCRIPTION:
URL:https://klassikauto.pl/impreza/wystawa-renault-120th-anniversary-muzeum-autoworld/
LOCATION:Muzeum Autoworld\, Bruksela\, Belgia
END:VEVENT
BEGIN:VEVENT
DTSTART;VALUE=DATE:20180823
DTEND;VALUE=DATE:20180826
DTSTAMP:20260425T140755
CREATED:20180308T112649Z
LAST-MODIFIED:20180308T112649Z
UID:56693-1534982400-1535241599@klassikauto.pl
SUMMARY:Sachsen Classic
DESCRIPTION:
URL:https://klassikauto.pl/impreza/sachsen-classic/
LOCATION:Zwickau-Dresden
END:VEVENT
BEGIN:VEVENT
DTSTART;TZID=Europe/Helsinki:20180824T120000
DTEND;TZID=Europe/Helsinki:20180826T200000
DTSTAMP:20260425T140755
CREATED:20180715T092727Z
LAST-MODIFIED:20180715T092727Z
UID:61159-1535112000-1535313600@klassikauto.pl
SUMMARY:7 Spęęd Wypasionych Garbusów
DESCRIPTION:
URL:https://klassikauto.pl/impreza/7-speed-wypasionych-garbusow/
LOCATION:Folusz
END:VEVENT
BEGIN:VEVENT
DTSTART;VALUE=DATE:20180825
DTEND;VALUE=DATE:20180826
DTSTAMP:20260425T140755
CREATED:20180308T112818Z
LAST-MODIFIED:20180308T112818Z
UID:56699-1535155200-1535241599@klassikauto.pl
SUMMARY:VIII Niżański Zlot Pojazdów Zabytkowych oraz Rajd Nawigacyjny dla członków Automobilklubu Stalowa Wola
DESCRIPTION:
URL:https://klassikauto.pl/impreza/viii-nizanski-zlot-pojazdow-zabytkowych-oraz-rajd-nawigacyjny-dla-czlonkow-automobilklubu-stalowa-wola/
END:VEVENT
BEGIN:VEVENT
DTSTART;VALUE=DATE:20180825
DTEND;VALUE=DATE:20180826
DTSTAMP:20260425T140755
CREATED:20180308T112916Z
LAST-MODIFIED:20180308T112916Z
UID:56701-1535155200-1535241599@klassikauto.pl
SUMMARY:Classic Moto Show VI
DESCRIPTION:
URL:https://klassikauto.pl/impreza/classic-moto-show-vi/
LOCATION:Łaskarzew
END:VEVENT
BEGIN:VEVENT
DTSTART;VALUE=DATE:20180825
DTEND;VALUE=DATE:20180827
DTSTAMP:20260425T140755
CREATED:20180308T113010Z
LAST-MODIFIED:20180308T113010Z
UID:56704-1535155200-1535327999@klassikauto.pl
SUMMARY:III Rajd i Zlot Pojazdów Zabytkowych
DESCRIPTION:
URL:https://klassikauto.pl/impreza/iii-rajd-i-zlot-pojazdow-zabytkowych/
LOCATION:Chojnów
END:VEVENT
BEGIN:VEVENT
DTSTART;VALUE=DATE:20180825
DTEND;VALUE=DATE:20180827
DTSTAMP:20260425T140755
CREATED:20180308T113110Z
LAST-MODIFIED:20180308T113110Z
UID:56706-1535155200-1535327999@klassikauto.pl
SUMMARY:9. Mercedes-Treffen Schöne Sterne 2018
DESCRIPTION:
URL:https://klassikauto.pl/impreza/9-mercedes-treffen-schone-sterne-2018/
LOCATION:Hattingen\, Niemcy
END:VEVENT
BEGIN:VEVENT
DTSTART;TZID=Europe/Helsinki:20180825T100000
DTEND;TZID=Europe/Helsinki:20180825T210000
DTSTAMP:20260425T140755
CREATED:20180715T083316Z
LAST-MODIFIED:20180715T083316Z
UID:61110-1535191200-1535230800@klassikauto.pl
SUMMARY:Low&Classy
DESCRIPTION:Spotkanie samochodów tuningowych i klasyków wszystkich marek
URL:https://klassikauto.pl/impreza/lowclassy/
LOCATION:Biskupice Oławskie
END:VEVENT
BEGIN:VEVENT
DTSTART;TZID=Europe/Helsinki:20180825T163000
DTEND;TZID=Europe/Helsinki:20180825T220000
DTSTAMP:20260425T140755
CREATED:20180715T083019Z
LAST-MODIFIED:20180715T083019Z
UID:61108-1535214600-1535234400@klassikauto.pl
SUMMARY:Zabrzańskie Klasyki Nocą 8
DESCRIPTION:
URL:https://klassikauto.pl/impreza/zabrzanskie-klasyki-noca-8/
LOCATION:Zabrze
END:VEVENT
END:VCALENDAR
<!-- RunCloud Hub 2026-04-25 13:07:55 -->